BEGIN:VCALENDAR
VERSION:2.0
PRODID:-//Home Care &amp; Hospice Resource - Healthcare Provider Solutions - ECPv6.15.18//NONSGML v1.0//EN
CALSCALE:GREGORIAN
METHOD:PUBLISH
X-WR-CALNAME:Home Care &amp; Hospice Resource - Healthcare Provider Solutions
X-ORIGINAL-URL:https://healthcareprovidersolutions.com
X-WR-CALDESC:Events for Home Care &amp; Hospice Resource - Healthcare Provider Solutions
REFRESH-INTERVAL;VALUE=DURATION:PT1H
X-Robots-Tag:noindex
X-PUBLISHED-TTL:PT1H
BEGIN:VTIMEZONE
TZID:America/Chicago
BEGIN:DAYLIGHT
TZOFFSETFROM:-0600
TZOFFSETTO:-0500
TZNAME:CDT
DTSTART:20220313T080000
END:DAYLIGHT
BEGIN:STANDARD
TZOFFSETFROM:-0500
TZOFFSETTO:-0600
TZNAME:CST
DTSTART:20221106T070000
END:STANDARD
BEGIN:DAYLIGHT
TZOFFSETFROM:-0600
TZOFFSETTO:-0500
TZNAME:CDT
DTSTART:20230312T080000
END:DAYLIGHT
BEGIN:STANDARD
TZOFFSETFROM:-0500
TZOFFSETTO:-0600
TZNAME:CST
DTSTART:20231105T070000
END:STANDARD
BEGIN:DAYLIGHT
TZOFFSETFROM:-0600
TZOFFSETTO:-0500
TZNAME:CDT
DTSTART:20240310T080000
END:DAYLIGHT
BEGIN:STANDARD
TZOFFSETFROM:-0500
TZOFFSETTO:-0600
TZNAME:CST
DTSTART:20241103T070000
END:STANDARD
BEGIN:DAYLIGHT
TZOFFSETFROM:-0600
TZOFFSETTO:-0500
TZNAME:CDT
DTSTART:20250309T080000
END:DAYLIGHT
BEGIN:STANDARD
TZOFFSETFROM:-0500
TZOFFSETTO:-0600
TZNAME:CST
DTSTART:20251102T070000
END:STANDARD
END:VTIMEZONE
BEGIN:VTIMEZONE
TZID:America/Los_Angeles
BEGIN:DAYLIGHT
TZOFFSETFROM:-0800
TZOFFSETTO:-0700
TZNAME:PDT
DTSTART:20220313T100000
END:DAYLIGHT
BEGIN:STANDARD
TZOFFSETFROM:-0700
TZOFFSETTO:-0800
TZNAME:PST
DTSTART:20221106T090000
END:STANDARD
BEGIN:DAYLIGHT
TZOFFSETFROM:-0800
TZOFFSETTO:-0700
TZNAME:PDT
DTSTART:20230312T100000
END:DAYLIGHT
BEGIN:STANDARD
TZOFFSETFROM:-0700
TZOFFSETTO:-0800
TZNAME:PST
DTSTART:20231105T090000
END:STANDARD
BEGIN:DAYLIGHT
TZOFFSETFROM:-0800
TZOFFSETTO:-0700
TZNAME:PDT
DTSTART:20240310T100000
END:DAYLIGHT
BEGIN:STANDARD
TZOFFSETFROM:-0700
TZOFFSETTO:-0800
TZNAME:PST
DTSTART:20241103T090000
END:STANDARD
END:VTIMEZONE
BEGIN:VTIMEZONE
TZID:America/Indiana/Indianapolis
BEGIN:DAYLIGHT
TZOFFSETFROM:-0500
TZOFFSETTO:-0400
TZNAME:EDT
DTSTART:20220313T070000
END:DAYLIGHT
BEGIN:STANDARD
TZOFFSETFROM:-0400
TZOFFSETTO:-0500
TZNAME:EST
DTSTART:20221106T060000
END:STANDARD
BEGIN:DAYLIGHT
TZOFFSETFROM:-0500
TZOFFSETTO:-0400
TZNAME:EDT
DTSTART:20230312T070000
END:DAYLIGHT
BEGIN:STANDARD
TZOFFSETFROM:-0400
TZOFFSETTO:-0500
TZNAME:EST
DTSTART:20231105T060000
END:STANDARD
BEGIN:DAYLIGHT
TZOFFSETFROM:-0500
TZOFFSETTO:-0400
TZNAME:EDT
DTSTART:20240310T070000
END:DAYLIGHT
BEGIN:STANDARD
TZOFFSETFROM:-0400
TZOFFSETTO:-0500
TZNAME:EST
DTSTART:20241103T060000
END:STANDARD
END:VTIMEZONE
BEGIN:VEVENT
DTSTART;TZID=America/Chicago:20240625T120000
DTEND;TZID=America/Chicago:20240625T133000
DTSTAMP:20260422T231700
CREATED:20231205T173919Z
LAST-MODIFIED:20240425T172709Z
UID:10000616-1719316800-1719322200@healthcareprovidersolutions.com
SUMMARY:The Home Health Face-to-Face:  The Documentation We Get is NEVER that Good
DESCRIPTION:
URL:https://healthcareprovidersolutions.com/event/the-home-health-face-to-face-the-documentation-we-get-is-never-that-good/
LOCATION:Webinar
CATEGORIES:Home Care,Speaking Engagement
ATTACH;FMTTYPE=image/png:https://healthcareprovidersolutions.com/wp-content/uploads/Home-Health.png
END:VEVENT
BEGIN:VEVENT
DTSTART;VALUE=DATE:20240618
DTEND;VALUE=DATE:20240620
DTSTAMP:20260422T231700
CREATED:20231227T161608Z
LAST-MODIFIED:20250402T190717Z
UID:10000646-1718668800-1718841599@healthcareprovidersolutions.com
SUMMARY:2024 HPS Alliance Hospice Workshop
DESCRIPTION:
URL:https://healthcareprovidersolutions.com/event/2024-hps-alliance-hospice-workshop/
LOCATION:Healthcare Provider Solutions\, 402 BNA Drive\, Nashville\, TN\, 37214\, United States
CATEGORIES:Hospice,Speaking Engagement
ATTACH;FMTTYPE=image/png:https://healthcareprovidersolutions.com/wp-content/uploads/HPS-Hospice.png
GEO:36.1377765;-86.6986497
X-APPLE-STRUCTURED-LOCATION;VALUE=URI;X-ADDRESS=Healthcare Provider Solutions 402 BNA Drive Nashville TN 37214 United States;X-APPLE-RADIUS=500;X-TITLE=402 BNA Drive:geo:-86.6986497,36.1377765
END:VEVENT
BEGIN:VEVENT
DTSTART;TZID=America/Chicago:20240509T120000
DTEND;TZID=America/Chicago:20240509T133000
DTSTAMP:20260422T231700
CREATED:20231205T172305Z
LAST-MODIFIED:20240429T164319Z
UID:10000615-1715256000-1715261400@healthcareprovidersolutions.com
SUMMARY:Home Health & Hospice QAPI:  Digging in the Data
DESCRIPTION:
URL:https://healthcareprovidersolutions.com/event/hh-hospice-qapi-digging-in-the-data/
LOCATION:Webinar
CATEGORIES:Home Care,Hospice,Speaking Engagement
ATTACH;FMTTYPE=image/png:https://healthcareprovidersolutions.com/wp-content/uploads/Home-Health.png
END:VEVENT
BEGIN:VEVENT
DTSTART;TZID=America/Chicago:20231219T100000
DTEND;TZID=America/Chicago:20231219T110000
DTSTAMP:20260422T231700
CREATED:20230327T163853Z
LAST-MODIFIED:20231204T195928Z
UID:10000551-1702980000-1702983600@healthcareprovidersolutions.com
SUMMARY:HCLA/HCAF Webinar Home Health Revenue Cycle Series - How Value-Based Purchasing May Impact Future Payments
DESCRIPTION:
URL:https://healthcareprovidersolutions.com/event/hcla-hcaf-webinar-home-health-revenue-cycle-series-9/
LOCATION:Webinar
CATEGORIES:Speaking Engagement
ATTACH;FMTTYPE=image/jpeg:https://healthcareprovidersolutions.com/wp-content/uploads/HCLA.jpg
END:VEVENT
BEGIN:VEVENT
DTSTART;TZID=America/Los_Angeles:20231213T100000
DTEND;TZID=America/Los_Angeles:20231213T113000
DTSTAMP:20260422T231700
CREATED:20230927T140049Z
LAST-MODIFIED:20231012T165834Z
UID:10000600-1702461600-1702467000@healthcareprovidersolutions.com
SUMMARY:CAHSAH Home Health Webinar Series Part 3 - Home Health Final Rule 2024 Update
DESCRIPTION:
URL:https://healthcareprovidersolutions.com/event/cahsah-home-health-webinar-series-part-3-home-health-final-rule-2024-update/
LOCATION:Webinar
CATEGORIES:Home Care,Speaking Engagement
ATTACH;FMTTYPE=image/png:https://healthcareprovidersolutions.com/wp-content/uploads/CAHSAH-2.png
END:VEVENT
BEGIN:VEVENT
DTSTART;TZID=America/Los_Angeles:20231206T100000
DTEND;TZID=America/Los_Angeles:20231206T113000
DTSTAMP:20260422T231700
CREATED:20230927T135155Z
LAST-MODIFIED:20231012T164927Z
UID:10000597-1701856800-1701862200@healthcareprovidersolutions.com
SUMMARY:CAHSAH Hospice Webinar Series Part 3 - Hospice PEPPER Reports
DESCRIPTION:
URL:https://healthcareprovidersolutions.com/event/cahsah-hospice-webinar-series-part-3-hospice-pepper-reports/
LOCATION:Webinar
CATEGORIES:Hospice,Speaking Engagement
ATTACH;FMTTYPE=image/png:https://healthcareprovidersolutions.com/wp-content/uploads/CAHSAH-2.png
END:VEVENT
BEGIN:VEVENT
DTSTART;TZID=America/Chicago:20231205T140000
DTEND;TZID=America/Chicago:20231205T153000
DTSTAMP:20260422T231700
CREATED:20231012T151631Z
LAST-MODIFIED:20231012T151631Z
UID:10000606-1701784800-1701790200@healthcareprovidersolutions.com
SUMMARY:Hospice and Home Care Webinar Network - Hospice Medical Review in a Medicare-Certified World
DESCRIPTION:
URL:https://healthcareprovidersolutions.com/event/hospice-and-home-care-webinar-network-hospice-medical-review-in-a-medicare-certified-world/
LOCATION:Webinar
CATEGORIES:Hospice,Speaking Engagement
ATTACH;FMTTYPE=image/png:https://healthcareprovidersolutions.com/wp-content/uploads/HHWN.png
END:VEVENT
BEGIN:VEVENT
DTSTART;TZID=America/Indiana/Indianapolis:20231128T113000
DTEND;TZID=America/Indiana/Indianapolis:20231128T130000
DTSTAMP:20260422T231700
CREATED:20231012T140203Z
LAST-MODIFIED:20231121T212134Z
UID:10000605-1701171000-1701176400@healthcareprovidersolutions.com
SUMMARY:OCHCH Home Health Final Rule
DESCRIPTION:
URL:https://healthcareprovidersolutions.com/event/ochch-home-health-final-rule/
LOCATION:Webinar
CATEGORIES:Home Care,Speaking Engagement
ATTACH;FMTTYPE=image/png:https://healthcareprovidersolutions.com/wp-content/uploads/OCHCH-1.png
END:VEVENT
BEGIN:VEVENT
DTSTART;TZID=America/Chicago:20231121T120000
DTEND;TZID=America/Chicago:20231121T130000
DTSTAMP:20260422T231700
CREATED:20230327T163735Z
LAST-MODIFIED:20231012T163845Z
UID:10000474-1700568000-1700571600@healthcareprovidersolutions.com
SUMMARY:HCLA/HCAF Webinar Home Health Revenue Cycle Series - Home Health Final Rule Review
DESCRIPTION:
URL:https://healthcareprovidersolutions.com/event/hcla-hcaf-webinar-home-health-revenue-cycle-series-8/
LOCATION:Webinar
CATEGORIES:Speaking Engagement
ATTACH;FMTTYPE=image/jpeg:https://healthcareprovidersolutions.com/wp-content/uploads/HCLA.jpg
END:VEVENT
BEGIN:VEVENT
DTSTART;TZID=America/Indiana/Indianapolis:20231121T113000
DTEND;TZID=America/Indiana/Indianapolis:20231121T130000
DTSTAMP:20260422T231700
CREATED:20230908T210324Z
LAST-MODIFIED:20231113T214258Z
UID:10000590-1700566200-1700571600@healthcareprovidersolutions.com
SUMMARY:OCHCH Hospice Billing Series Part 3
DESCRIPTION:
URL:https://healthcareprovidersolutions.com/event/2023-ochch-hospice-billing-series-part-3/
LOCATION:Webinar
CATEGORIES:Speaking Engagement
ATTACH;FMTTYPE=image/png:https://healthcareprovidersolutions.com/wp-content/uploads/OCHCH-1.png
END:VEVENT
BEGIN:VEVENT
DTSTART;TZID=America/Indiana/Indianapolis:20231120T113000
DTEND;TZID=America/Indiana/Indianapolis:20231120T130000
DTSTAMP:20260422T231700
CREATED:20230908T205902Z
LAST-MODIFIED:20231113T214045Z
UID:10000589-1700479800-1700485200@healthcareprovidersolutions.com
SUMMARY:OCHCH Hospice Billing Series Part 2
DESCRIPTION:
URL:https://healthcareprovidersolutions.com/event/2023-ochch-hospice-billing-series-part-2/
LOCATION:Webinar
CATEGORIES:Speaking Engagement
ATTACH;FMTTYPE=image/png:https://healthcareprovidersolutions.com/wp-content/uploads/OCHCH-1.png
END:VEVENT
BEGIN:VEVENT
DTSTART;TZID=America/Los_Angeles:20231115T100000
DTEND;TZID=America/Los_Angeles:20231115T110000
DTSTAMP:20260422T231700
CREATED:20231012T135834Z
LAST-MODIFIED:20231012T152602Z
UID:10000604-1700042400-1700046000@healthcareprovidersolutions.com
SUMMARY:CAHSAH Infection Prevention and Control Private Duty Webinar
DESCRIPTION:
URL:https://healthcareprovidersolutions.com/event/cahsah-infection-prevention-and-control-private-duty-webinar/
LOCATION:Webinar
CATEGORIES:Home Care,Speaking Engagement
ATTACH;FMTTYPE=image/png:https://healthcareprovidersolutions.com/wp-content/uploads/CAHSAH-2.png
END:VEVENT
BEGIN:VEVENT
DTSTART;TZID=America/Chicago:20231114T140000
DTEND;TZID=America/Chicago:20231114T153000
DTSTAMP:20260422T231700
CREATED:20231012T134955Z
LAST-MODIFIED:20231012T134955Z
UID:10000603-1699970400-1699975800@healthcareprovidersolutions.com
SUMMARY:Hospice and Home Care Webinar Network - Hospice Eligibility Documentation: Fulfilling the CoPs & Payment Requirements
DESCRIPTION:
URL:https://healthcareprovidersolutions.com/event/hospice-and-home-care-webinar-network-hospice-eligibility-documentation-fulfilling-the-cops-payment-requirements/
LOCATION:Webinar
CATEGORIES:Hospice,Speaking Engagement
ATTACH;FMTTYPE=image/png:https://healthcareprovidersolutions.com/wp-content/uploads/HHWN.png
END:VEVENT
BEGIN:VEVENT
DTSTART;TZID=America/Los_Angeles:20231101T100000
DTEND;TZID=America/Los_Angeles:20231101T113000
DTSTAMP:20260422T231700
CREATED:20230927T135830Z
LAST-MODIFIED:20230927T135830Z
UID:10000599-1698832800-1698838200@healthcareprovidersolutions.com
SUMMARY:CAHSAH Home Health Webinar Series Part 2 - Building a Successful QAPI Program
DESCRIPTION:
URL:https://healthcareprovidersolutions.com/event/cahsah-home-health-webinar-series-part-2-building-a-successful-qapi-program/
LOCATION:Webinar
CATEGORIES:Home Care,Speaking Engagement
ATTACH;FMTTYPE=image/png:https://healthcareprovidersolutions.com/wp-content/uploads/CAHSAH-2.png
END:VEVENT
BEGIN:VEVENT
DTSTART;TZID=America/Indiana/Indianapolis:20231031T113000
DTEND;TZID=America/Indiana/Indianapolis:20231031T130000
DTSTAMP:20260422T231700
CREATED:20230908T205736Z
LAST-MODIFIED:20231005T181211Z
UID:10000588-1698751800-1698757200@healthcareprovidersolutions.com
SUMMARY:OCHCH Hospice Billing Series Part 1
DESCRIPTION:
URL:https://healthcareprovidersolutions.com/event/2023-ochch-hospice-billing-series-part-1/
LOCATION:Webinar
CATEGORIES:Speaking Engagement
ATTACH;FMTTYPE=image/png:https://healthcareprovidersolutions.com/wp-content/uploads/OCHCH-1.png
END:VEVENT
BEGIN:VEVENT
DTSTART;TZID=America/Chicago:20231025T110000
DTEND;TZID=America/Chicago:20231025T120000
DTSTAMP:20260422T231700
CREATED:20230913T152512Z
LAST-MODIFIED:20230913T152512Z
UID:10000593-1698231600-1698235200@healthcareprovidersolutions.com
SUMMARY:NAHHH Value-Based Purchasing: Clinical Impact
DESCRIPTION:
URL:https://healthcareprovidersolutions.com/event/nahhh-value-based-purchasing-clinical-impact/
LOCATION:Webinar
CATEGORIES:Speaking Engagement
ATTACH;FMTTYPE=image/jpeg:https://healthcareprovidersolutions.com/wp-content/uploads/NAHHH.jpg
END:VEVENT
BEGIN:VEVENT
DTSTART;TZID=America/Los_Angeles:20231025T100000
DTEND;TZID=America/Los_Angeles:20231025T113000
DTSTAMP:20260422T231700
CREATED:20230927T134956Z
LAST-MODIFIED:20230927T134956Z
UID:10000596-1698228000-1698233400@healthcareprovidersolutions.com
SUMMARY:CAHSAH Hospice Webinar Series Part 2 - Building a Successful QAPI Program
DESCRIPTION:
URL:https://healthcareprovidersolutions.com/event/cahsah-hospice-webinar-series-part-2-building-a-successful-qapi-program/
LOCATION:Webinar
CATEGORIES:Hospice,Speaking Engagement
ATTACH;FMTTYPE=image/png:https://healthcareprovidersolutions.com/wp-content/uploads/CAHSAH-2.png
END:VEVENT
BEGIN:VEVENT
DTSTART;TZID=America/Los_Angeles:20231018T100000
DTEND;TZID=America/Los_Angeles:20231018T113000
DTSTAMP:20260422T231700
CREATED:20230927T135654Z
LAST-MODIFIED:20230927T135654Z
UID:10000598-1697623200-1697628600@healthcareprovidersolutions.com
SUMMARY:CAHSAH Home Health Webinar Series Part 1 - Home Health PEPPER Reports
DESCRIPTION:
URL:https://healthcareprovidersolutions.com/event/cahsah-home-health-webinar-series-part-1-home-health-pepper-reports/
LOCATION:Webinar
CATEGORIES:Home Care,Speaking Engagement
ATTACH;FMTTYPE=image/png:https://healthcareprovidersolutions.com/wp-content/uploads/CAHSAH-2.png
END:VEVENT
BEGIN:VEVENT
DTSTART;TZID=America/Los_Angeles:20231012T100000
DTEND;TZID=America/Los_Angeles:20231012T113000
DTSTAMP:20260422T231700
CREATED:20230927T133724Z
LAST-MODIFIED:20231005T180757Z
UID:10000595-1697104800-1697110200@healthcareprovidersolutions.com
SUMMARY:CAHSAH Hospice Webinar Series Part 1 - Hospice Final Rule & Regulatory Update for 2024
DESCRIPTION:
URL:https://healthcareprovidersolutions.com/event/cahsah-hospice-webinar-series-part-1-hospice-final-rule-regulatory-update-for-2024/
LOCATION:Webinar
CATEGORIES:Hospice,Speaking Engagement
ATTACH;FMTTYPE=image/png:https://healthcareprovidersolutions.com/wp-content/uploads/CAHSAH-2.png
END:VEVENT
BEGIN:VEVENT
DTSTART;TZID=America/Chicago:20231011T124500
DTEND;TZID=America/Chicago:20231011T160000
DTSTAMP:20260422T231700
CREATED:20230920T145556Z
LAST-MODIFIED:20230920T145556Z
UID:10000594-1697028300-1697040000@healthcareprovidersolutions.com
SUMMARY:TAHCH 2023 Fall Conference
DESCRIPTION:
URL:https://healthcareprovidersolutions.com/event/tahch-2023-fall-conference/
LOCATION:Webinar
CATEGORIES:Speaking Engagement,Conference
ATTACH;FMTTYPE=image/png:https://healthcareprovidersolutions.com/wp-content/uploads/TAHCH-Event-Thumbnail.png
END:VEVENT
BEGIN:VEVENT
DTSTART;TZID=America/Chicago:20231010T140000
DTEND;TZID=America/Chicago:20231010T153000
DTSTAMP:20260422T231700
CREATED:20230906T150420Z
LAST-MODIFIED:20230906T150420Z
UID:10000582-1696946400-1696951800@healthcareprovidersolutions.com
SUMMARY:Hospice and Home Care Webinar Network Top Survey Deficiencies in Hospice & How to Avoid Them
DESCRIPTION:
URL:https://healthcareprovidersolutions.com/event/hospice-and-home-care-webinar-network-top-survey-deficiencies-in-hospice-how-to-avoid-them/
LOCATION:Webinar
CATEGORIES:Hospice,Speaking Engagement
ATTACH;FMTTYPE=image/png:https://healthcareprovidersolutions.com/wp-content/uploads/HHWN.png
END:VEVENT
BEGIN:VEVENT
DTSTART;TZID=America/Chicago:20231003T120000
DTEND;TZID=America/Chicago:20231003T130000
DTSTAMP:20260422T231700
CREATED:20230327T163445Z
LAST-MODIFIED:20230327T163445Z
UID:10000472-1696334400-1696338000@healthcareprovidersolutions.com
SUMMARY:HCLA/HCAF Webinar Home Health Revenue Cycle Series - Key Elements for Successful Payment with Medicare Advantage
DESCRIPTION:
URL:https://healthcareprovidersolutions.com/event/hcla-hcaf-webinar-home-health-revenue-cycle-series-7/
LOCATION:Webinar
CATEGORIES:Speaking Engagement
ATTACH;FMTTYPE=image/jpeg:https://healthcareprovidersolutions.com/wp-content/uploads/HCLA.jpg
END:VEVENT
BEGIN:VEVENT
DTSTART;TZID=America/Chicago:20230926T140000
DTEND;TZID=America/Chicago:20230926T153000
DTSTAMP:20260422T231700
CREATED:20230531T141157Z
LAST-MODIFIED:20230922T173300Z
UID:10000560-1695736800-1695742200@healthcareprovidersolutions.com
SUMMARY:Hospice & Home Care Webinar Network - Hospice Billing Part 3: Face-to-Face\, Hospice Cap\, Physician Billing & PEPPER
DESCRIPTION:
URL:https://healthcareprovidersolutions.com/event/hospice-home-care-webinar-network-hospice-billing-part-3-face-to-face-hospice-cap-physician-billing-pepper/
LOCATION:Webinar
CATEGORIES:Speaking Engagement
ATTACH;FMTTYPE=image/png:https://healthcareprovidersolutions.com/wp-content/uploads/Essential-Education-Webinar-Network.png
END:VEVENT
BEGIN:VEVENT
DTSTART;TZID=America/Chicago:20230918T140000
DTEND;TZID=America/Chicago:20230918T153000
DTSTAMP:20260422T231700
CREATED:20230531T135443Z
LAST-MODIFIED:20230908T171250Z
UID:10000565-1695045600-1695051000@healthcareprovidersolutions.com
SUMMARY:Hospice & Home Care Webinar Network - 2023 Hospice Billing Series: Part 2: Details of Medicare Claims Processing
DESCRIPTION:
URL:https://healthcareprovidersolutions.com/event/hospice-home-care-webinar-network-2023-hospice-billing-series-part-2-details-of-medicare-claims-processing/
LOCATION:Webinar
CATEGORIES:Speaking Engagement
ATTACH;FMTTYPE=image/png:https://healthcareprovidersolutions.com/wp-content/uploads/Essential-Education-Webinar-Network.png
END:VEVENT
BEGIN:VEVENT
DTSTART;TZID=America/Chicago:20230912T100000
DTEND;TZID=America/Chicago:20230912T110000
DTSTAMP:20260422T231700
CREATED:20230327T163145Z
LAST-MODIFIED:20230908T171546Z
UID:10000470-1694512800-1694516400@healthcareprovidersolutions.com
SUMMARY:HCLA/HCAF Webinar Home Health Revenue Cycle Series - PEPPER – The Direct Impact of Billing on PEPPER Data
DESCRIPTION:
URL:https://healthcareprovidersolutions.com/event/hcla-hcaf-webinar-home-health-revenue-cycle-series-6/
LOCATION:Webinar
CATEGORIES:Speaking Engagement
ATTACH;FMTTYPE=image/jpeg:https://healthcareprovidersolutions.com/wp-content/uploads/HCLA.jpg
END:VEVENT
BEGIN:VEVENT
DTSTART;TZID=America/Indiana/Indianapolis:20230824T113000
DTEND;TZID=America/Indiana/Indianapolis:20230824T130000
DTSTAMP:20260422T231700
CREATED:20230705T151531Z
LAST-MODIFIED:20230705T151531Z
UID:10000569-1692876600-1692882000@healthcareprovidersolutions.com
SUMMARY:OCHCH Home Health Pepper & Medicare Medical Review
DESCRIPTION:
URL:https://healthcareprovidersolutions.com/event/ochch-home-health-pepper-medicare-medical-review-2/
LOCATION:Webinar
CATEGORIES:Home Care,Speaking Engagement
ATTACH;FMTTYPE=image/png:https://healthcareprovidersolutions.com/wp-content/uploads/OCHCH-1.png
END:VEVENT
BEGIN:VEVENT
DTSTART;TZID=America/Chicago:20230822T140000
DTEND;TZID=America/Chicago:20230822T153000
DTSTAMP:20260422T231700
CREATED:20230530T170045Z
LAST-MODIFIED:20230530T170145Z
UID:10000561-1692712800-1692718200@healthcareprovidersolutions.com
SUMMARY:Hospice & Home Care Webinar Network - Hospice 2024 Final Payment Rule & Quality Update
DESCRIPTION:
URL:https://healthcareprovidersolutions.com/event/home-care-hospice-webinar-network-hospice-2024-final-payment-rule-quality-update/
LOCATION:Webinar
CATEGORIES:Speaking Engagement
ATTACH;FMTTYPE=image/png:https://healthcareprovidersolutions.com/wp-content/uploads/Essential-Education-Webinar-Network.png
END:VEVENT
BEGIN:VEVENT
DTSTART;TZID=America/Indiana/Indianapolis:20230822T113000
DTEND;TZID=America/Indiana/Indianapolis:20230822T130000
DTSTAMP:20260422T231700
CREATED:20230705T144117Z
LAST-MODIFIED:20230724T150735Z
UID:10000567-1692703800-1692709200@healthcareprovidersolutions.com
SUMMARY:OCHCH Hospice Final Rule
DESCRIPTION:
URL:https://healthcareprovidersolutions.com/event/ochch-hospice-final-rule/
LOCATION:Webinar
CATEGORIES:Hospice,Speaking Engagement
ATTACH;FMTTYPE=image/png:https://healthcareprovidersolutions.com/wp-content/uploads/OCHCH-1.png
END:VEVENT
BEGIN:VEVENT
DTSTART;VALUE=DATE:20230816
DTEND;VALUE=DATE:20230817
DTSTAMP:20260422T231700
CREATED:20230705T143618Z
LAST-MODIFIED:20230705T144241Z
UID:10000566-1692144000-1692230399@healthcareprovidersolutions.com
SUMMARY:DecisionHealth Home Health Coding Summit
DESCRIPTION:
URL:https://healthcareprovidersolutions.com/event/home-health-coding-summit/
LOCATION:Hilton Phoenix Resort at the Peak\, 7677 N 16th Street\, Pheonix\, AZ\, 85020\, United States
CATEGORIES:Speaking Engagement
ATTACH;FMTTYPE=image/png:https://healthcareprovidersolutions.com/wp-content/uploads/decisionhealth.png
GEO:33.5466478;-112.044316
X-APPLE-STRUCTURED-LOCATION;VALUE=URI;X-ADDRESS=Hilton Phoenix Resort at the Peak 7677 N 16th Street Pheonix AZ 85020 United States;X-APPLE-RADIUS=500;X-TITLE=7677 N 16th Street:geo:-112.044316,33.5466478
END:VEVENT
BEGIN:VEVENT
DTSTART;TZID=America/Chicago:20230808T120000
DTEND;TZID=America/Chicago:20230808T130000
DTSTAMP:20260422T231700
CREATED:20230327T162815Z
LAST-MODIFIED:20230327T162815Z
UID:10000467-1691496000-1691499600@healthcareprovidersolutions.com
SUMMARY:HCLA/HCAF Webinar Home Health Revenue Cycle Series - Traditional Medicare Billing – The 30-Day Final Claim
DESCRIPTION:
URL:https://healthcareprovidersolutions.com/event/hcla-hcaf-webinar-home-health-revenue-cycle-series-5/
LOCATION:Webinar
CATEGORIES:Speaking Engagement
ATTACH;FMTTYPE=image/jpeg:https://healthcareprovidersolutions.com/wp-content/uploads/HCLA.jpg
END:VEVENT
END:VCALENDAR