BEGIN:VCALENDAR
VERSION:2.0
PRODID:-//Home Care &amp; Hospice Resource - Healthcare Provider Solutions - ECPv6.15.18//NONSGML v1.0//EN
CALSCALE:GREGORIAN
METHOD:PUBLISH
X-WR-CALNAME:Home Care &amp; Hospice Resource - Healthcare Provider Solutions
X-ORIGINAL-URL:https://healthcareprovidersolutions.com
X-WR-CALDESC:Events for Home Care &amp; Hospice Resource - Healthcare Provider Solutions
REFRESH-INTERVAL;VALUE=DURATION:PT1H
X-Robots-Tag:noindex
X-PUBLISHED-TTL:PT1H
BEGIN:VTIMEZONE
TZID:America/Chicago
BEGIN:DAYLIGHT
TZOFFSETFROM:-0600
TZOFFSETTO:-0500
TZNAME:CDT
DTSTART:20250309T080000
END:DAYLIGHT
BEGIN:STANDARD
TZOFFSETFROM:-0500
TZOFFSETTO:-0600
TZNAME:CST
DTSTART:20251102T070000
END:STANDARD
BEGIN:DAYLIGHT
TZOFFSETFROM:-0600
TZOFFSETTO:-0500
TZNAME:CDT
DTSTART:20260308T080000
END:DAYLIGHT
BEGIN:STANDARD
TZOFFSETFROM:-0500
TZOFFSETTO:-0600
TZNAME:CST
DTSTART:20261101T070000
END:STANDARD
BEGIN:DAYLIGHT
TZOFFSETFROM:-0600
TZOFFSETTO:-0500
TZNAME:CDT
DTSTART:20270314T080000
END:DAYLIGHT
BEGIN:STANDARD
TZOFFSETFROM:-0500
TZOFFSETTO:-0600
TZNAME:CST
DTSTART:20271107T070000
END:STANDARD
END:VTIMEZONE
BEGIN:VEVENT
DTSTART;TZID=America/Chicago:20261015T120000
DTEND;TZID=America/Chicago:20261015T133000
DTSTAMP:20260422T214128
CREATED:20260107T151730Z
LAST-MODIFIED:20260107T213110Z
UID:10000894-1792065600-1792071000@healthcareprovidersolutions.com
SUMMARY:Home Health Top 10 Deficiencies:  Identifying Issues and Implementing Best Practices to Prevent Deficiencies
DESCRIPTION:
URL:https://healthcareprovidersolutions.com/event/home-health-top-10-deficiencies-identifying-issues-and-implementing-best-practices-to-prevent-deficiencies/
LOCATION:Webinar
CATEGORIES:Home Care,Speaking Engagement
ATTACH;FMTTYPE=image/jpeg:https://healthcareprovidersolutions.com/wp-content/uploads/Webinar_101526.jpg
END:VEVENT
BEGIN:VEVENT
DTSTART;TZID=America/Chicago:20261105T120000
DTEND;TZID=America/Chicago:20261105T130000
DTSTAMP:20260422T214128
CREATED:20260107T152720Z
LAST-MODIFIED:20260107T213146Z
UID:10000895-1793880000-1793883600@healthcareprovidersolutions.com
SUMMARY:HPS FREE Webinar - Medicare Post-Open Enrollment Essentials: Best Practices for Home Health Agencies
DESCRIPTION:
URL:https://healthcareprovidersolutions.com/event/hps-free-webinar-medicare-post-open-enrollment-essentials-best-practices-for-home-health-agencies/
LOCATION:Webinar
CATEGORIES:Home Care,Speaking Engagement
ATTACH;FMTTYPE=image/jpeg:https://healthcareprovidersolutions.com/wp-content/uploads/Webinar_110526.jpg
END:VEVENT
BEGIN:VEVENT
DTSTART;TZID=America/Chicago:20261119T120000
DTEND;TZID=America/Chicago:20261119T133000
DTSTAMP:20260422T214128
CREATED:20260107T154608Z
LAST-MODIFIED:20260108T162515Z
UID:10000896-1795089600-1795095000@healthcareprovidersolutions.com
SUMMARY:2027 Home Health Final Payment Rule
DESCRIPTION:
URL:https://healthcareprovidersolutions.com/event/2027-home-health-final-payment-rule/
LOCATION:Webinar
CATEGORIES:Home Care,Speaking Engagement
ATTACH;FMTTYPE=image/jpeg:https://healthcareprovidersolutions.com/wp-content/uploads/Webinar_111926.jpg
END:VEVENT
BEGIN:VEVENT
DTSTART;TZID=America/Chicago:20261217T120000
DTEND;TZID=America/Chicago:20261217T133000
DTSTAMP:20260422T214128
CREATED:20260107T155805Z
LAST-MODIFIED:20260107T213223Z
UID:10000897-1797508800-1797514200@healthcareprovidersolutions.com
SUMMARY:Hospice Revenue Cycle Management
DESCRIPTION:
URL:https://healthcareprovidersolutions.com/event/hospice-revenue-cycle-management/
LOCATION:Webinar
CATEGORIES:Hospice,Speaking Engagement
ATTACH;FMTTYPE=image/jpeg:https://healthcareprovidersolutions.com/wp-content/uploads/Webinar_121726.jpg
END:VEVENT
END:VCALENDAR