BEGIN:VCALENDAR
VERSION:2.0
PRODID:-//Home Care &amp; Hospice Resource - Healthcare Provider Solutions - ECPv6.15.18//NONSGML v1.0//EN
CALSCALE:GREGORIAN
METHOD:PUBLISH
X-WR-CALNAME:Home Care &amp; Hospice Resource - Healthcare Provider Solutions
X-ORIGINAL-URL:https://healthcareprovidersolutions.com
X-WR-CALDESC:Events for Home Care &amp; Hospice Resource - Healthcare Provider Solutions
REFRESH-INTERVAL;VALUE=DURATION:PT1H
X-Robots-Tag:noindex
X-PUBLISHED-TTL:PT1H
BEGIN:VTIMEZONE
TZID:America/Chicago
BEGIN:DAYLIGHT
TZOFFSETFROM:-0600
TZOFFSETTO:-0500
TZNAME:CDT
DTSTART:20230312T080000
END:DAYLIGHT
BEGIN:STANDARD
TZOFFSETFROM:-0500
TZOFFSETTO:-0600
TZNAME:CST
DTSTART:20231105T070000
END:STANDARD
BEGIN:DAYLIGHT
TZOFFSETFROM:-0600
TZOFFSETTO:-0500
TZNAME:CDT
DTSTART:20240310T080000
END:DAYLIGHT
BEGIN:STANDARD
TZOFFSETFROM:-0500
TZOFFSETTO:-0600
TZNAME:CST
DTSTART:20241103T070000
END:STANDARD
BEGIN:DAYLIGHT
TZOFFSETFROM:-0600
TZOFFSETTO:-0500
TZNAME:CDT
DTSTART:20250309T080000
END:DAYLIGHT
BEGIN:STANDARD
TZOFFSETFROM:-0500
TZOFFSETTO:-0600
TZNAME:CST
DTSTART:20251102T070000
END:STANDARD
BEGIN:DAYLIGHT
TZOFFSETFROM:-0600
TZOFFSETTO:-0500
TZNAME:CDT
DTSTART:20260308T080000
END:DAYLIGHT
BEGIN:STANDARD
TZOFFSETFROM:-0500
TZOFFSETTO:-0600
TZNAME:CST
DTSTART:20261101T070000
END:STANDARD
BEGIN:DAYLIGHT
TZOFFSETFROM:-0600
TZOFFSETTO:-0500
TZNAME:CDT
DTSTART:20270314T080000
END:DAYLIGHT
BEGIN:STANDARD
TZOFFSETFROM:-0500
TZOFFSETTO:-0600
TZNAME:CST
DTSTART:20271107T070000
END:STANDARD
END:VTIMEZONE
BEGIN:VEVENT
DTSTART;TZID=America/Chicago:20260401T120000
DTEND;TZID=America/Chicago:20260401T130000
DTSTAMP:20260422T182816
CREATED:20260106T204538Z
LAST-MODIFIED:20260107T212406Z
UID:10000886-1775044800-1775048400@healthcareprovidersolutions.com
SUMMARY:HPS FREE Webinar - How Medicare Reimbursement Is Impacted by OASIS & Outcome Programs
DESCRIPTION:
URL:https://healthcareprovidersolutions.com/event/hps-free-webinar-how-medicare-reimbursement-is-impacted-by-oasis-outcome-programs/
LOCATION:Webinar
CATEGORIES:Home Care,Speaking Engagement
ATTACH;FMTTYPE=image/jpeg:https://healthcareprovidersolutions.com/wp-content/uploads/Webinar_040126.jpg
END:VEVENT
BEGIN:VEVENT
DTSTART;TZID=America/Chicago:20260319T120000
DTEND;TZID=America/Chicago:20260319T133000
DTSTAMP:20260422T182816
CREATED:20260106T195033Z
LAST-MODIFIED:20260107T212327Z
UID:10000885-1773921600-1773927000@healthcareprovidersolutions.com
SUMMARY:Home Health OASIS E2 – What Lies Ahead!
DESCRIPTION:
URL:https://healthcareprovidersolutions.com/event/home-health-oasis-e2-what-lies-ahead/
LOCATION:Healthcare Provider Solutions\, 402 BNA Drive\, Nashville\, TN\, 37214\, United States
CATEGORIES:Home Care,Speaking Engagement
ATTACH;FMTTYPE=image/jpeg:https://healthcareprovidersolutions.com/wp-content/uploads/Webinar_031926.jpg
GEO:36.1377765;-86.6986497
X-APPLE-STRUCTURED-LOCATION;VALUE=URI;X-ADDRESS=Healthcare Provider Solutions 402 BNA Drive Nashville TN 37214 United States;X-APPLE-RADIUS=500;X-TITLE=402 BNA Drive:geo:-86.6986497,36.1377765
END:VEVENT
BEGIN:VEVENT
DTSTART;TZID=America/Chicago:20260219T120000
DTEND;TZID=America/Chicago:20260219T133000
DTSTAMP:20260422T182816
CREATED:20260106T193115Z
LAST-MODIFIED:20260107T212245Z
UID:10000884-1771502400-1771507800@healthcareprovidersolutions.com
SUMMARY:Hospice Eligibility & Skillful Documentation
DESCRIPTION:
URL:https://healthcareprovidersolutions.com/event/hospice-eligibility-skillful-documentation/
LOCATION:Webinar
CATEGORIES:Hospice,Speaking Engagement
ATTACH;FMTTYPE=image/jpeg:https://healthcareprovidersolutions.com/wp-content/uploads/Webinar_021926.jpg
END:VEVENT
BEGIN:VEVENT
DTSTART;TZID=America/Chicago:20260128T120000
DTEND;TZID=America/Chicago:20260128T130000
DTSTAMP:20260422T182816
CREATED:20260106T191819Z
LAST-MODIFIED:20260126T183139Z
UID:10000883-1769601600-1769605200@healthcareprovidersolutions.com
SUMMARY:HPS FREE Webinar - Hospice:  Back to the Basics & Key Concepts
DESCRIPTION:
URL:https://healthcareprovidersolutions.com/event/hps-free-webinar-hospice-back-to-the-basics-key-concepts/
LOCATION:Webinar
CATEGORIES:Hospice,Speaking Engagement
ATTACH;FMTTYPE=image/jpeg:https://healthcareprovidersolutions.com/wp-content/uploads/Webinar_012826.jpg
END:VEVENT
BEGIN:VEVENT
DTSTART;TZID=America/Chicago:20260115T120000
DTEND;TZID=America/Chicago:20260115T133000
DTSTAMP:20260422T182816
CREATED:20251216T173304Z
LAST-MODIFIED:20260107T211744Z
UID:10000880-1768478400-1768483800@healthcareprovidersolutions.com
SUMMARY:Building a Quality Culture In Your Organization!
DESCRIPTION:
URL:https://healthcareprovidersolutions.com/event/building-a-quality-culture-in-your-organization/
LOCATION:Webinar
CATEGORIES:Home Care,Hospice,Speaking Engagement
ATTACH;FMTTYPE=image/jpeg:https://healthcareprovidersolutions.com/wp-content/uploads/Webinar_011526-1.jpg
END:VEVENT
BEGIN:VEVENT
DTSTART;TZID=America/Chicago:20251211T120000
DTEND;TZID=America/Chicago:20251211T133000
DTSTAMP:20260422T182816
CREATED:20241217T150705Z
LAST-MODIFIED:20250114T180852Z
UID:10000781-1765454400-1765459800@healthcareprovidersolutions.com
SUMMARY:Post-Open Enrollment Essentials: Best Practices for Home Health Agencies
DESCRIPTION:
URL:https://healthcareprovidersolutions.com/event/post-open-enrollment-essentials-best-practices-for-home-health-agencies/
LOCATION:Webinar
CATEGORIES:Home Care,Speaking Engagement
ATTACH;FMTTYPE=image/jpeg:https://healthcareprovidersolutions.com/wp-content/uploads/Thumbnail_121125.jpg
END:VEVENT
BEGIN:VEVENT
DTSTART;TZID=America/Chicago:20251202T120000
DTEND;TZID=America/Chicago:20251202T133000
DTSTAMP:20260422T182816
CREATED:20241217T145614Z
LAST-MODIFIED:20251106T145821Z
UID:10000780-1764676800-1764682200@healthcareprovidersolutions.com
SUMMARY:2026 Home Health Final Payment Rule
DESCRIPTION:
URL:https://healthcareprovidersolutions.com/event/2026-home-health-final-payment-rule/
LOCATION:Webinar
CATEGORIES:Home Care,Speaking Engagement
ATTACH;FMTTYPE=image/jpeg:https://healthcareprovidersolutions.com/wp-content/uploads/Thumbnail_111325.jpg
END:VEVENT
BEGIN:VEVENT
DTSTART;TZID=America/Chicago:20251009T120000
DTEND;TZID=America/Chicago:20251009T133000
DTSTAMP:20260422T182816
CREATED:20241217T144756Z
LAST-MODIFIED:20250114T180722Z
UID:10000779-1760011200-1760016600@healthcareprovidersolutions.com
SUMMARY:Hospice QAPI Update
DESCRIPTION:
URL:https://healthcareprovidersolutions.com/event/hospice-qapi-update/
LOCATION:Webinar
CATEGORIES:Hospice,Speaking Engagement
ATTACH;FMTTYPE=image/jpeg:https://healthcareprovidersolutions.com/wp-content/uploads/Thumbnail_100925.jpg
END:VEVENT
BEGIN:VEVENT
DTSTART;TZID=America/Chicago:20250911T120000
DTEND;TZID=America/Chicago:20250911T133000
DTSTAMP:20260422T182816
CREATED:20241217T143829Z
LAST-MODIFIED:20250114T180630Z
UID:10000778-1757592000-1757597400@healthcareprovidersolutions.com
SUMMARY:ICD-10 Coding Update: New Codes & Claims Issues
DESCRIPTION:
URL:https://healthcareprovidersolutions.com/event/icd-10-coding-update-new-codes-claims-issues-2/
LOCATION:Webinar
CATEGORIES:Home Care,Speaking Engagement
ATTACH;FMTTYPE=image/jpeg:https://healthcareprovidersolutions.com/wp-content/uploads/Thumbnail_091125.jpg
END:VEVENT
BEGIN:VEVENT
DTSTART;TZID=America/Chicago:20250814T120000
DTEND;TZID=America/Chicago:20250814T133000
DTSTAMP:20260422T182816
CREATED:20241216T222639Z
LAST-MODIFIED:20250114T180537Z
UID:10000777-1755172800-1755178200@healthcareprovidersolutions.com
SUMMARY:2026 Hospice Final Payment & Quality Update Rule
DESCRIPTION:
URL:https://healthcareprovidersolutions.com/event/2026-hospice-final-payment-quality-update-rule/
LOCATION:Webinar
CATEGORIES:Hospice,Speaking Engagement
ATTACH;FMTTYPE=image/jpeg:https://healthcareprovidersolutions.com/wp-content/uploads/Thumbnail_081425.jpg
END:VEVENT
BEGIN:VEVENT
DTSTART;VALUE=DATE:20250812
DTEND;VALUE=DATE:20250814
DTSTAMP:20260422T182816
CREATED:20241031T165418Z
LAST-MODIFIED:20250813T134009Z
UID:10000742-1754956800-1755129599@healthcareprovidersolutions.com
SUMMARY:2025 HPS Alliance Home Health Workshop
DESCRIPTION:
URL:https://healthcareprovidersolutions.com/event/2025-hps-alliance-home-health-workshop/
LOCATION:BNA Conference Center – HPS Nashville\, Bna Drive\, Nashville\, TN\, 37217\, United States
CATEGORIES:Home Care,Speaking Engagement,Workshop
ATTACH;FMTTYPE=image/jpeg:https://healthcareprovidersolutions.com/wp-content/uploads/Thumbnail_HHWorkshop_25.jpg
GEO:36.1380221;-86.6990968
X-APPLE-STRUCTURED-LOCATION;VALUE=URI;X-ADDRESS=BNA Conference Center – HPS Nashville Bna Drive Nashville TN 37217 United States;X-APPLE-RADIUS=500;X-TITLE=Bna Drive:geo:-86.6990968,36.1380221
END:VEVENT
BEGIN:VEVENT
DTSTART;TZID=America/Chicago:20250801T120000
DTEND;TZID=America/Chicago:20250801T130000
DTSTAMP:20260422T182816
CREATED:20241216T221610Z
LAST-MODIFIED:20250114T180349Z
UID:10000776-1754049600-1754053200@healthcareprovidersolutions.com
SUMMARY:HPS Free Webinar - If It Wasn't Documented\, It Wasn't Done:  Common Documentation Issues Impacting Home Health and Hospice Agencies
DESCRIPTION:
URL:https://healthcareprovidersolutions.com/event/hps-free-webinar-if-it-wasnt-documented-it-wasnt-done-common-documentation-issues-impacting-home-health-and-hospice-agencies/
LOCATION:Webinar
CATEGORIES:Home Care,Hospice,Speaking Engagement
ATTACH;FMTTYPE=image/jpeg:https://healthcareprovidersolutions.com/wp-content/uploads/Thumbnail_080125.jpg
END:VEVENT
BEGIN:VEVENT
DTSTART;TZID=America/Chicago:20250710T120000
DTEND;TZID=America/Chicago:20250710T133000
DTSTAMP:20260422T182816
CREATED:20241216T220531Z
LAST-MODIFIED:20250114T180259Z
UID:10000775-1752148800-1752154200@healthcareprovidersolutions.com
SUMMARY:Hospice Top 10 Deficiencies:  Identifying Issues and Implementing Best Practices to Prevent Deficiencies
DESCRIPTION:
URL:https://healthcareprovidersolutions.com/event/hospice-top-10-deficiencies-identifying-issues-and-implementing-best-practices-to-prevent-deficiencies/
LOCATION:Webinar
CATEGORIES:Hospice,Speaking Engagement
ATTACH;FMTTYPE=image/jpeg:https://healthcareprovidersolutions.com/wp-content/uploads/Thumbnail_071025.jpg
END:VEVENT
BEGIN:VEVENT
DTSTART;VALUE=DATE:20250617
DTEND;VALUE=DATE:20250619
DTSTAMP:20260422T182816
CREATED:20241031T155927Z
LAST-MODIFIED:20250613T163048Z
UID:10000741-1750118400-1750291199@healthcareprovidersolutions.com
SUMMARY:2025 HPS Alliance Hospice Workshop
DESCRIPTION:
URL:https://healthcareprovidersolutions.com/event/2025-hps-alliance-hospice-workshop/
LOCATION:BNA Conference Center – HPS Nashville\, Bna Drive\, Nashville\, TN\, 37217\, United States
CATEGORIES:Hospice,Speaking Engagement,Workshop
ATTACH;FMTTYPE=image/jpeg:https://healthcareprovidersolutions.com/wp-content/uploads/Thumbnail_HosWorkshop_25.jpg
GEO:36.1380221;-86.6990968
X-APPLE-STRUCTURED-LOCATION;VALUE=URI;X-ADDRESS=BNA Conference Center – HPS Nashville Bna Drive Nashville TN 37217 United States;X-APPLE-RADIUS=500;X-TITLE=Bna Drive:geo:-86.6990968,36.1380221
END:VEVENT
BEGIN:VEVENT
DTSTART;TZID=America/Chicago:20250612T120000
DTEND;TZID=America/Chicago:20250612T133000
DTSTAMP:20260422T182816
CREATED:20241216T215526Z
LAST-MODIFIED:20250114T180016Z
UID:10000774-1749729600-1749735000@healthcareprovidersolutions.com
SUMMARY:ICD-10 Coding Matters: Understanding the Impact on Revenue and Patient Care
DESCRIPTION:
URL:https://healthcareprovidersolutions.com/event/icd-10-coding-matters-understanding-the-impact-on-revenue-and-patient-care/
LOCATION:Webinar
CATEGORIES:Home Care,Speaking Engagement
ATTACH;FMTTYPE=image/jpeg:https://healthcareprovidersolutions.com/wp-content/uploads/Thumbnail_061225.jpg
END:VEVENT
BEGIN:VEVENT
DTSTART;TZID=America/Chicago:20250508T120000
DTEND;TZID=America/Chicago:20250508T133000
DTSTAMP:20260422T182816
CREATED:20241216T212650Z
LAST-MODIFIED:20250508T145713Z
UID:10000773-1746705600-1746711000@healthcareprovidersolutions.com
SUMMARY:Hospice Eligibility:  Election Statement/Addendum/Face-to-Face/CTI
DESCRIPTION:
URL:https://healthcareprovidersolutions.com/event/hospice-eligibility-election-statement-addendum-face-to-face-cti/
LOCATION:Webinar
CATEGORIES:Hospice,Speaking Engagement
ATTACH;FMTTYPE=image/jpeg:https://healthcareprovidersolutions.com/wp-content/uploads/Thumbnail_050825-2.jpg
END:VEVENT
BEGIN:VEVENT
DTSTART;TZID=America/Chicago:20250416T120000
DTEND;TZID=America/Chicago:20250416T133000
DTSTAMP:20260422T182816
CREATED:20241216T211643Z
LAST-MODIFIED:20250310T132306Z
UID:10000772-1744804800-1744810200@healthcareprovidersolutions.com
SUMMARY:Home Health Value Based Purchasing – How are the 2025 Changes Settling In?
DESCRIPTION:
URL:https://healthcareprovidersolutions.com/event/home-health-value-based-purchasing-how-are-the-2025-changes-settling-in/
LOCATION:Webinar
CATEGORIES:Home Care,Speaking Engagement
ATTACH;FMTTYPE=image/jpeg:https://healthcareprovidersolutions.com/wp-content/uploads/Thumbnail_041025.jpg
END:VEVENT
BEGIN:VEVENT
DTSTART;TZID=America/Chicago:20250401T120000
DTEND;TZID=America/Chicago:20250401T133000
DTSTAMP:20260422T182816
CREATED:20241216T210422Z
LAST-MODIFIED:20250114T175654Z
UID:10000771-1743508800-1743514200@healthcareprovidersolutions.com
SUMMARY:HPS Free Webinar - New HH Condition of Participation – Acceptance to Service Policy
DESCRIPTION:
URL:https://healthcareprovidersolutions.com/event/hps-free-webinar-new-hh-condition-of-participation-acceptance-to-service-policy/
LOCATION:Webinar
CATEGORIES:Home Care,Speaking Engagement
ATTACH;FMTTYPE=image/jpeg:https://healthcareprovidersolutions.com/wp-content/uploads/Thumbnail_040125.jpg
END:VEVENT
BEGIN:VEVENT
DTSTART;TZID=America/Chicago:20250313T120000
DTEND;TZID=America/Chicago:20250313T133000
DTSTAMP:20260422T182816
CREATED:20241216T205309Z
LAST-MODIFIED:20250225T172107Z
UID:10000770-1741867200-1741872600@healthcareprovidersolutions.com
SUMMARY:The Hospice HOPE Tool - Be Prepared for HOPE Success
DESCRIPTION:
URL:https://healthcareprovidersolutions.com/event/the-hospice-hope-tool-be-prepared-for-hope-success/
LOCATION:Webinar
CATEGORIES:Hospice,Speaking Engagement
ATTACH;FMTTYPE=image/jpeg:https://healthcareprovidersolutions.com/wp-content/uploads/Thumbnail_031325.jpg
END:VEVENT
BEGIN:VEVENT
DTSTART;TZID=America/Chicago:20250213T120000
DTEND;TZID=America/Chicago:20250213T133000
DTSTAMP:20260422T182816
CREATED:20241216T200622Z
LAST-MODIFIED:20250114T174145Z
UID:10000769-1739448000-1739453400@healthcareprovidersolutions.com
SUMMARY:Navigating the Managed Care Landscape: Strategies for Home Health & Hospice Success
DESCRIPTION:
URL:https://healthcareprovidersolutions.com/event/navigating-the-managed-care-landscape-strategies-for-home-health-hospice-success/
LOCATION:Webinar
CATEGORIES:Home Care,Hospice,Speaking Engagement
ATTACH;FMTTYPE=image/jpeg:https://healthcareprovidersolutions.com/wp-content/uploads/Thumbnail_021325_2.jpg
END:VEVENT
BEGIN:VEVENT
DTSTART;TZID=America/Chicago:20250109T120000
DTEND;TZID=America/Chicago:20250109T133000
DTSTAMP:20260422T182816
CREATED:20241216T174307Z
LAST-MODIFIED:20241216T174307Z
UID:10000768-1736424000-1736429400@healthcareprovidersolutions.com
SUMMARY:Hospice Medical Review
DESCRIPTION:
URL:https://healthcareprovidersolutions.com/event/hospice-medical-review/
LOCATION:Webinar
CATEGORIES:Hospice,Speaking Engagement
ATTACH;FMTTYPE=image/png:https://healthcareprovidersolutions.com/wp-content/uploads/HPS-Hospice.png
END:VEVENT
BEGIN:VEVENT
DTSTART;TZID=America/Chicago:20250107T100000
DTEND;TZID=America/Chicago:20250107T113000
DTSTAMP:20260422T182816
CREATED:20241031T135531Z
LAST-MODIFIED:20241031T135531Z
UID:10000740-1736244000-1736249400@healthcareprovidersolutions.com
SUMMARY:FREE HPS Webinar - Hospice Billing Update 2025
DESCRIPTION:
URL:https://healthcareprovidersolutions.com/event/free-hps-webinar-hospice-billing-update-2025/
LOCATION:Webinar
CATEGORIES:Hospice,Speaking Engagement
ATTACH;FMTTYPE=image/png:https://healthcareprovidersolutions.com/wp-content/uploads/HPS-Hospice.png
END:VEVENT
BEGIN:VEVENT
DTSTART;TZID=America/Chicago:20241212T120000
DTEND;TZID=America/Chicago:20241212T133000
DTSTAMP:20260422T182816
CREATED:20231205T192952Z
LAST-MODIFIED:20241104T143259Z
UID:10000622-1734004800-1734010200@healthcareprovidersolutions.com
SUMMARY:Infection Prevention & Control for Home Health & Hospice
DESCRIPTION:
URL:https://healthcareprovidersolutions.com/event/infection-prevention-control-for-home-health-hospice/
LOCATION:Webinar
CATEGORIES:Home Care,Hospice,Speaking Engagement
ATTACH;FMTTYPE=image/png:https://healthcareprovidersolutions.com/wp-content/uploads/HPS-Hospice.png
END:VEVENT
BEGIN:VEVENT
DTSTART;TZID=America/Chicago:20241204T123000
DTEND;TZID=America/Chicago:20241204T140000
DTSTAMP:20260422T182816
CREATED:20241031T133956Z
LAST-MODIFIED:20241125T210424Z
UID:10000739-1733315400-1733320800@healthcareprovidersolutions.com
SUMMARY:HPS Free Webinar - Home Health Billing Update 2025
DESCRIPTION:
URL:https://healthcareprovidersolutions.com/event/home-health-billing-update-2025/
LOCATION:Webinar
CATEGORIES:Home Care,Speaking Engagement
ATTACH;FMTTYPE=image/png:https://healthcareprovidersolutions.com/wp-content/uploads/Home-Health.png
END:VEVENT
BEGIN:VEVENT
DTSTART;TZID=America/Chicago:20241122T120000
DTEND;TZID=America/Chicago:20241122T133000
DTSTAMP:20260422T182816
CREATED:20231205T191953Z
LAST-MODIFIED:20241112T143112Z
UID:10000621-1732276800-1732282200@healthcareprovidersolutions.com
SUMMARY:The Home Health 2025 Final Payment Rule
DESCRIPTION:
URL:https://healthcareprovidersolutions.com/event/the-home-health-2025-final-payment-rule/
LOCATION:HPS Alliance Webinar – 11/21/24\, Webinar ID: 832 2838 0066\, Passcode: 262344
CATEGORIES:Home Care,Speaking Engagement
ATTACH;FMTTYPE=image/png:https://healthcareprovidersolutions.com/wp-content/uploads/Home-Health.png
END:VEVENT
BEGIN:VEVENT
DTSTART;TZID=America/Chicago:20241016T100000
DTEND;TZID=America/Chicago:20241016T113000
DTSTAMP:20260422T182816
CREATED:20231205T190840Z
LAST-MODIFIED:20241014T170004Z
UID:10000620-1729072800-1729078200@healthcareprovidersolutions.com
SUMMARY:What Constitutes Medical Necessity Documentation in Home Health
DESCRIPTION:
URL:https://healthcareprovidersolutions.com/event/what-constitutes-medical-necessity-documentation-in-home-health/
LOCATION:Webinar
CATEGORIES:Home Care,Speaking Engagement
ATTACH;FMTTYPE=image/png:https://healthcareprovidersolutions.com/wp-content/uploads/Home-Health.png
END:VEVENT
BEGIN:VEVENT
DTSTART;TZID=America/Chicago:20240912T120000
DTEND;TZID=America/Chicago:20240912T133000
DTSTAMP:20260422T182816
CREATED:20231205T183330Z
LAST-MODIFIED:20240826T133434Z
UID:10000619-1726142400-1726147800@healthcareprovidersolutions.com
SUMMARY:ICD-10 Coding Update: New Codes & Claims Issues
DESCRIPTION:
URL:https://healthcareprovidersolutions.com/event/icd-10-coding-update-new-codes-claims-issues/
LOCATION:Webinar
CATEGORIES:Home Care,Hospice,Speaking Engagement
ATTACH;FMTTYPE=image/png:https://healthcareprovidersolutions.com/wp-content/uploads/HPS-Hospice.png
END:VEVENT
BEGIN:VEVENT
DTSTART;TZID=America/Chicago:20240815T120000
DTEND;TZID=America/Chicago:20240815T133000
DTSTAMP:20260422T182816
CREATED:20231205T180010Z
LAST-MODIFIED:20240425T172821Z
UID:10000618-1723723200-1723728600@healthcareprovidersolutions.com
SUMMARY:2025 Hospice Final Rule
DESCRIPTION:
URL:https://healthcareprovidersolutions.com/event/2025-hospice-final-rule/
LOCATION:Webinar
CATEGORIES:Hospice,Speaking Engagement
ATTACH;FMTTYPE=image/png:https://healthcareprovidersolutions.com/wp-content/uploads/HPS-Hospice.png
END:VEVENT
BEGIN:VEVENT
DTSTART;VALUE=DATE:20240806
DTEND;VALUE=DATE:20240808
DTSTAMP:20260422T182816
CREATED:20231227T163510Z
LAST-MODIFIED:20250402T191117Z
UID:10000647-1722902400-1723075199@healthcareprovidersolutions.com
SUMMARY:2024 HPS Alliance Home Health Workshop
DESCRIPTION:
URL:https://healthcareprovidersolutions.com/event/2024-hps-alliance-home-health-workshop/
LOCATION:BNA Conference Center – HPS Nashville\, Bna Drive\, Nashville\, TN\, 37217\, United States
CATEGORIES:Home Care,Speaking Engagement
ATTACH;FMTTYPE=image/png:https://healthcareprovidersolutions.com/wp-content/uploads/Home-Health.png
GEO:36.1380221;-86.6990968
X-APPLE-STRUCTURED-LOCATION;VALUE=URI;X-ADDRESS=BNA Conference Center – HPS Nashville Bna Drive Nashville TN 37217 United States;X-APPLE-RADIUS=500;X-TITLE=Bna Drive:geo:-86.6990968,36.1380221
END:VEVENT
BEGIN:VEVENT
DTSTART;TZID=America/Chicago:20240711T120000
DTEND;TZID=America/Chicago:20240711T133000
DTSTAMP:20260422T182816
CREATED:20231205T174831Z
LAST-MODIFIED:20240425T172729Z
UID:10000617-1720699200-1720704600@healthcareprovidersolutions.com
SUMMARY:Home Health and Hospice Emergency Preparedness: Implementing the Plan Before\, During and After an Emergency
DESCRIPTION:
URL:https://healthcareprovidersolutions.com/event/home-health-and-hospice-emergency-preparedness-implementing-the-plan-before-during-and-after-an-emergency/
LOCATION:Webinar
CATEGORIES:Home Care,Hospice,Speaking Engagement
ATTACH;FMTTYPE=image/png:https://healthcareprovidersolutions.com/wp-content/uploads/Home-Health.png
END:VEVENT
END:VCALENDAR