BEGIN:VCALENDAR
VERSION:2.0
PRODID:-//Home Care &amp; Hospice Resource - Healthcare Provider Solutions - ECPv6.15.18//NONSGML v1.0//EN
CALSCALE:GREGORIAN
METHOD:PUBLISH
X-WR-CALNAME:Home Care &amp; Hospice Resource - Healthcare Provider Solutions
X-ORIGINAL-URL:https://healthcareprovidersolutions.com
X-WR-CALDESC:Events for Home Care &amp; Hospice Resource - Healthcare Provider Solutions
REFRESH-INTERVAL;VALUE=DURATION:PT1H
X-Robots-Tag:noindex
X-PUBLISHED-TTL:PT1H
BEGIN:VTIMEZONE
TZID:America/Chicago
BEGIN:DAYLIGHT
TZOFFSETFROM:-0600
TZOFFSETTO:-0500
TZNAME:CDT
DTSTART:20250309T080000
END:DAYLIGHT
BEGIN:STANDARD
TZOFFSETFROM:-0500
TZOFFSETTO:-0600
TZNAME:CST
DTSTART:20251102T070000
END:STANDARD
BEGIN:DAYLIGHT
TZOFFSETFROM:-0600
TZOFFSETTO:-0500
TZNAME:CDT
DTSTART:20260308T080000
END:DAYLIGHT
BEGIN:STANDARD
TZOFFSETFROM:-0500
TZOFFSETTO:-0600
TZNAME:CST
DTSTART:20261101T070000
END:STANDARD
BEGIN:DAYLIGHT
TZOFFSETFROM:-0600
TZOFFSETTO:-0500
TZNAME:CDT
DTSTART:20270314T080000
END:DAYLIGHT
BEGIN:STANDARD
TZOFFSETFROM:-0500
TZOFFSETTO:-0600
TZNAME:CST
DTSTART:20271107T070000
END:STANDARD
END:VTIMEZONE
BEGIN:VEVENT
DTSTART;VALUE=DATE:20260616
DTEND;VALUE=DATE:20260618
DTSTAMP:20260422T182815
CREATED:20260130T160612Z
LAST-MODIFIED:20260414T161632Z
UID:10000932-1781568000-1781740799@healthcareprovidersolutions.com
SUMMARY:2026 HPS Alliance Hospice Workshop
DESCRIPTION:
URL:https://healthcareprovidersolutions.com/event/2026-hps-alliance-hospice-workshop/
LOCATION:Healthcare Provider Solutions\, 402 BNA Drive\, Nashville\, TN\, 37214\, United States
CATEGORIES:Hospice,Speaking Engagement
ATTACH;FMTTYPE=image/jpeg:https://healthcareprovidersolutions.com/wp-content/uploads/2026_HOS_Workshop.jpg
GEO:36.1377765;-86.6986497
X-APPLE-STRUCTURED-LOCATION;VALUE=URI;X-ADDRESS=Healthcare Provider Solutions 402 BNA Drive Nashville TN 37214 United States;X-APPLE-RADIUS=500;X-TITLE=402 BNA Drive:geo:-86.6986497,36.1377765
END:VEVENT
BEGIN:VEVENT
DTSTART;TZID=America/Chicago:20260618T120000
DTEND;TZID=America/Chicago:20260618T133000
DTSTAMP:20260422T182815
CREATED:20260106T213028Z
LAST-MODIFIED:20260107T212707Z
UID:10000889-1781784000-1781789400@healthcareprovidersolutions.com
SUMMARY:Medicare Advantage: Deciding Which Ones to Contract With!
DESCRIPTION:
URL:https://healthcareprovidersolutions.com/event/medicare-advantage-deciding-which-ones-to-contract-with/
LOCATION:Webinar
CATEGORIES:Home Care,Speaking Engagement
ATTACH;FMTTYPE=image/jpeg:https://healthcareprovidersolutions.com/wp-content/uploads/Webinar_061826.jpg
END:VEVENT
END:VCALENDAR