BEGIN:VCALENDAR
VERSION:2.0
PRODID:-//Home Care &amp; Hospice Resource - Healthcare Provider Solutions - ECPv6.15.18//NONSGML v1.0//EN
CALSCALE:GREGORIAN
METHOD:PUBLISH
X-WR-CALNAME:Home Care &amp; Hospice Resource - Healthcare Provider Solutions
X-ORIGINAL-URL:https://healthcareprovidersolutions.com
X-WR-CALDESC:Events for Home Care &amp; Hospice Resource - Healthcare Provider Solutions
REFRESH-INTERVAL;VALUE=DURATION:PT1H
X-Robots-Tag:noindex
X-PUBLISHED-TTL:PT1H
BEGIN:VTIMEZONE
TZID:America/Chicago
BEGIN:DAYLIGHT
TZOFFSETFROM:-0600
TZOFFSETTO:-0500
TZNAME:CDT
DTSTART:20230312T080000
END:DAYLIGHT
BEGIN:STANDARD
TZOFFSETFROM:-0500
TZOFFSETTO:-0600
TZNAME:CST
DTSTART:20231105T070000
END:STANDARD
BEGIN:DAYLIGHT
TZOFFSETFROM:-0600
TZOFFSETTO:-0500
TZNAME:CDT
DTSTART:20240310T080000
END:DAYLIGHT
BEGIN:STANDARD
TZOFFSETFROM:-0500
TZOFFSETTO:-0600
TZNAME:CST
DTSTART:20241103T070000
END:STANDARD
BEGIN:DAYLIGHT
TZOFFSETFROM:-0600
TZOFFSETTO:-0500
TZNAME:CDT
DTSTART:20250309T080000
END:DAYLIGHT
BEGIN:STANDARD
TZOFFSETFROM:-0500
TZOFFSETTO:-0600
TZNAME:CST
DTSTART:20251102T070000
END:STANDARD
END:VTIMEZONE
BEGIN:VTIMEZONE
TZID:America/New_York
BEGIN:DAYLIGHT
TZOFFSETFROM:-0500
TZOFFSETTO:-0400
TZNAME:EDT
DTSTART:20230312T070000
END:DAYLIGHT
BEGIN:STANDARD
TZOFFSETFROM:-0400
TZOFFSETTO:-0500
TZNAME:EST
DTSTART:20231105T060000
END:STANDARD
BEGIN:DAYLIGHT
TZOFFSETFROM:-0500
TZOFFSETTO:-0400
TZNAME:EDT
DTSTART:20240310T070000
END:DAYLIGHT
BEGIN:STANDARD
TZOFFSETFROM:-0400
TZOFFSETTO:-0500
TZNAME:EST
DTSTART:20241103T060000
END:STANDARD
BEGIN:DAYLIGHT
TZOFFSETFROM:-0500
TZOFFSETTO:-0400
TZNAME:EDT
DTSTART:20250309T070000
END:DAYLIGHT
BEGIN:STANDARD
TZOFFSETFROM:-0400
TZOFFSETTO:-0500
TZNAME:EST
DTSTART:20251102T060000
END:STANDARD
END:VTIMEZONE
BEGIN:VEVENT
DTSTART;VALUE=DATE:20240407
DTEND;VALUE=DATE:20240410
DTSTAMP:20260425T084428
CREATED:20240229T171804Z
LAST-MODIFIED:20240229T171804Z
UID:10000666-1712448000-1712707199@healthcareprovidersolutions.com
SUMMARY:AHHCNC 2024 Annual Convention and Expo
DESCRIPTION:
URL:https://healthcareprovidersolutions.com/event/ahhcnc-2024-annual-convention-and-expo/
LOCATION:Raleigh Convention Center\, 500 S. Salisbury St.\, Raleigh\, NC\, 27601\, United States
CATEGORIES:Home Care,Hospice
ATTACH;FMTTYPE=image/png:https://healthcareprovidersolutions.com/wp-content/uploads/AHHC-2.png
GEO:35.7735601;-78.6408138
X-APPLE-STRUCTURED-LOCATION;VALUE=URI;X-ADDRESS=Raleigh Convention Center 500 S. Salisbury St. Raleigh NC 27601 United States;X-APPLE-RADIUS=500;X-TITLE=500 S. Salisbury St.:geo:-78.6408138,35.7735601
END:VEVENT
BEGIN:VEVENT
DTSTART;VALUE=DATE:20240409
DTEND;VALUE=DATE:20240412
DTSTAMP:20260425T084428
CREATED:20240205T162248Z
LAST-MODIFIED:20240205T162248Z
UID:10000663-1712620800-1712879999@healthcareprovidersolutions.com
SUMMARY:IHHC 2024 Annual Conference
DESCRIPTION:
URL:https://healthcareprovidersolutions.com/event/ihhc-2024-annual-conference/
LOCATION:NIU Naperville Conference Center\, 1120 E. Diehl Rd.\, Naperville\, IL\, 60563\, United States
CATEGORIES:Home Care,Hospice
ATTACH;FMTTYPE=image/png:https://healthcareprovidersolutions.com/wp-content/uploads/IHHC-Event-Thumbnail.png
GEO:41.8024866;-88.1318351
X-APPLE-STRUCTURED-LOCATION;VALUE=URI;X-ADDRESS=NIU Naperville Conference Center 1120 E. Diehl Rd. Naperville IL 60563 United States;X-APPLE-RADIUS=500;X-TITLE=1120 E. Diehl Rd.:geo:-88.1318351,41.8024866
END:VEVENT
BEGIN:VEVENT
DTSTART;TZID=America/Chicago:20240411T120000
DTEND;TZID=America/Chicago:20240411T133000
DTSTAMP:20260425T084428
CREATED:20231205T170108Z
LAST-MODIFIED:20240319T121255Z
UID:10000613-1712836800-1712842200@healthcareprovidersolutions.com
SUMMARY:Hospice Conditions of Payment vs. Conditions of Participation: Understanding the Difference
DESCRIPTION:
URL:https://healthcareprovidersolutions.com/event/hospice-conditions-of-payment-vs-conditions-of-participation-understanding-the-difference/
LOCATION:Webinar
CATEGORIES:Hospice
ATTACH;FMTTYPE=image/png:https://healthcareprovidersolutions.com/wp-content/uploads/HPS-Hospice.png
END:VEVENT
BEGIN:VEVENT
DTSTART;VALUE=DATE:20240416
DTEND;VALUE=DATE:20240418
DTSTAMP:20260425T084428
CREATED:20240208T183604Z
LAST-MODIFIED:20240208T183604Z
UID:10000664-1713225600-1713398399@healthcareprovidersolutions.com
SUMMARY:2024 IAHHC Annual Conference
DESCRIPTION:
URL:https://healthcareprovidersolutions.com/event/2024-iahhc-annual-conference/
LOCATION:Embassy Suites by Hilton Plainfield Indianapolis Airport\, 6089 Clarks Creek Rd\, Plainfield\, IN\, 46168\, United States
CATEGORIES:Home Care,Hospice
ATTACH;FMTTYPE=image/png:https://healthcareprovidersolutions.com/wp-content/uploads/IAHHC-3.png
GEO:39.6737515;-86.3663237
X-APPLE-STRUCTURED-LOCATION;VALUE=URI;X-ADDRESS=Embassy Suites by Hilton Plainfield Indianapolis Airport 6089 Clarks Creek Rd Plainfield IN 46168 United States;X-APPLE-RADIUS=500;X-TITLE=6089 Clarks Creek Rd:geo:-86.3663237,39.6737515
END:VEVENT
BEGIN:VEVENT
DTSTART;TZID=America/Chicago:20240418T120000
DTEND;TZID=America/Chicago:20240418T130000
DTSTAMP:20260425T084428
CREATED:20231205T171246Z
LAST-MODIFIED:20240202T200336Z
UID:10000614-1713441600-1713445200@healthcareprovidersolutions.com
SUMMARY:HPS Free Webinar - Medicare Advantage: Contract Negotiation Tips
DESCRIPTION:
URL:https://healthcareprovidersolutions.com/event/hps-free-webinar-medicare-advantage-contract-negotiation-tips/
LOCATION:Webinar
CATEGORIES:Home Care,Hospice
ATTACH;FMTTYPE=image/png:https://healthcareprovidersolutions.com/wp-content/uploads/Home-Health.png
END:VEVENT
BEGIN:VEVENT
DTSTART;TZID=America/New_York:20240430T110000
DTEND;TZID=America/New_York:20240430T123000
DTSTAMP:20260425T084428
CREATED:20240115T212937Z
LAST-MODIFIED:20240115T212937Z
UID:10000657-1714474800-1714480200@healthcareprovidersolutions.com
SUMMARY:OCHCH Hospice QAPI Programs
DESCRIPTION:
URL:https://healthcareprovidersolutions.com/event/ochch-hospice-qapi-programs/
LOCATION:Webinar
CATEGORIES:Hospice
ATTACH;FMTTYPE=image/png:https://healthcareprovidersolutions.com/wp-content/uploads/OCHCH-1.png
END:VEVENT
BEGIN:VEVENT
DTSTART;TZID=America/New_York:20240501T120000
DTEND;TZID=America/New_York:20240501T140000
DTSTAMP:20260425T084428
CREATED:20240408T163904Z
LAST-MODIFIED:20240408T164717Z
UID:10000675-1714564800-1714572000@healthcareprovidersolutions.com
SUMMARY:ACHCU Hospice Billing Series Class 1: Regulatory Updates
DESCRIPTION:
URL:https://healthcareprovidersolutions.com/event/achcu-hospice-billing-series-class-1-regulatory-updates/
LOCATION:Webinar
CATEGORIES:Hospice
ATTACH;FMTTYPE=image/jpeg:https://healthcareprovidersolutions.com/wp-content/uploads/ACHCU_Thumb.jpg
END:VEVENT
BEGIN:VEVENT
DTSTART;TZID=America/Chicago:20240502T140000
DTEND;TZID=America/Chicago:20240502T153000
DTSTAMP:20260425T084428
CREATED:20231218T164047Z
LAST-MODIFIED:20240417T142916Z
UID:10000631-1714658400-1714663800@healthcareprovidersolutions.com
SUMMARY:Hospice and Home Care Webinar Network - Hospice Medical Review in a Medicare-Certified World
DESCRIPTION:
URL:https://healthcareprovidersolutions.com/event/hospice-and-home-care-webinar-network-hospice-medical-review-in-a-medicare-certified-world-2/
LOCATION:Webinar
CATEGORIES:Hospice
ATTACH;FMTTYPE=image/png:https://healthcareprovidersolutions.com/wp-content/uploads/HHWN.png
END:VEVENT
BEGIN:VEVENT
DTSTART;VALUE=DATE:20240505
DTEND;VALUE=DATE:20240508
DTSTAMP:20260425T084428
CREATED:20240315T135043Z
LAST-MODIFIED:20240315T135043Z
UID:10000669-1714867200-1715126399@healthcareprovidersolutions.com
SUMMARY:2024 TAHC Annual Conference
DESCRIPTION:
URL:https://healthcareprovidersolutions.com/event/2024-tahc-annual-conference/
LOCATION:The Franklin Marriott Cool Springs Hotel\, 700 Cool Springs Blvd\, Franklin\, TN\, 37067\, United States
CATEGORIES:Home Care,Hospice
ATTACH;FMTTYPE=image/png:https://healthcareprovidersolutions.com/wp-content/uploads/TAHC-Event-Thumbnail-1.png
GEO:35.9472122;-86.8062988
X-APPLE-STRUCTURED-LOCATION;VALUE=URI;X-ADDRESS=The Franklin Marriott Cool Springs Hotel 700 Cool Springs Blvd Franklin TN 37067 United States;X-APPLE-RADIUS=500;X-TITLE=700 Cool Springs Blvd:geo:-86.8062988,35.9472122
END:VEVENT
BEGIN:VEVENT
DTSTART;VALUE=DATE:20240508
DTEND;VALUE=DATE:20240510
DTSTAMP:20260425T084428
CREATED:20240327T150117Z
LAST-MODIFIED:20240327T151308Z
UID:10000672-1715126400-1715299199@healthcareprovidersolutions.com
SUMMARY:HHAU Spring 2024 Home Health & Hospice Conference
DESCRIPTION:
URL:https://healthcareprovidersolutions.com/event/hhau-spring-2024-home-health-hospice-conference/
LOCATION:SLCC Miller Conference Center\, 9750 S 300 W\, Sandy\, UT\, 84070\, United States
CATEGORIES:Home Care,Hospice
ATTACH;FMTTYPE=image/jpeg:https://healthcareprovidersolutions.com/wp-content/uploads/HHAU_Thumb.jpg
GEO:40.5745814;-111.9018395
X-APPLE-STRUCTURED-LOCATION;VALUE=URI;X-ADDRESS=SLCC Miller Conference Center 9750 S 300 W Sandy UT 84070 United States;X-APPLE-RADIUS=500;X-TITLE=9750 S 300 W:geo:-111.9018395,40.5745814
END:VEVENT
BEGIN:VEVENT
DTSTART;TZID=America/New_York:20240508T120000
DTEND;TZID=America/New_York:20240508T140000
DTSTAMP:20260425T084428
CREATED:20240408T164238Z
LAST-MODIFIED:20240408T164631Z
UID:10000676-1715169600-1715176800@healthcareprovidersolutions.com
SUMMARY:ACHCU Hospice Billing Series Class 2: Billing Process and Overview of Requirements
DESCRIPTION:
URL:https://healthcareprovidersolutions.com/event/achcu-hospice-billing-series-class-2-billing-process-and-overview-of-requirements/
LOCATION:Virtual\, IN\, United States
CATEGORIES:Hospice
ATTACH;FMTTYPE=image/jpeg:https://healthcareprovidersolutions.com/wp-content/uploads/ACHCU_Thumb.jpg
GEO:37.09024;-95.712891
END:VEVENT
BEGIN:VEVENT
DTSTART;TZID=America/Chicago:20240509T120000
DTEND;TZID=America/Chicago:20240509T133000
DTSTAMP:20260425T084428
CREATED:20231205T172305Z
LAST-MODIFIED:20240429T164319Z
UID:10000615-1715256000-1715261400@healthcareprovidersolutions.com
SUMMARY:Home Health & Hospice QAPI:  Digging in the Data
DESCRIPTION:
URL:https://healthcareprovidersolutions.com/event/hh-hospice-qapi-digging-in-the-data/
LOCATION:Webinar
CATEGORIES:Home Care,Hospice,Speaking Engagement
ATTACH;FMTTYPE=image/png:https://healthcareprovidersolutions.com/wp-content/uploads/Home-Health.png
END:VEVENT
BEGIN:VEVENT
DTSTART;VALUE=DATE:20240515
DTEND;VALUE=DATE:20240517
DTSTAMP:20260425T084428
CREATED:20240327T163404Z
LAST-MODIFIED:20240425T150020Z
UID:10000674-1715731200-1715903999@healthcareprovidersolutions.com
SUMMARY:2024 TAHC&H Spring Conference
DESCRIPTION:
URL:https://healthcareprovidersolutions.com/event/2024-tahch-spring-conference/
LOCATION:Webinar
CATEGORIES:Home Care,Hospice
ATTACH;FMTTYPE=image/png:https://healthcareprovidersolutions.com/wp-content/uploads/TAHCH-Event-Thumbnail.png
END:VEVENT
BEGIN:VEVENT
DTSTART;TZID=America/New_York:20240515T120000
DTEND;TZID=America/New_York:20240515T140000
DTSTAMP:20260425T084428
CREATED:20240408T172137Z
LAST-MODIFIED:20240408T172137Z
UID:10000677-1715774400-1715781600@healthcareprovidersolutions.com
SUMMARY:ACHCU Hospice Billing Series Class 3: HIS Transmission Requirements\, PEPPER\, Palliative Care
DESCRIPTION:
URL:https://healthcareprovidersolutions.com/event/achcu-hospice-billing-series-class-3-his-transmission-requirements-pepper-palliative-care/
LOCATION:Webinar
CATEGORIES:Hospice
ATTACH;FMTTYPE=image/jpeg:https://healthcareprovidersolutions.com/wp-content/uploads/ACHCU_Thumb.jpg
END:VEVENT
BEGIN:VEVENT
DTSTART;TZID=America/New_York:20240516T110000
DTEND;TZID=America/New_York:20240516T120000
DTSTAMP:20260425T084428
CREATED:20240115T213317Z
LAST-MODIFIED:20240115T213317Z
UID:10000658-1715857200-1715860800@healthcareprovidersolutions.com
SUMMARY:OCHCH Hospice PEPPER Reports & Impact on Medical Review
DESCRIPTION:
URL:https://healthcareprovidersolutions.com/event/ochch-hospice-pepper-reports-impact-on-medical-review/
LOCATION:Webinar
CATEGORIES:Hospice
ATTACH;FMTTYPE=image/png:https://healthcareprovidersolutions.com/wp-content/uploads/OCHCH-1.png
END:VEVENT
BEGIN:VEVENT
DTSTART;TZID=America/Chicago:20240605T110000
DTEND;TZID=America/Chicago:20240605T130000
DTSTAMP:20260425T084428
CREATED:20240514T164534Z
LAST-MODIFIED:20240514T164534Z
UID:10000681-1717585200-1717592400@healthcareprovidersolutions.com
SUMMARY:IHHC Connects – Region V
DESCRIPTION:
URL:https://healthcareprovidersolutions.com/event/ihhc-connects-region-v/
LOCATION:Virtual\, IN\, United States
CATEGORIES:Home Care,Hospice
ATTACH;FMTTYPE=image/png:https://healthcareprovidersolutions.com/wp-content/uploads/IHHC-Event-Thumbnail.png
GEO:37.09024;-95.712891
END:VEVENT
BEGIN:VEVENT
DTSTART;TZID=America/Chicago:20240606T140000
DTEND;TZID=America/Chicago:20240606T160000
DTSTAMP:20260425T084428
CREATED:20240514T164857Z
LAST-MODIFIED:20240514T165029Z
UID:10000682-1717682400-1717689600@healthcareprovidersolutions.com
SUMMARY:IHHC Connects - Region VI
DESCRIPTION:
URL:https://healthcareprovidersolutions.com/event/ihhc-connects-region-vi/
LOCATION:Virtual\, IN\, United States
CATEGORIES:Home Care,Hospice
ATTACH;FMTTYPE=image/png:https://healthcareprovidersolutions.com/wp-content/uploads/IHHC-Event-Thumbnail.png
GEO:37.09024;-95.712891
END:VEVENT
BEGIN:VEVENT
DTSTART;TZID=America/Chicago:20240611T113000
DTEND;TZID=America/Chicago:20240611T133000
DTSTAMP:20260425T084428
CREATED:20240514T165235Z
LAST-MODIFIED:20240514T165235Z
UID:10000683-1718105400-1718112600@healthcareprovidersolutions.com
SUMMARY:IHHC Connects - Region IV
DESCRIPTION:
URL:https://healthcareprovidersolutions.com/event/ihhc-connects-region-iv/
LOCATION:Virtual\, IN\, United States
CATEGORIES:Home Care,Hospice
ATTACH;FMTTYPE=image/png:https://healthcareprovidersolutions.com/wp-content/uploads/IHHC-Event-Thumbnail.png
GEO:37.09024;-95.712891
END:VEVENT
BEGIN:VEVENT
DTSTART;TZID=America/Chicago:20240613T120000
DTEND;TZID=America/Chicago:20240613T140000
DTSTAMP:20260425T084428
CREATED:20240514T165516Z
LAST-MODIFIED:20240514T165516Z
UID:10000684-1718280000-1718287200@healthcareprovidersolutions.com
SUMMARY:IHHC Connects - Region III
DESCRIPTION:
URL:https://healthcareprovidersolutions.com/event/ihhc-connects-region-iii/
LOCATION:Virtual\, IN\, United States
CATEGORIES:Home Care,Hospice
ATTACH;FMTTYPE=image/png:https://healthcareprovidersolutions.com/wp-content/uploads/IHHC-Event-Thumbnail.png
GEO:37.09024;-95.712891
END:VEVENT
BEGIN:VEVENT
DTSTART;TZID=America/Chicago:20240614T090000
DTEND;TZID=America/Chicago:20240614T110000
DTSTAMP:20260425T084428
CREATED:20240514T165803Z
LAST-MODIFIED:20240514T165803Z
UID:10000685-1718355600-1718362800@healthcareprovidersolutions.com
SUMMARY:IHHC Connects - Region I
DESCRIPTION:
URL:https://healthcareprovidersolutions.com/event/ihhc-connects-region-i/
LOCATION:Virtual\, IN\, United States
CATEGORIES:Home Care,Hospice
ATTACH;FMTTYPE=image/png:https://healthcareprovidersolutions.com/wp-content/uploads/IHHC-Event-Thumbnail.png
GEO:37.09024;-95.712891
END:VEVENT
BEGIN:VEVENT
DTSTART;VALUE=DATE:20240618
DTEND;VALUE=DATE:20240620
DTSTAMP:20260425T084428
CREATED:20231227T161608Z
LAST-MODIFIED:20250402T190717Z
UID:10000646-1718668800-1718841599@healthcareprovidersolutions.com
SUMMARY:2024 HPS Alliance Hospice Workshop
DESCRIPTION:
URL:https://healthcareprovidersolutions.com/event/2024-hps-alliance-hospice-workshop/
LOCATION:Healthcare Provider Solutions\, 402 BNA Drive\, Nashville\, TN\, 37214\, United States
CATEGORIES:Hospice,Speaking Engagement
ATTACH;FMTTYPE=image/png:https://healthcareprovidersolutions.com/wp-content/uploads/HPS-Hospice.png
GEO:36.1377765;-86.6986497
X-APPLE-STRUCTURED-LOCATION;VALUE=URI;X-ADDRESS=Healthcare Provider Solutions 402 BNA Drive Nashville TN 37214 United States;X-APPLE-RADIUS=500;X-TITLE=402 BNA Drive:geo:-86.6986497,36.1377765
END:VEVENT
BEGIN:VEVENT
DTSTART;TZID=America/Chicago:20240620T090000
DTEND;TZID=America/Chicago:20240620T110000
DTSTAMP:20260425T084428
CREATED:20240514T172137Z
LAST-MODIFIED:20240514T172137Z
UID:10000686-1718874000-1718881200@healthcareprovidersolutions.com
SUMMARY:IHHC Connects - Region II
DESCRIPTION:
URL:https://healthcareprovidersolutions.com/event/ihhc-connects-region-ii/
LOCATION:Virtual\, IN\, United States
CATEGORIES:Home Care,Hospice
ATTACH;FMTTYPE=image/png:https://healthcareprovidersolutions.com/wp-content/uploads/IHHC-Event-Thumbnail.png
GEO:37.09024;-95.712891
END:VEVENT
BEGIN:VEVENT
DTSTART;TZID=America/Chicago:20240711T120000
DTEND;TZID=America/Chicago:20240711T133000
DTSTAMP:20260425T084428
CREATED:20231205T174831Z
LAST-MODIFIED:20240425T172729Z
UID:10000617-1720699200-1720704600@healthcareprovidersolutions.com
SUMMARY:Home Health and Hospice Emergency Preparedness: Implementing the Plan Before\, During and After an Emergency
DESCRIPTION:
URL:https://healthcareprovidersolutions.com/event/home-health-and-hospice-emergency-preparedness-implementing-the-plan-before-during-and-after-an-emergency/
LOCATION:Webinar
CATEGORIES:Home Care,Hospice,Speaking Engagement
ATTACH;FMTTYPE=image/png:https://healthcareprovidersolutions.com/wp-content/uploads/Home-Health.png
END:VEVENT
BEGIN:VEVENT
DTSTART;TZID=America/Chicago:20240731T140000
DTEND;TZID=America/Chicago:20240731T153000
DTSTAMP:20260425T084428
CREATED:20231213T210014Z
LAST-MODIFIED:20240814T124156Z
UID:10000625-1722434400-1722439800@healthcareprovidersolutions.com
SUMMARY:Hospice and Home Care Webinar Network - Hospice Eligibility Documentation: Drilling Down the Details
DESCRIPTION:
URL:https://healthcareprovidersolutions.com/event/hospice-and-home-care-webinar-network-hospice-eligibility-documentation-drilling-down-the-details/
LOCATION:Webinar
CATEGORIES:Hospice
ATTACH;FMTTYPE=image/png:https://healthcareprovidersolutions.com/wp-content/uploads/HHWN.png
END:VEVENT
BEGIN:VEVENT
DTSTART;TZID=America/Chicago:20240815T120000
DTEND;TZID=America/Chicago:20240815T133000
DTSTAMP:20260425T084428
CREATED:20231205T180010Z
LAST-MODIFIED:20240425T172821Z
UID:10000618-1723723200-1723728600@healthcareprovidersolutions.com
SUMMARY:2025 Hospice Final Rule
DESCRIPTION:
URL:https://healthcareprovidersolutions.com/event/2025-hospice-final-rule/
LOCATION:Webinar
CATEGORIES:Hospice,Speaking Engagement
ATTACH;FMTTYPE=image/png:https://healthcareprovidersolutions.com/wp-content/uploads/HPS-Hospice.png
END:VEVENT
BEGIN:VEVENT
DTSTART;TZID=America/New_York:20240827T110000
DTEND;TZID=America/New_York:20240827T120000
DTSTAMP:20260425T084428
CREATED:20240115T214328Z
LAST-MODIFIED:20240115T214415Z
UID:10000660-1724756400-1724760000@healthcareprovidersolutions.com
SUMMARY:OCHCH Hospice Final Rule
DESCRIPTION:
URL:https://healthcareprovidersolutions.com/event/ochch-hospice-final-rule-2/
LOCATION:Webinar
CATEGORIES:Hospice
ATTACH;FMTTYPE=image/png:https://healthcareprovidersolutions.com/wp-content/uploads/OCHCH-1.png
END:VEVENT
BEGIN:VEVENT
DTSTART;TZID=America/Chicago:20240828T140000
DTEND;TZID=America/Chicago:20240828T153000
DTSTAMP:20260425T084428
CREATED:20231213T211025Z
LAST-MODIFIED:20240815T161559Z
UID:10000626-1724853600-1724859000@healthcareprovidersolutions.com
SUMMARY:Hospice and Home Care Webinar Network - Hospice Final Rule & Regulatory Update for 2025
DESCRIPTION:
URL:https://healthcareprovidersolutions.com/event/hospice-and-home-care-webinar-network-hospice-final-rule-regulatory-update-for-2025/
LOCATION:Webinar
CATEGORIES:Hospice
ATTACH;FMTTYPE=image/png:https://healthcareprovidersolutions.com/wp-content/uploads/HHWN.png
END:VEVENT
BEGIN:VEVENT
DTSTART;TZID=America/Chicago:20240912T120000
DTEND;TZID=America/Chicago:20240912T133000
DTSTAMP:20260425T084428
CREATED:20231205T183330Z
LAST-MODIFIED:20240826T133434Z
UID:10000619-1726142400-1726147800@healthcareprovidersolutions.com
SUMMARY:ICD-10 Coding Update: New Codes & Claims Issues
DESCRIPTION:
URL:https://healthcareprovidersolutions.com/event/icd-10-coding-update-new-codes-claims-issues/
LOCATION:Webinar
CATEGORIES:Home Care,Hospice,Speaking Engagement
ATTACH;FMTTYPE=image/png:https://healthcareprovidersolutions.com/wp-content/uploads/HPS-Hospice.png
END:VEVENT
BEGIN:VEVENT
DTSTART;VALUE=DATE:20240914
DTEND;VALUE=DATE:20240919
DTSTAMP:20260425T084428
CREATED:20240809T182921Z
LAST-MODIFIED:20240815T141502Z
UID:10000716-1726272000-1726703999@healthcareprovidersolutions.com
SUMMARY:2024 NHPCO Annual Leadership Conference
DESCRIPTION:
URL:https://healthcareprovidersolutions.com/event/2024-nhpco-annual-leadership-conference/
LOCATION:Sheraton Denver Downtown Hotel\, Court Place\, Denver\, CO\, 80202\, United States
CATEGORIES:Hospice
ATTACH;FMTTYPE=image/jpeg:https://healthcareprovidersolutions.com/wp-content/uploads/Event-NHPCO.jpg
GEO:39.7421094;-104.9899234
X-APPLE-STRUCTURED-LOCATION;VALUE=URI;X-ADDRESS=Sheraton Denver Downtown Hotel Court Place Denver CO 80202 United States;X-APPLE-RADIUS=500;X-TITLE=Court Place:geo:-104.9899234,39.7421094
END:VEVENT
BEGIN:VEVENT
DTSTART;TZID=America/Chicago:20240916T140000
DTEND;TZID=America/Chicago:20240916T153000
DTSTAMP:20260425T084428
CREATED:20231213T211558Z
LAST-MODIFIED:20240919T174547Z
UID:10000627-1726495200-1726500600@healthcareprovidersolutions.com
SUMMARY:Hospice and Home Care Webinar Network - 2024 Hospice Billing Series
DESCRIPTION:
URL:https://healthcareprovidersolutions.com/event/hospice-and-home-care-webinar-network-2024-hospice-billing-series-part-1-eligibility-requirements-notice-of-election/
LOCATION:Webinar
CATEGORIES:Hospice
ATTACH;FMTTYPE=image/png:https://healthcareprovidersolutions.com/wp-content/uploads/HHWN.png
END:VEVENT
END:VCALENDAR