BEGIN:VCALENDAR
VERSION:2.0
PRODID:-//Home Care &amp; Hospice Resource - Healthcare Provider Solutions - ECPv6.15.18//NONSGML v1.0//EN
CALSCALE:GREGORIAN
METHOD:PUBLISH
X-WR-CALNAME:Home Care &amp; Hospice Resource - Healthcare Provider Solutions
X-ORIGINAL-URL:https://healthcareprovidersolutions.com
X-WR-CALDESC:Events for Home Care &amp; Hospice Resource - Healthcare Provider Solutions
REFRESH-INTERVAL;VALUE=DURATION:PT1H
X-Robots-Tag:noindex
X-PUBLISHED-TTL:PT1H
BEGIN:VTIMEZONE
TZID:America/Chicago
BEGIN:DAYLIGHT
TZOFFSETFROM:-0600
TZOFFSETTO:-0500
TZNAME:CDT
DTSTART:20250309T080000
END:DAYLIGHT
BEGIN:STANDARD
TZOFFSETFROM:-0500
TZOFFSETTO:-0600
TZNAME:CST
DTSTART:20251102T070000
END:STANDARD
BEGIN:DAYLIGHT
TZOFFSETFROM:-0600
TZOFFSETTO:-0500
TZNAME:CDT
DTSTART:20260308T080000
END:DAYLIGHT
BEGIN:STANDARD
TZOFFSETFROM:-0500
TZOFFSETTO:-0600
TZNAME:CST
DTSTART:20261101T070000
END:STANDARD
BEGIN:DAYLIGHT
TZOFFSETFROM:-0600
TZOFFSETTO:-0500
TZNAME:CDT
DTSTART:20270314T080000
END:DAYLIGHT
BEGIN:STANDARD
TZOFFSETFROM:-0500
TZOFFSETTO:-0600
TZNAME:CST
DTSTART:20271107T070000
END:STANDARD
END:VTIMEZONE
BEGIN:VEVENT
DTSTART;TZID=America/Chicago:20260716T120000
DTEND;TZID=America/Chicago:20260716T133000
DTSTAMP:20260423T040752
CREATED:20260106T220141Z
LAST-MODIFIED:20260113T151615Z
UID:10000890-1784203200-1784208600@healthcareprovidersolutions.com
SUMMARY:The Hospice HOPE Tool – Where the Change Has Taken Us!
DESCRIPTION:
URL:https://healthcareprovidersolutions.com/event/the-hospice-hope-tool-where-the-change-has-taken-us/
LOCATION:Webinar
CATEGORIES:Hospice,Speaking Engagement
ATTACH;FMTTYPE=image/jpeg:https://healthcareprovidersolutions.com/wp-content/uploads/Webinar_071626-1.jpg
END:VEVENT
BEGIN:VEVENT
DTSTART;VALUE=DATE:20260729
DTEND;VALUE=DATE:20260801
DTSTAMP:20260423T040752
CREATED:20260408T211344Z
LAST-MODIFIED:20260408T211344Z
UID:10000950-1785283200-1785542399@healthcareprovidersolutions.com
SUMMARY:LMHPCO Annual Summer Conference 2026
DESCRIPTION:
URL:https://healthcareprovidersolutions.com/event/lmhpco-annual-summer-conference-2026/
LOCATION:Loews New Orleans Hotel\, 300 Poydras Street\, New Orleans\, LA\, 70130\, United States
CATEGORIES:Home Care,Hospice
ATTACH;FMTTYPE=image/jpeg:https://healthcareprovidersolutions.com/wp-content/uploads/LMHPCO_Event.jpg
GEO:29.9480635;-90.0661004
X-APPLE-STRUCTURED-LOCATION;VALUE=URI;X-ADDRESS=Loews New Orleans Hotel 300 Poydras Street New Orleans LA 70130 United States;X-APPLE-RADIUS=500;X-TITLE=300 Poydras Street:geo:-90.0661004,29.9480635
END:VEVENT
BEGIN:VEVENT
DTSTART;TZID=America/Chicago:20260729T120000
DTEND;TZID=America/Chicago:20260729T130000
DTSTAMP:20260423T040752
CREATED:20260106T221226Z
LAST-MODIFIED:20260113T151509Z
UID:10000891-1785326400-1785330000@healthcareprovidersolutions.com
SUMMARY:HPS FREE Webinar - The "H" Word:  Preparing Team Members to Provide Supportive Hospice Consultations
DESCRIPTION:
URL:https://healthcareprovidersolutions.com/event/hps-free-webinar-the-h-word-preparing-team-members-to-provide-supportive-hospice-consultations/
LOCATION:Webinar
CATEGORIES:Hospice,Speaking Engagement
ATTACH;FMTTYPE=image/jpeg:https://healthcareprovidersolutions.com/wp-content/uploads/Webinar_072926-1.jpg
END:VEVENT
BEGIN:VEVENT
DTSTART;TZID=America/Chicago:20260730T140000
DTEND;TZID=America/Chicago:20260730T153000
DTSTAMP:20260423T040752
CREATED:20260122T175116Z
LAST-MODIFIED:20260122T175116Z
UID:10000917-1785420000-1785425400@healthcareprovidersolutions.com
SUMMARY:eeWebinar - The HOPE Tool Part 2: Driving the Plan & Quality of Care
DESCRIPTION:
URL:https://healthcareprovidersolutions.com/event/eewebinar-the-hope-tool-part-2-driving-the-plan-quality-of-care/
LOCATION:Webinar
CATEGORIES:Hospice
ATTACH;FMTTYPE=image/png:https://healthcareprovidersolutions.com/wp-content/uploads/HHWN.png
END:VEVENT
BEGIN:VEVENT
DTSTART;TZID=America/Chicago:20260813T100000
DTEND;TZID=America/Chicago:20260813T110000
DTSTAMP:20260423T040752
CREATED:20260122T175733Z
LAST-MODIFIED:20260413T200822Z
UID:10000919-1786615200-1786618800@healthcareprovidersolutions.com
SUMMARY:Hospice Hot Topic Webinar Series: Hospice Quality Reporting Program (HQRP)
DESCRIPTION:
URL:https://healthcareprovidersolutions.com/event/hospice-hot-topic-webinar-series-hospice-quality-reporting-program-hqrp/
LOCATION:Webinar
CATEGORIES:Hospice
ATTACH;FMTTYPE=image/jpeg:https://healthcareprovidersolutions.com/wp-content/uploads/PHA_Thumb.jpg
END:VEVENT
BEGIN:VEVENT
DTSTART;TZID=America/Chicago:20260824T140000
DTEND;TZID=America/Chicago:20260824T150000
DTSTAMP:20260423T040752
CREATED:20260324T133404Z
LAST-MODIFIED:20260324T133404Z
UID:10000940-1787580000-1787583600@healthcareprovidersolutions.com
SUMMARY:eeWebinar - HOPE Tool Part 3: Where the Change Has Taken Us
DESCRIPTION:
URL:https://healthcareprovidersolutions.com/event/eewebinar-hope-tool-part-3-where-the-change-has-taken-us/
LOCATION:Webinar
CATEGORIES:Hospice
ATTACH;FMTTYPE=image/png:https://healthcareprovidersolutions.com/wp-content/uploads/HHWN.png
END:VEVENT
BEGIN:VEVENT
DTSTART;TZID=America/Chicago:20260831T140000
DTEND;TZID=America/Chicago:20260831T153000
DTSTAMP:20260423T040752
CREATED:20260122T175915Z
LAST-MODIFIED:20260413T160147Z
UID:10000920-1788184800-1788190200@healthcareprovidersolutions.com
SUMMARY:eeWebinar - The Hospice Final Rule & 2027 Quality Update
DESCRIPTION:
URL:https://healthcareprovidersolutions.com/event/eewebinar-the-hospice-final-rule-2027-quality-update/
LOCATION:Webinar
CATEGORIES:Hospice
ATTACH;FMTTYPE=image/png:https://healthcareprovidersolutions.com/wp-content/uploads/HHWN.png
END:VEVENT
BEGIN:VEVENT
DTSTART;TZID=America/Chicago:20260901T140000
DTEND;TZID=America/Chicago:20260901T153000
DTSTAMP:20260423T040752
CREATED:20260122T180211Z
LAST-MODIFIED:20260122T180211Z
UID:10000921-1788271200-1788276600@healthcareprovidersolutions.com
SUMMARY:eeWebinar - Hospice Billing Series: Part 1: Hospice Eligbility & Notice of Election
DESCRIPTION:
URL:https://healthcareprovidersolutions.com/event/eewebinar-hospice-billing-series-part-1-hospice-eligbility-notice-of-election/
LOCATION:Webinar
CATEGORIES:Hospice
ATTACH;FMTTYPE=image/png:https://healthcareprovidersolutions.com/wp-content/uploads/HHWN.png
END:VEVENT
BEGIN:VEVENT
DTSTART;TZID=America/Chicago:20260910T100000
DTEND;TZID=America/Chicago:20260910T110000
DTSTAMP:20260423T040752
CREATED:20260122T180940Z
LAST-MODIFIED:20260122T180940Z
UID:10000923-1789034400-1789038000@healthcareprovidersolutions.com
SUMMARY:Hospice Hot Topic Webinar Series: Hospice Medical Review Hot Topics
DESCRIPTION:
URL:https://healthcareprovidersolutions.com/event/hospice-hot-topic-webinar-series-hospice-medical-review-hot-topics/
LOCATION:Webinar
CATEGORIES:Hospice
ATTACH;FMTTYPE=image/jpeg:https://healthcareprovidersolutions.com/wp-content/uploads/PHA_Thumb.jpg
END:VEVENT
BEGIN:VEVENT
DTSTART;VALUE=DATE:20260915
DTEND;VALUE=DATE:20260917
DTSTAMP:20260423T040752
CREATED:20260422T181358Z
LAST-MODIFIED:20260422T181358Z
UID:10000954-1789430400-1789603199@healthcareprovidersolutions.com
SUMMARY:2026 KHCHA Annual Conference
DESCRIPTION:
URL:https://healthcareprovidersolutions.com/event/2026-khcha-annual-conference/
LOCATION:Wichita Marriott Hotel\, East Corporate Hills Drive\, Wichita\, KS\, 67207\, United States
CATEGORIES:Home Care,Hospice
ATTACH;FMTTYPE=image/png:https://healthcareprovidersolutions.com/wp-content/uploads/KHCHA-Conference-Event-Thumbnail-copy.png
GEO:37.6817478;-97.2306116
X-APPLE-STRUCTURED-LOCATION;VALUE=URI;X-ADDRESS=Wichita Marriott Hotel East Corporate Hills Drive Wichita KS 67207 United States;X-APPLE-RADIUS=500;X-TITLE=East Corporate Hills Drive:geo:-97.2306116,37.6817478
END:VEVENT
BEGIN:VEVENT
DTSTART;TZID=America/Chicago:20260917T120000
DTEND;TZID=America/Chicago:20260917T133000
DTSTAMP:20260423T040752
CREATED:20260107T150308Z
LAST-MODIFIED:20260107T213024Z
UID:10000893-1789646400-1789651800@healthcareprovidersolutions.com
SUMMARY:2026 Hospice Final Payment & Quality Update Rule
DESCRIPTION:
URL:https://healthcareprovidersolutions.com/event/2026-hospice-final-payment-quality-update-rule-2/
LOCATION:Webinar
CATEGORIES:Hospice,Speaking Engagement
ATTACH;FMTTYPE=image/jpeg:https://healthcareprovidersolutions.com/wp-content/uploads/Webinar_091726.jpg
END:VEVENT
BEGIN:VEVENT
DTSTART;TZID=America/Chicago:20260917T140000
DTEND;TZID=America/Chicago:20260917T153000
DTSTAMP:20260423T040752
CREATED:20260122T181226Z
LAST-MODIFIED:20260122T181226Z
UID:10000924-1789653600-1789659000@healthcareprovidersolutions.com
SUMMARY:eeWebinar - Hospice Billing Series: Part 2: Medicare Hospice Claims Processing & Election Statement
DESCRIPTION:
URL:https://healthcareprovidersolutions.com/event/eewebinar-hospice-billing-series-part-2-medicare-hospice-claims-processing-election-statement/
LOCATION:Webinar
CATEGORIES:Hospice
ATTACH;FMTTYPE=image/png:https://healthcareprovidersolutions.com/wp-content/uploads/HHWN.png
END:VEVENT
BEGIN:VEVENT
DTSTART;TZID=America/Chicago:20261006T140000
DTEND;TZID=America/Chicago:20261006T153000
DTSTAMP:20260423T040752
CREATED:20260122T204141Z
LAST-MODIFIED:20260122T204141Z
UID:10000925-1791295200-1791300600@healthcareprovidersolutions.com
SUMMARY:eeWebinar - Hospice Billing Series: Part 3: Face-to-Face\, Physician Billing & HOPE Compliance
DESCRIPTION:
URL:https://healthcareprovidersolutions.com/event/eewebinar-hospice-billing-series-part-3-face-to-face-physician-billing-hope-compliance/
LOCATION:Webinar
CATEGORIES:Hospice
ATTACH;FMTTYPE=image/png:https://healthcareprovidersolutions.com/wp-content/uploads/HHWN.png
END:VEVENT
BEGIN:VEVENT
DTSTART;TZID=America/Chicago:20261008T100000
DTEND;TZID=America/Chicago:20261008T110000
DTSTAMP:20260423T040752
CREATED:20260122T204411Z
LAST-MODIFIED:20260122T204411Z
UID:10000926-1791453600-1791457200@healthcareprovidersolutions.com
SUMMARY:Hospice Hot Topic Webinar Series: Hospice Foundations & Compliance
DESCRIPTION:
URL:https://healthcareprovidersolutions.com/event/hospice-hot-topic-webinar-series-hospice-foundations-compliance/
LOCATION:Webinar
CATEGORIES:Hospice
ATTACH;FMTTYPE=image/jpeg:https://healthcareprovidersolutions.com/wp-content/uploads/PHA_Thumb.jpg
END:VEVENT
BEGIN:VEVENT
DTSTART;TZID=America/Chicago:20261112T100000
DTEND;TZID=America/Chicago:20261112T110000
DTSTAMP:20260423T040752
CREATED:20260122T205322Z
LAST-MODIFIED:20260122T205322Z
UID:10000929-1794477600-1794481200@healthcareprovidersolutions.com
SUMMARY:Hospice Hot Topic Webinar Series: What is Hot in Survey Compliance?
DESCRIPTION:
URL:https://healthcareprovidersolutions.com/event/hospice-hot-topic-webinar-series-what-is-hot-in-survey-compliance/
LOCATION:Webinar
CATEGORIES:Hospice
ATTACH;FMTTYPE=image/jpeg:https://healthcareprovidersolutions.com/wp-content/uploads/PHA_Thumb.jpg
END:VEVENT
BEGIN:VEVENT
DTSTART;TZID=America/Chicago:20261210T100000
DTEND;TZID=America/Chicago:20261210T110000
DTSTAMP:20260423T040752
CREATED:20260122T205733Z
LAST-MODIFIED:20260122T205733Z
UID:10000930-1796896800-1796900400@healthcareprovidersolutions.com
SUMMARY:Hospice Hot Topic Webinar Series: Hospice Compliance with Face-to-Face & CTI
DESCRIPTION:
URL:https://healthcareprovidersolutions.com/event/hospice-hot-topic-webinar-series-hospice-compliance-with-face-to-face-cti/
LOCATION:Webinar
CATEGORIES:Hospice
ATTACH;FMTTYPE=image/jpeg:https://healthcareprovidersolutions.com/wp-content/uploads/PHA_Thumb.jpg
END:VEVENT
BEGIN:VEVENT
DTSTART;TZID=America/Chicago:20261217T120000
DTEND;TZID=America/Chicago:20261217T133000
DTSTAMP:20260423T040752
CREATED:20260107T155805Z
LAST-MODIFIED:20260107T213223Z
UID:10000897-1797508800-1797514200@healthcareprovidersolutions.com
SUMMARY:Hospice Revenue Cycle Management
DESCRIPTION:
URL:https://healthcareprovidersolutions.com/event/hospice-revenue-cycle-management/
LOCATION:Webinar
CATEGORIES:Hospice,Speaking Engagement
ATTACH;FMTTYPE=image/jpeg:https://healthcareprovidersolutions.com/wp-content/uploads/Webinar_121726.jpg
END:VEVENT
END:VCALENDAR