BEGIN:VCALENDAR
VERSION:2.0
PRODID:-//Home Care &amp; Hospice Resource - Healthcare Provider Solutions - ECPv6.15.18//NONSGML v1.0//EN
CALSCALE:GREGORIAN
METHOD:PUBLISH
X-WR-CALNAME:Home Care &amp; Hospice Resource - Healthcare Provider Solutions
X-ORIGINAL-URL:https://healthcareprovidersolutions.com
X-WR-CALDESC:Events for Home Care &amp; Hospice Resource - Healthcare Provider Solutions
REFRESH-INTERVAL;VALUE=DURATION:PT1H
X-Robots-Tag:noindex
X-PUBLISHED-TTL:PT1H
BEGIN:VTIMEZONE
TZID:America/Chicago
BEGIN:DAYLIGHT
TZOFFSETFROM:-0600
TZOFFSETTO:-0500
TZNAME:CDT
DTSTART:20240310T080000
END:DAYLIGHT
BEGIN:STANDARD
TZOFFSETFROM:-0500
TZOFFSETTO:-0600
TZNAME:CST
DTSTART:20241103T070000
END:STANDARD
BEGIN:DAYLIGHT
TZOFFSETFROM:-0600
TZOFFSETTO:-0500
TZNAME:CDT
DTSTART:20250309T080000
END:DAYLIGHT
BEGIN:STANDARD
TZOFFSETFROM:-0500
TZOFFSETTO:-0600
TZNAME:CST
DTSTART:20251102T070000
END:STANDARD
BEGIN:DAYLIGHT
TZOFFSETFROM:-0600
TZOFFSETTO:-0500
TZNAME:CDT
DTSTART:20260308T080000
END:DAYLIGHT
BEGIN:STANDARD
TZOFFSETFROM:-0500
TZOFFSETTO:-0600
TZNAME:CST
DTSTART:20261101T070000
END:STANDARD
BEGIN:DAYLIGHT
TZOFFSETFROM:-0600
TZOFFSETTO:-0500
TZNAME:CDT
DTSTART:20270314T080000
END:DAYLIGHT
BEGIN:STANDARD
TZOFFSETFROM:-0500
TZOFFSETTO:-0600
TZNAME:CST
DTSTART:20271107T070000
END:STANDARD
END:VTIMEZONE
BEGIN:VTIMEZONE
TZID:America/New_York
BEGIN:DAYLIGHT
TZOFFSETFROM:-0500
TZOFFSETTO:-0400
TZNAME:EDT
DTSTART:20240310T070000
END:DAYLIGHT
BEGIN:STANDARD
TZOFFSETFROM:-0400
TZOFFSETTO:-0500
TZNAME:EST
DTSTART:20241103T060000
END:STANDARD
BEGIN:DAYLIGHT
TZOFFSETFROM:-0500
TZOFFSETTO:-0400
TZNAME:EDT
DTSTART:20250309T070000
END:DAYLIGHT
BEGIN:STANDARD
TZOFFSETFROM:-0400
TZOFFSETTO:-0500
TZNAME:EST
DTSTART:20251102T060000
END:STANDARD
BEGIN:DAYLIGHT
TZOFFSETFROM:-0500
TZOFFSETTO:-0400
TZNAME:EDT
DTSTART:20260308T070000
END:DAYLIGHT
BEGIN:STANDARD
TZOFFSETFROM:-0400
TZOFFSETTO:-0500
TZNAME:EST
DTSTART:20261101T060000
END:STANDARD
END:VTIMEZONE
BEGIN:VEVENT
DTSTART;TZID=America/Chicago:20250814T120000
DTEND;TZID=America/Chicago:20250814T133000
DTSTAMP:20260423T144950
CREATED:20241216T222639Z
LAST-MODIFIED:20250114T180537Z
UID:10000777-1755172800-1755178200@healthcareprovidersolutions.com
SUMMARY:2026 Hospice Final Payment & Quality Update Rule
DESCRIPTION:
URL:https://healthcareprovidersolutions.com/event/2026-hospice-final-payment-quality-update-rule/
LOCATION:Webinar
CATEGORIES:Hospice,Speaking Engagement
ATTACH;FMTTYPE=image/jpeg:https://healthcareprovidersolutions.com/wp-content/uploads/Thumbnail_081425.jpg
END:VEVENT
BEGIN:VEVENT
DTSTART;VALUE=DATE:20250819
DTEND;VALUE=DATE:20250822
DTSTAMP:20260423T144950
CREATED:20250716T132828Z
LAST-MODIFIED:20250716T132828Z
UID:10000848-1755561600-1755820799@healthcareprovidersolutions.com
SUMMARY:Hospice Administrator Certificate Program
DESCRIPTION:
URL:https://healthcareprovidersolutions.com/event/hospice-administrator-certificate-program/
LOCATION:Caesars Palace\, Las Vegas\, 3570 S Las Vegas Blvd\, Las Vegas\, NV\, 89109\, United States
CATEGORIES:Hospice
ATTACH;FMTTYPE=image/png:https://healthcareprovidersolutions.com/wp-content/uploads/CAHSAH-2.png
GEO:36.1159646;-115.1769093
X-APPLE-STRUCTURED-LOCATION;VALUE=URI;X-ADDRESS=Caesars Palace Las Vegas 3570 S Las Vegas Blvd Las Vegas NV 89109 United States;X-APPLE-RADIUS=500;X-TITLE=3570 S Las Vegas Blvd:geo:-115.1769093,36.1159646
END:VEVENT
BEGIN:VEVENT
DTSTART;TZID=America/New_York:20250821T110000
DTEND;TZID=America/New_York:20250821T123000
DTSTAMP:20260423T144950
CREATED:20250116T195847Z
LAST-MODIFIED:20250121T182710Z
UID:10000811-1755774000-1755779400@healthcareprovidersolutions.com
SUMMARY:OCHCH 2026 Hospice Final Payment & Quality Update Rule
DESCRIPTION:
URL:https://healthcareprovidersolutions.com/event/ochch-2026-hospice-final-payment-quality-update-rule/
LOCATION:Webinar
CATEGORIES:Hospice
ATTACH;FMTTYPE=image/png:https://healthcareprovidersolutions.com/wp-content/uploads/OCHCH-1.png
END:VEVENT
BEGIN:VEVENT
DTSTART;TZID=America/Chicago:20250821T140000
DTEND;TZID=America/Chicago:20250821T153000
DTSTAMP:20260423T144950
CREATED:20241021T193853Z
LAST-MODIFIED:20250714T164808Z
UID:10000735-1755784800-1755790200@healthcareprovidersolutions.com
SUMMARY:Hospice and Home Care Webinar Network – Hospice Final Rule & Regulatory Update 2026
DESCRIPTION:
URL:https://healthcareprovidersolutions.com/event/hospice-and-home-care-webinar-network-hospice-final-rule-regulatory-update-2025/
LOCATION:Webinar
CATEGORIES:Hospice
ATTACH;FMTTYPE=image/png:https://healthcareprovidersolutions.com/wp-content/uploads/HHWN.png
END:VEVENT
BEGIN:VEVENT
DTSTART;VALUE=DATE:20250826
DTEND;VALUE=DATE:20250829
DTSTAMP:20260423T144950
CREATED:20250605T145551Z
LAST-MODIFIED:20250605T145551Z
UID:10000845-1756166400-1756425599@healthcareprovidersolutions.com
SUMMARY:2025 TAHC&H Annual Conference
DESCRIPTION:
URL:https://healthcareprovidersolutions.com/event/2025-tahch-annual-conference/
LOCATION:The Woodlands Waterway Marriott Hotel & Convention Center\,  The Woodlands\, TX\,  
CATEGORIES:Home Care,Hospice
ATTACH;FMTTYPE=image/png:https://healthcareprovidersolutions.com/wp-content/uploads/TAHCH-Event-Thumbnail.png
END:VEVENT
BEGIN:VEVENT
DTSTART;TZID=America/Chicago:20250911T100000
DTEND;TZID=America/Chicago:20250911T110000
DTSTAMP:20260423T144950
CREATED:20250218T200040Z
LAST-MODIFIED:20250911T135238Z
UID:10000826-1757584800-1757588400@healthcareprovidersolutions.com
SUMMARY:PHA Hospice Hot Topic Webinar Series: Top Hospice Survey Deficiencies
DESCRIPTION:
URL:https://healthcareprovidersolutions.com/event/pha-hospice-hot-topic-webinar-series-top-hospice-survey-deficiencies/
LOCATION:Webinar
CATEGORIES:Hospice
ATTACH;FMTTYPE=image/jpeg:https://healthcareprovidersolutions.com/wp-content/uploads/PHA_Thumb.jpg
END:VEVENT
BEGIN:VEVENT
DTSTART;TZID=America/Chicago:20250915T080000
DTEND;TZID=America/Chicago:20250916T170000
DTSTAMP:20260423T144950
CREATED:20250911T145831Z
LAST-MODIFIED:20250911T145831Z
UID:10000865-1757923200-1758042000@healthcareprovidersolutions.com
SUMMARY:OCHCH Annual Conference & Trade Show 2025
DESCRIPTION:
URL:https://healthcareprovidersolutions.com/event/ochch-annual-conference-trade-show-2025/
LOCATION:Renaissance Columbus Westerville\, 409 Altair Pkwy\, Westerville\, OH\, 43082\, United States
CATEGORIES:Home Care,Hospice
ATTACH;FMTTYPE=image/png:https://healthcareprovidersolutions.com/wp-content/uploads/OCHCH-1.png
GEO:40.1430544;-82.9430614
X-APPLE-STRUCTURED-LOCATION;VALUE=URI;X-ADDRESS=Renaissance Columbus Westerville 409 Altair Pkwy Westerville OH 43082 United States;X-APPLE-RADIUS=500;X-TITLE=409 Altair Pkwy:geo:-82.9430614,40.1430544
END:VEVENT
BEGIN:VEVENT
DTSTART;VALUE=DATE:20250916
DTEND;VALUE=DATE:20250919
DTSTAMP:20260423T144950
CREATED:20250313T134052Z
LAST-MODIFIED:20250820T132455Z
UID:10000832-1757980800-1758239999@healthcareprovidersolutions.com
SUMMARY:2025 KHCHA Annual Conference
DESCRIPTION:
URL:https://healthcareprovidersolutions.com/event/2025-khcha-annual-conference/
LOCATION:DoubleTree by Hilton – Lawrence\, KS\, 200 McDonald Dr\, Lawrence\, KS\, 66044\, United States
CATEGORIES:Home Care,Hospice
ATTACH;FMTTYPE=image/png:https://healthcareprovidersolutions.com/wp-content/uploads/KHCHA-Conference-Event-Thumbnail-copy.png
GEO:38.9797423;-95.2570689
X-APPLE-STRUCTURED-LOCATION;VALUE=URI;X-ADDRESS=DoubleTree by Hilton – Lawrence KS 200 McDonald Dr Lawrence KS 66044 United States;X-APPLE-RADIUS=500;X-TITLE=200 McDonald Dr:geo:-95.2570689,38.9797423
END:VEVENT
BEGIN:VEVENT
DTSTART;TZID=America/Chicago:20250917T140000
DTEND;TZID=America/Chicago:20250917T153000
DTSTAMP:20260423T144950
CREATED:20241021T195002Z
LAST-MODIFIED:20241021T195002Z
UID:10000736-1758117600-1758123000@healthcareprovidersolutions.com
SUMMARY:Hospice and Home Care Webinar Network – Hospice Billing Series: Hospice Eligibility & Notice of Election
DESCRIPTION:
URL:https://healthcareprovidersolutions.com/event/hospice-and-home-care-webinar-network-hospice-billing-series-hospice-eligibility-notice-of-election/
LOCATION:Webinar
CATEGORIES:Hospice
ATTACH;FMTTYPE=image/png:https://healthcareprovidersolutions.com/wp-content/uploads/HHWN.png
END:VEVENT
BEGIN:VEVENT
DTSTART;TZID=America/Chicago:20250924T140000
DTEND;TZID=America/Chicago:20250924T153000
DTSTAMP:20260423T144950
CREATED:20241021T195334Z
LAST-MODIFIED:20241021T195412Z
UID:10000737-1758722400-1758727800@healthcareprovidersolutions.com
SUMMARY:Hospice and Home Care Webinar Network – Hospice Billing Series: Medicare Claims Processing & Avoiding Errors
DESCRIPTION:
URL:https://healthcareprovidersolutions.com/event/hospice-and-home-care-webinar-network-hospice-billing-series-medicare-claims-processing-avoiding-errors/
LOCATION:Webinar
CATEGORIES:Hospice
ATTACH;FMTTYPE=image/png:https://healthcareprovidersolutions.com/wp-content/uploads/HHWN.png
END:VEVENT
BEGIN:VEVENT
DTSTART;VALUE=DATE:20250928
DTEND;VALUE=DATE:20251001
DTSTAMP:20260423T144950
CREATED:20250911T133018Z
LAST-MODIFIED:20250919T131211Z
UID:10000864-1759017600-1759276799@healthcareprovidersolutions.com
SUMMARY:2025 MACtoberfest
DESCRIPTION:
URL:https://healthcareprovidersolutions.com/event/2025-mactoberfest/
LOCATION:Pastides Alumni Center\, 900 Senate Street\, Columbia\, SC\, 29201\, United States
CATEGORIES:Home Care,Hospice
ATTACH;FMTTYPE=image/jpeg:https://healthcareprovidersolutions.com/wp-content/uploads/Event-Palmetto.jpg
GEO:33.9981198;-81.0372168
X-APPLE-STRUCTURED-LOCATION;VALUE=URI;X-ADDRESS=Pastides Alumni Center 900 Senate Street Columbia SC 29201 United States;X-APPLE-RADIUS=500;X-TITLE=900 Senate Street:geo:-81.0372168,33.9981198
END:VEVENT
BEGIN:VEVENT
DTSTART;TZID=America/Chicago:20251002T140000
DTEND;TZID=America/Chicago:20251002T153000
DTSTAMP:20260423T144950
CREATED:20241021T195700Z
LAST-MODIFIED:20241021T195723Z
UID:10000738-1759413600-1759419000@healthcareprovidersolutions.com
SUMMARY:Hospice and Home Care Webinar Network – Hospice Billing Series: Face-to-Face\, Physician Billing & Hospice Cap
DESCRIPTION:
URL:https://healthcareprovidersolutions.com/event/hospice-and-home-care-webinar-network-hospice-billing-series-face-to-face-physician-billing-hospice-cap/
LOCATION:Webinar
CATEGORIES:Hospice
ATTACH;FMTTYPE=image/png:https://healthcareprovidersolutions.com/wp-content/uploads/HHWN.png
END:VEVENT
BEGIN:VEVENT
DTSTART;VALUE=DATE:20251005
DTEND;VALUE=DATE:20251008
DTSTAMP:20260423T144950
CREATED:20250812T203858Z
LAST-MODIFIED:20250812T203858Z
UID:10000859-1759622400-1759881599@healthcareprovidersolutions.com
SUMMARY:2025 AHHC Leadership Conference
DESCRIPTION:
URL:https://healthcareprovidersolutions.com/event/2025-ahhc-leadership-conference/
LOCATION:1706 N Lumina Ave Wrightsville Beach\, NC 28480\, 1706 N Lumina Ave\, Wrightsville Beach\, NC\, 28480\, United States
CATEGORIES:Home Care,Hospice
ATTACH;FMTTYPE=image/png:https://healthcareprovidersolutions.com/wp-content/uploads/AHHC-2.png
GEO:34.2203694;-77.7857356
X-APPLE-STRUCTURED-LOCATION;VALUE=URI;X-ADDRESS=1706 N Lumina Ave Wrightsville Beach NC 28480 1706 N Lumina Ave Wrightsville Beach NC 28480 United States;X-APPLE-RADIUS=500;X-TITLE=1706 N Lumina Ave:geo:-77.7857356,34.2203694
END:VEVENT
BEGIN:VEVENT
DTSTART;TZID=America/Chicago:20251009T100000
DTEND;TZID=America/Chicago:20251009T110000
DTSTAMP:20260423T144950
CREATED:20250218T200245Z
LAST-MODIFIED:20250224T152223Z
UID:10000827-1760004000-1760007600@healthcareprovidersolutions.com
SUMMARY:PHA Hospice Hot Topic Webinar Series: Emergency Preparedness Essentials
DESCRIPTION:
URL:https://healthcareprovidersolutions.com/event/pha-hospice-hot-topic-webinar-series-emergency-preparedness-essentials/
LOCATION:Webinar
CATEGORIES:Hospice
ATTACH;FMTTYPE=image/jpeg:https://healthcareprovidersolutions.com/wp-content/uploads/PHA_Thumb.jpg
END:VEVENT
BEGIN:VEVENT
DTSTART;TZID=America/Chicago:20251009T120000
DTEND;TZID=America/Chicago:20251009T133000
DTSTAMP:20260423T144950
CREATED:20241217T144756Z
LAST-MODIFIED:20250114T180722Z
UID:10000779-1760011200-1760016600@healthcareprovidersolutions.com
SUMMARY:Hospice QAPI Update
DESCRIPTION:
URL:https://healthcareprovidersolutions.com/event/hospice-qapi-update/
LOCATION:Webinar
CATEGORIES:Hospice,Speaking Engagement
ATTACH;FMTTYPE=image/jpeg:https://healthcareprovidersolutions.com/wp-content/uploads/Thumbnail_100925.jpg
END:VEVENT
BEGIN:VEVENT
DTSTART;VALUE=DATE:20251016
DTEND;VALUE=DATE:20251018
DTSTAMP:20260423T144950
CREATED:20250630T150816Z
LAST-MODIFIED:20250811T140326Z
UID:10000847-1760572800-1760745599@healthcareprovidersolutions.com
SUMMARY:2025 Hospice Financial Administration Conference
DESCRIPTION:
URL:https://healthcareprovidersolutions.com/event/2025-hospice-financial-administration-conference/
LOCATION:Hilton Orlando Lake Buena Vista @ Walt Disney World Resort\, 1751 Hotel Plaza Blvd\, Lake Buena Vista\, FL\, 32830\, United States
CATEGORIES:Hospice
ATTACH;FMTTYPE=image/jpeg:https://healthcareprovidersolutions.com/wp-content/uploads/Health-Group-Featured.jpg
GEO:28.3727086;-81.5109515
X-APPLE-STRUCTURED-LOCATION;VALUE=URI;X-ADDRESS=Hilton Orlando Lake Buena Vista @ Walt Disney World Resort 1751 Hotel Plaza Blvd Lake Buena Vista FL 32830 United States;X-APPLE-RADIUS=500;X-TITLE=1751 Hotel Plaza Blvd:geo:-81.5109515,28.3727086
END:VEVENT
BEGIN:VEVENT
DTSTART;VALUE=DATE:20251109
DTEND;VALUE=DATE:20251112
DTSTAMP:20260423T144950
CREATED:20250728T155543Z
LAST-MODIFIED:20250801T164212Z
UID:10000850-1762646400-1762905599@healthcareprovidersolutions.com
SUMMARY:2025 TAHC Fall Conference
DESCRIPTION:
URL:https://healthcareprovidersolutions.com/event/2025-tahc-fall-conference/
LOCATION:The Park Vista Hotel\, 705 Cherokee Orchard Rd.\, Gatlinburg\, 37738\, United States
CATEGORIES:Home Care,Hospice
ATTACH;FMTTYPE=image/png:https://healthcareprovidersolutions.com/wp-content/uploads/TAHC-Event-Thumbnail-1.png
GEO:35.7037001;-83.5127456
X-APPLE-STRUCTURED-LOCATION;VALUE=URI;X-ADDRESS=The Park Vista Hotel 705 Cherokee Orchard Rd. Gatlinburg 37738 United States;X-APPLE-RADIUS=500;X-TITLE=705 Cherokee Orchard Rd.:geo:-83.5127456,35.7037001
END:VEVENT
BEGIN:VEVENT
DTSTART;VALUE=DATE:20251112
DTEND;VALUE=DATE:20251113
DTSTAMP:20260423T144950
CREATED:20251009T162517Z
LAST-MODIFIED:20251013T160829Z
UID:10000869-1762905600-1762991999@healthcareprovidersolutions.com
SUMMARY:IHHC Hospice Symposium 2025
DESCRIPTION:
URL:https://healthcareprovidersolutions.com/event/ihhc-hospice-symposium-2025/
LOCATION:Webinar
CATEGORIES:Hospice
ATTACH;FMTTYPE=image/png:https://healthcareprovidersolutions.com/wp-content/uploads/IHHC-Event-Thumbnail.png
END:VEVENT
BEGIN:VEVENT
DTSTART;TZID=America/Chicago:20251113T100000
DTEND;TZID=America/Chicago:20251113T110000
DTSTAMP:20260423T144950
CREATED:20250218T200501Z
LAST-MODIFIED:20250423T211012Z
UID:10000828-1763028000-1763031600@healthcareprovidersolutions.com
SUMMARY:PHA Hospice Hot Topic Webinar Series: Hospice Quality Reporting Program (HQRP)
DESCRIPTION:
URL:https://healthcareprovidersolutions.com/event/pha-hospice-hot-topic-webinar-series-hospice-quality-reporting-program-hqrp/
LOCATION:Webinar
CATEGORIES:Hospice
ATTACH;FMTTYPE=image/jpeg:https://healthcareprovidersolutions.com/wp-content/uploads/PHA_Thumb.jpg
END:VEVENT
BEGIN:VEVENT
DTSTART;VALUE=DATE:20251116
DTEND;VALUE=DATE:20251119
DTSTAMP:20260423T144950
CREATED:20250930T200350Z
LAST-MODIFIED:20251020T134917Z
UID:10000868-1763251200-1763510399@healthcareprovidersolutions.com
SUMMARY:2025 SCHCHA Annual Conference
DESCRIPTION:
URL:https://healthcareprovidersolutions.com/event/2025-schcha-annual-conference/
LOCATION:Westin Poinsette\, 120 S Main St\, Greenville\, SC\, 29601\, United States
CATEGORIES:Home Care,Hospice
ATTACH;FMTTYPE=image/png:https://healthcareprovidersolutions.com/wp-content/uploads/SCHCHA-Conference-Event-Thumbnail.png
GEO:34.8489727;-82.3999876
X-APPLE-STRUCTURED-LOCATION;VALUE=URI;X-ADDRESS=Westin Poinsette 120 S Main St Greenville SC 29601 United States;X-APPLE-RADIUS=500;X-TITLE=120 S Main St:geo:-82.3999876,34.8489727
END:VEVENT
BEGIN:VEVENT
DTSTART;TZID=America/Chicago:20251211T100000
DTEND;TZID=America/Chicago:20251211T110000
DTSTAMP:20260423T144950
CREATED:20250218T200717Z
LAST-MODIFIED:20250224T151723Z
UID:10000829-1765447200-1765450800@healthcareprovidersolutions.com
SUMMARY:PHA Hospice Hot Topic Webinar Series: Top Hospice Medical Review Denials
DESCRIPTION:
URL:https://healthcareprovidersolutions.com/event/pha-hospice-hot-topic-webinar-series-top-hospice-medical-review-denials/
LOCATION:Webinar
CATEGORIES:Hospice
ATTACH;FMTTYPE=image/jpeg:https://healthcareprovidersolutions.com/wp-content/uploads/PHA_Thumb.jpg
END:VEVENT
BEGIN:VEVENT
DTSTART;TZID=America/Chicago:20260108T100000
DTEND;TZID=America/Chicago:20260108T110000
DTSTAMP:20260423T144950
CREATED:20251205T163426Z
LAST-MODIFIED:20251215T170927Z
UID:10000876-1767866400-1767870000@healthcareprovidersolutions.com
SUMMARY:Hospice Hot Topic Webinar Series: HOPE
DESCRIPTION:
URL:https://healthcareprovidersolutions.com/event/hospice-hot-topic-webinar-series-hope/
LOCATION:Webinar
CATEGORIES:Hospice
ATTACH;FMTTYPE=image/jpeg:https://healthcareprovidersolutions.com/wp-content/uploads/PHA_Thumb.jpg
END:VEVENT
BEGIN:VEVENT
DTSTART;TZID=America/Chicago:20260115T120000
DTEND;TZID=America/Chicago:20260115T133000
DTSTAMP:20260423T144950
CREATED:20251216T173304Z
LAST-MODIFIED:20260107T211744Z
UID:10000880-1768478400-1768483800@healthcareprovidersolutions.com
SUMMARY:Building a Quality Culture In Your Organization!
DESCRIPTION:
URL:https://healthcareprovidersolutions.com/event/building-a-quality-culture-in-your-organization/
LOCATION:Webinar
CATEGORIES:Home Care,Hospice,Speaking Engagement
ATTACH;FMTTYPE=image/jpeg:https://healthcareprovidersolutions.com/wp-content/uploads/Webinar_011526-1.jpg
END:VEVENT
BEGIN:VEVENT
DTSTART;TZID=America/Chicago:20260115T140000
DTEND;TZID=America/Chicago:20260115T153000
DTSTAMP:20260423T144950
CREATED:20251121T180157Z
LAST-MODIFIED:20251126T182555Z
UID:10000871-1768485600-1768491000@healthcareprovidersolutions.com
SUMMARY:Hospice & Home Care Webinar Network: Hospice Eligibility & Skillful Documentation
DESCRIPTION:
URL:https://healthcareprovidersolutions.com/event/hospice-home-care-webinar-network-hospice-eligibility-skillful-documentation/
LOCATION:Healthcare Provider Solutions\, 402 BNA Drive\, Nashville\, TN\, 37214\, United States
CATEGORIES:Hospice
ATTACH;FMTTYPE=image/png:https://healthcareprovidersolutions.com/wp-content/uploads/HHWN.png
GEO:36.1377765;-86.6986497
X-APPLE-STRUCTURED-LOCATION;VALUE=URI;X-ADDRESS=Healthcare Provider Solutions 402 BNA Drive Nashville TN 37214 United States;X-APPLE-RADIUS=500;X-TITLE=402 BNA Drive:geo:-86.6986497,36.1377765
END:VEVENT
BEGIN:VEVENT
DTSTART;TZID=America/Chicago:20260128T120000
DTEND;TZID=America/Chicago:20260128T130000
DTSTAMP:20260423T144950
CREATED:20260106T191819Z
LAST-MODIFIED:20260126T183139Z
UID:10000883-1769601600-1769605200@healthcareprovidersolutions.com
SUMMARY:HPS FREE Webinar - Hospice:  Back to the Basics & Key Concepts
DESCRIPTION:
URL:https://healthcareprovidersolutions.com/event/hps-free-webinar-hospice-back-to-the-basics-key-concepts/
LOCATION:Webinar
CATEGORIES:Hospice,Speaking Engagement
ATTACH;FMTTYPE=image/jpeg:https://healthcareprovidersolutions.com/wp-content/uploads/Webinar_012826.jpg
END:VEVENT
BEGIN:VEVENT
DTSTART;TZID=America/Chicago:20260203T140000
DTEND;TZID=America/Chicago:20260203T150000
DTSTAMP:20260423T144950
CREATED:20251126T175129Z
LAST-MODIFIED:20260113T152628Z
UID:10000873-1770127200-1770130800@healthcareprovidersolutions.com
SUMMARY:eeWebinar - The "H" Word: Preparing Team Members to Provide Supportive Hospice Consultations
DESCRIPTION:
URL:https://healthcareprovidersolutions.com/event/eewebinar-the-h-word-preparing-team-members-to-provide-supportive-hospice-consultations/
LOCATION:Webinar
CATEGORIES:Hospice
ATTACH;FMTTYPE=image/png:https://healthcareprovidersolutions.com/wp-content/uploads/HHWN.png
END:VEVENT
BEGIN:VEVENT
DTSTART;TZID=America/Chicago:20260204T090000
DTEND;TZID=America/Chicago:20260205T160000
DTSTAMP:20260423T144950
CREATED:20260109T160138Z
LAST-MODIFIED:20260109T160138Z
UID:10000898-1770195600-1770307200@healthcareprovidersolutions.com
SUMMARY:2026 Hospice Regulatory & Reimbursement Workshop
DESCRIPTION:
URL:https://healthcareprovidersolutions.com/event/2026-hospice-regulatory-reimbursement-workshop/
LOCATION:Webinar
CATEGORIES:Hospice
ATTACH;FMTTYPE=image/png:https://healthcareprovidersolutions.com/wp-content/uploads/CAHSAH-2.png
END:VEVENT
BEGIN:VEVENT
DTSTART;TZID=America/Chicago:20260212T100000
DTEND;TZID=America/Chicago:20260212T110000
DTSTAMP:20260423T144950
CREATED:20251205T164453Z
LAST-MODIFIED:20251215T171027Z
UID:10000877-1770890400-1770894000@healthcareprovidersolutions.com
SUMMARY:Hospice Hot Topic Webinar Series: QAPI Data Highlights
DESCRIPTION:
URL:https://healthcareprovidersolutions.com/event/hospice-hot-topic-webinar-series-qapi-data-highlights/
LOCATION:Webinar
CATEGORIES:Hospice
ATTACH;FMTTYPE=image/jpeg:https://healthcareprovidersolutions.com/wp-content/uploads/PHA_Thumb.jpg
END:VEVENT
BEGIN:VEVENT
DTSTART;VALUE=DATE:20260218
DTEND;VALUE=DATE:20260220
DTSTAMP:20260423T144950
CREATED:20251208T204906Z
LAST-MODIFIED:20260129T155437Z
UID:10000879-1771372800-1771545599@healthcareprovidersolutions.com
SUMMARY:TAHC&H 2026 Winter Conference
DESCRIPTION:
URL:https://healthcareprovidersolutions.com/event/tahch-2026-winter-conference/
LOCATION:Dallas/Fort Worth Marriott Hotel & Golf Club at Champions Circle\, 3300 Championship Parkway\, Fort Worth\, TX\, 76177\, United States
CATEGORIES:Home Care,Hospice
ATTACH;FMTTYPE=image/png:https://healthcareprovidersolutions.com/wp-content/uploads/TAHCH-Event-Thumbnail.png
GEO:26.1005134;-80.1069573
X-APPLE-STRUCTURED-LOCATION;VALUE=URI;X-ADDRESS=Dallas/Fort Worth Marriott Hotel & Golf Club at Champions Circle 3300 Championship Parkway Fort Worth TX 76177 United States;X-APPLE-RADIUS=500;X-TITLE=3300 Championship Parkway:geo:-80.1069573,26.1005134
END:VEVENT
BEGIN:VEVENT
DTSTART;TZID=America/Chicago:20260219T120000
DTEND;TZID=America/Chicago:20260219T133000
DTSTAMP:20260423T144950
CREATED:20260106T193115Z
LAST-MODIFIED:20260107T212245Z
UID:10000884-1771502400-1771507800@healthcareprovidersolutions.com
SUMMARY:Hospice Eligibility & Skillful Documentation
DESCRIPTION:
URL:https://healthcareprovidersolutions.com/event/hospice-eligibility-skillful-documentation/
LOCATION:Webinar
CATEGORIES:Hospice,Speaking Engagement
ATTACH;FMTTYPE=image/jpeg:https://healthcareprovidersolutions.com/wp-content/uploads/Webinar_021926.jpg
END:VEVENT
END:VCALENDAR