BEGIN:VCALENDAR
VERSION:2.0
PRODID:-//Home Care &amp; Hospice Resource - Healthcare Provider Solutions - ECPv6.15.18//NONSGML v1.0//EN
CALSCALE:GREGORIAN
METHOD:PUBLISH
X-WR-CALNAME:Home Care &amp; Hospice Resource - Healthcare Provider Solutions
X-ORIGINAL-URL:https://healthcareprovidersolutions.com
X-WR-CALDESC:Events for Home Care &amp; Hospice Resource - Healthcare Provider Solutions
REFRESH-INTERVAL;VALUE=DURATION:PT1H
X-Robots-Tag:noindex
X-PUBLISHED-TTL:PT1H
BEGIN:VTIMEZONE
TZID:America/Los_Angeles
BEGIN:DAYLIGHT
TZOFFSETFROM:-0800
TZOFFSETTO:-0700
TZNAME:PDT
DTSTART:20230312T100000
END:DAYLIGHT
BEGIN:STANDARD
TZOFFSETFROM:-0700
TZOFFSETTO:-0800
TZNAME:PST
DTSTART:20231105T090000
END:STANDARD
BEGIN:DAYLIGHT
TZOFFSETFROM:-0800
TZOFFSETTO:-0700
TZNAME:PDT
DTSTART:20240310T100000
END:DAYLIGHT
BEGIN:STANDARD
TZOFFSETFROM:-0700
TZOFFSETTO:-0800
TZNAME:PST
DTSTART:20241103T090000
END:STANDARD
BEGIN:DAYLIGHT
TZOFFSETFROM:-0800
TZOFFSETTO:-0700
TZNAME:PDT
DTSTART:20250309T100000
END:DAYLIGHT
BEGIN:STANDARD
TZOFFSETFROM:-0700
TZOFFSETTO:-0800
TZNAME:PST
DTSTART:20251102T090000
END:STANDARD
BEGIN:DAYLIGHT
TZOFFSETFROM:-0800
TZOFFSETTO:-0700
TZNAME:PDT
DTSTART:20260308T100000
END:DAYLIGHT
BEGIN:STANDARD
TZOFFSETFROM:-0700
TZOFFSETTO:-0800
TZNAME:PST
DTSTART:20261101T090000
END:STANDARD
END:VTIMEZONE
BEGIN:VTIMEZONE
TZID:America/Chicago
BEGIN:DAYLIGHT
TZOFFSETFROM:-0600
TZOFFSETTO:-0500
TZNAME:CDT
DTSTART:20230312T080000
END:DAYLIGHT
BEGIN:STANDARD
TZOFFSETFROM:-0500
TZOFFSETTO:-0600
TZNAME:CST
DTSTART:20231105T070000
END:STANDARD
BEGIN:DAYLIGHT
TZOFFSETFROM:-0600
TZOFFSETTO:-0500
TZNAME:CDT
DTSTART:20240310T080000
END:DAYLIGHT
BEGIN:STANDARD
TZOFFSETFROM:-0500
TZOFFSETTO:-0600
TZNAME:CST
DTSTART:20241103T070000
END:STANDARD
BEGIN:DAYLIGHT
TZOFFSETFROM:-0600
TZOFFSETTO:-0500
TZNAME:CDT
DTSTART:20250309T080000
END:DAYLIGHT
BEGIN:STANDARD
TZOFFSETFROM:-0500
TZOFFSETTO:-0600
TZNAME:CST
DTSTART:20251102T070000
END:STANDARD
BEGIN:DAYLIGHT
TZOFFSETFROM:-0600
TZOFFSETTO:-0500
TZNAME:CDT
DTSTART:20260308T080000
END:DAYLIGHT
BEGIN:STANDARD
TZOFFSETFROM:-0500
TZOFFSETTO:-0600
TZNAME:CST
DTSTART:20261101T070000
END:STANDARD
END:VTIMEZONE
BEGIN:VTIMEZONE
TZID:America/New_York
BEGIN:DAYLIGHT
TZOFFSETFROM:-0500
TZOFFSETTO:-0400
TZNAME:EDT
DTSTART:20240310T070000
END:DAYLIGHT
BEGIN:STANDARD
TZOFFSETFROM:-0400
TZOFFSETTO:-0500
TZNAME:EST
DTSTART:20241103T060000
END:STANDARD
BEGIN:DAYLIGHT
TZOFFSETFROM:-0500
TZOFFSETTO:-0400
TZNAME:EDT
DTSTART:20250309T070000
END:DAYLIGHT
BEGIN:STANDARD
TZOFFSETFROM:-0400
TZOFFSETTO:-0500
TZNAME:EST
DTSTART:20251102T060000
END:STANDARD
BEGIN:DAYLIGHT
TZOFFSETFROM:-0500
TZOFFSETTO:-0400
TZNAME:EDT
DTSTART:20260308T070000
END:DAYLIGHT
BEGIN:STANDARD
TZOFFSETFROM:-0400
TZOFFSETTO:-0500
TZNAME:EST
DTSTART:20261101T060000
END:STANDARD
END:VTIMEZONE
BEGIN:VEVENT
DTSTART;TZID=America/Los_Angeles:20240930T100000
DTEND;TZID=America/Los_Angeles:20240930T113000
DTSTAMP:20260424T095047
CREATED:20240808T202217Z
LAST-MODIFIED:20240919T181453Z
UID:10000713-1727690400-1727695800@healthcareprovidersolutions.com
SUMMARY:CAHSAH Hospice Billing Series
DESCRIPTION:
URL:https://healthcareprovidersolutions.com/event/cahsah-hospice-billing-series-part-1-eligibility-requirements-notice-of-election/
LOCATION:Webinar
CATEGORIES:Hospice
ATTACH;FMTTYPE=image/png:https://healthcareprovidersolutions.com/wp-content/uploads/CAHSAH-2.png
END:VEVENT
BEGIN:VEVENT
DTSTART;TZID=America/Chicago:20241003T140000
DTEND;TZID=America/Chicago:20241003T153000
DTSTAMP:20260424T095047
CREATED:20231214T211715Z
LAST-MODIFIED:20240919T174302Z
UID:10000630-1727964000-1727969400@healthcareprovidersolutions.com
SUMMARY:Hospice and Home Care Webinar Network - 2024 Hospice Billing Series
DESCRIPTION:
URL:https://healthcareprovidersolutions.com/event/hospice-and-home-care-webinar-network-2024-hospice-billing-series-part-3-face-to-face-hospice-cap-physician-billing-pepper/
LOCATION:Webinar
CATEGORIES:Hospice
ATTACH;FMTTYPE=image/png:https://healthcareprovidersolutions.com/wp-content/uploads/HHWN.png
END:VEVENT
BEGIN:VEVENT
DTSTART;TZID=America/Los_Angeles:20241007T100000
DTEND;TZID=America/Los_Angeles:20241007T113000
DTSTAMP:20260424T095047
CREATED:20240808T210720Z
LAST-MODIFIED:20240919T181631Z
UID:10000714-1728295200-1728300600@healthcareprovidersolutions.com
SUMMARY:CAHSAH Hospice Billing Series
DESCRIPTION:
URL:https://healthcareprovidersolutions.com/event/cahsah-hospice-billing-series-part-2-details-of-medicare-claims-processing/
LOCATION:Webinar
CATEGORIES:Hospice
ATTACH;FMTTYPE=image/png:https://healthcareprovidersolutions.com/wp-content/uploads/CAHSAH-2.png
END:VEVENT
BEGIN:VEVENT
DTSTART;TZID=America/Chicago:20241010T090000
DTEND;TZID=America/Chicago:20241010T163000
DTSTAMP:20260424T095047
CREATED:20241001T203023Z
LAST-MODIFIED:20241001T203023Z
UID:10000725-1728550800-1728577800@healthcareprovidersolutions.com
SUMMARY:TAHC&H Fall Conference: Emergency Preparedness Strategies for Home Health and Hospice
DESCRIPTION:
URL:https://healthcareprovidersolutions.com/event/tahch-fall-conference-emergency-preparedness-strategies-for-home-health-and-hospice/
LOCATION:Webinar
CATEGORIES:Home Care,Hospice
ATTACH;FMTTYPE=image/png:https://healthcareprovidersolutions.com/wp-content/uploads/TAHCH-Event-Thumbnail.png
END:VEVENT
BEGIN:VEVENT
DTSTART;TZID=America/Los_Angeles:20241010T100000
DTEND;TZID=America/Los_Angeles:20241010T113000
DTSTAMP:20260424T095047
CREATED:20240808T211142Z
LAST-MODIFIED:20240919T181945Z
UID:10000715-1728554400-1728559800@healthcareprovidersolutions.com
SUMMARY:CAHSAH Hospice Billing Series
DESCRIPTION:
URL:https://healthcareprovidersolutions.com/event/cahsah-hospice-billing-series-part-3-face-to-face-hospice-cap-physician-billing-medical-review/
LOCATION:Webinar
CATEGORIES:Hospice
ATTACH;FMTTYPE=image/png:https://healthcareprovidersolutions.com/wp-content/uploads/CAHSAH-2.png
END:VEVENT
BEGIN:VEVENT
DTSTART;VALUE=DATE:20241106
DTEND;VALUE=DATE:20241107
DTSTAMP:20260424T095047
CREATED:20240708T163050Z
LAST-MODIFIED:20240923T132052Z
UID:10000709-1730851200-1730937599@healthcareprovidersolutions.com
SUMMARY:2024 IHHC Hospice Symposium
DESCRIPTION:
URL:https://healthcareprovidersolutions.com/event/2024-ihhc-hospice-symposium/
LOCATION:NIU Naperville Conference Center\, 1120 E. Diehl Rd.\, Naperville\, IL\, 60563\, United States
CATEGORIES:Hospice
ATTACH;FMTTYPE=image/png:https://healthcareprovidersolutions.com/wp-content/uploads/IHHC-Event-Thumbnail.png
GEO:41.8024866;-88.1318351
X-APPLE-STRUCTURED-LOCATION;VALUE=URI;X-ADDRESS=NIU Naperville Conference Center 1120 E. Diehl Rd. Naperville IL 60563 United States;X-APPLE-RADIUS=500;X-TITLE=1120 E. Diehl Rd.:geo:-88.1318351,41.8024866
END:VEVENT
BEGIN:VEVENT
DTSTART;VALUE=DATE:20241111
DTEND;VALUE=DATE:20241114
DTSTAMP:20260424T095047
CREATED:20241002T175441Z
LAST-MODIFIED:20241021T211021Z
UID:10000726-1731283200-1731542399@healthcareprovidersolutions.com
SUMMARY:TAHC&H Administrator Program
DESCRIPTION:
URL:https://healthcareprovidersolutions.com/event/tahch-administrator-program/
LOCATION:Westin Galleria Houston\, West Alabama Street\, Houston\, TX\, 77056\, United States
CATEGORIES:Home Care,Hospice
ATTACH;FMTTYPE=image/png:https://healthcareprovidersolutions.com/wp-content/uploads/TAHCH-Event-Thumbnail.png
GEO:29.7383756;-95.4646344
X-APPLE-STRUCTURED-LOCATION;VALUE=URI;X-ADDRESS=Westin Galleria Houston West Alabama Street Houston TX 77056 United States;X-APPLE-RADIUS=500;X-TITLE=West Alabama Street:geo:-95.4646344,29.7383756
END:VEVENT
BEGIN:VEVENT
DTSTART;TZID=America/Chicago:20241113T140000
DTEND;TZID=America/Chicago:20241113T153000
DTSTAMP:20260424T095047
CREATED:20231218T164413Z
LAST-MODIFIED:20241021T211527Z
UID:10000632-1731506400-1731511800@healthcareprovidersolutions.com
SUMMARY:Hospice and Home Care Webinar Network - 6 Core Compliance Practices for Infection Control & Prevention
DESCRIPTION:
URL:https://healthcareprovidersolutions.com/event/hospice-and-home-care-webinar-network-6-core-compliance-practices-for-infection-control-prevention/
LOCATION:Webinar
CATEGORIES:Hospice
ATTACH;FMTTYPE=image/png:https://healthcareprovidersolutions.com/wp-content/uploads/HHWN.png
END:VEVENT
BEGIN:VEVENT
DTSTART;TZID=America/Chicago:20241212T120000
DTEND;TZID=America/Chicago:20241212T133000
DTSTAMP:20260424T095047
CREATED:20231205T192952Z
LAST-MODIFIED:20241104T143259Z
UID:10000622-1734004800-1734010200@healthcareprovidersolutions.com
SUMMARY:Infection Prevention & Control for Home Health & Hospice
DESCRIPTION:
URL:https://healthcareprovidersolutions.com/event/infection-prevention-control-for-home-health-hospice/
LOCATION:Webinar
CATEGORIES:Home Care,Hospice,Speaking Engagement
ATTACH;FMTTYPE=image/png:https://healthcareprovidersolutions.com/wp-content/uploads/HPS-Hospice.png
END:VEVENT
BEGIN:VEVENT
DTSTART;TZID=America/Chicago:20241218T140000
DTEND;TZID=America/Chicago:20241218T153000
DTSTAMP:20260424T095047
CREATED:20231218T164712Z
LAST-MODIFIED:20241021T211724Z
UID:10000633-1734530400-1734535800@healthcareprovidersolutions.com
SUMMARY:Hospice and Home Care Webinar Network - Avoid the Top 5 Hospice Survey Deficiencies
DESCRIPTION:
URL:https://healthcareprovidersolutions.com/event/hospice-and-home-care-webinar-network-avoid-the-top-5-hospice-survey-deficiencies/
LOCATION:Webinar
CATEGORIES:Hospice
ATTACH;FMTTYPE=image/png:https://healthcareprovidersolutions.com/wp-content/uploads/HHWN.png
END:VEVENT
BEGIN:VEVENT
DTSTART;TZID=America/New_York:20250106T083000
DTEND;TZID=America/New_York:20250106T120000
DTSTAMP:20260424T095047
CREATED:20240904T195732Z
LAST-MODIFIED:20241008T180706Z
UID:10000721-1736152200-1736164800@healthcareprovidersolutions.com
SUMMARY:AHHCNC Hospice Reimbursement Workshop - Day 1
DESCRIPTION:
URL:https://healthcareprovidersolutions.com/event/ahhcnc-hospice-reimbursement-workshop-day-1/
LOCATION:Webinar
CATEGORIES:Hospice
ATTACH;FMTTYPE=image/png:https://healthcareprovidersolutions.com/wp-content/uploads/AHHC-2.png
END:VEVENT
BEGIN:VEVENT
DTSTART;TZID=America/Chicago:20250107T100000
DTEND;TZID=America/Chicago:20250107T113000
DTSTAMP:20260424T095047
CREATED:20241031T135531Z
LAST-MODIFIED:20241031T135531Z
UID:10000740-1736244000-1736249400@healthcareprovidersolutions.com
SUMMARY:FREE HPS Webinar - Hospice Billing Update 2025
DESCRIPTION:
URL:https://healthcareprovidersolutions.com/event/free-hps-webinar-hospice-billing-update-2025/
LOCATION:Webinar
CATEGORIES:Hospice,Speaking Engagement
ATTACH;FMTTYPE=image/png:https://healthcareprovidersolutions.com/wp-content/uploads/HPS-Hospice.png
END:VEVENT
BEGIN:VEVENT
DTSTART;VALUE=DATE:20250108
DTEND;VALUE=DATE:20250109
DTSTAMP:20260424T095047
CREATED:20240904T200137Z
LAST-MODIFIED:20241008T180910Z
UID:10000722-1736294400-1736380799@healthcareprovidersolutions.com
SUMMARY:AHHCNC Hospice Reimbursement Workshop - Day 2
DESCRIPTION:
URL:https://healthcareprovidersolutions.com/event/ahhcnc-hospice-reimbursement-workshop-day-2/
LOCATION:Webinar
CATEGORIES:Hospice
ATTACH;FMTTYPE=image/png:https://healthcareprovidersolutions.com/wp-content/uploads/AHHC-2.png
END:VEVENT
BEGIN:VEVENT
DTSTART;TZID=America/Chicago:20250109T120000
DTEND;TZID=America/Chicago:20250109T133000
DTSTAMP:20260424T095047
CREATED:20241216T174307Z
LAST-MODIFIED:20241216T174307Z
UID:10000768-1736424000-1736429400@healthcareprovidersolutions.com
SUMMARY:Hospice Medical Review
DESCRIPTION:
URL:https://healthcareprovidersolutions.com/event/hospice-medical-review/
LOCATION:Webinar
CATEGORIES:Hospice,Speaking Engagement
ATTACH;FMTTYPE=image/png:https://healthcareprovidersolutions.com/wp-content/uploads/HPS-Hospice.png
END:VEVENT
BEGIN:VEVENT
DTSTART;TZID=America/Chicago:20250116T140000
DTEND;TZID=America/Chicago:20250116T153000
DTSTAMP:20260424T095047
CREATED:20241021T181618Z
LAST-MODIFIED:20241202T164539Z
UID:10000727-1737036000-1737041400@healthcareprovidersolutions.com
SUMMARY:Hospice and Home Care Webinar Network – Hospice Conditions of Participation Versus Conditions of Payment: Understanding the Difference
DESCRIPTION:
URL:https://healthcareprovidersolutions.com/event/hospice-and-home-care-webinar-network-hospice-conditions-of-participation-versus-conditions-of-payment-understanding-the-difference/
LOCATION:Webinar
CATEGORIES:Hospice
ATTACH;FMTTYPE=image/png:https://healthcareprovidersolutions.com/wp-content/uploads/HHWN.png
END:VEVENT
BEGIN:VEVENT
DTSTART;TZID=America/Los_Angeles:20250120T083000
DTEND;TZID=America/Los_Angeles:20250121T120000
DTSTAMP:20260424T095047
CREATED:20241209T144323Z
LAST-MODIFIED:20241209T164714Z
UID:10000756-1737361800-1737460800@healthcareprovidersolutions.com
SUMMARY:CAHSAH Hospice Reimbursement Workshop
DESCRIPTION:
URL:https://healthcareprovidersolutions.com/event/cahsah-hospice-reimbursement-workshop/
LOCATION:Webinar
CATEGORIES:Hospice
ATTACH;FMTTYPE=image/png:https://healthcareprovidersolutions.com/wp-content/uploads/CAHSAH-2.png
END:VEVENT
BEGIN:VEVENT
DTSTART;TZID=America/Chicago:20250204T083000
DTEND;TZID=America/Chicago:20250204T120000
DTSTAMP:20260424T095047
CREATED:20241126T174331Z
LAST-MODIFIED:20241226T164226Z
UID:10000752-1738657800-1738670400@healthcareprovidersolutions.com
SUMMARY:KHCHA 2025 Hospice Winter Conference - Day 1
DESCRIPTION:
URL:https://healthcareprovidersolutions.com/event/khcha-2025-hospice-winter-conference-day-1/
LOCATION:Webinar
CATEGORIES:Hospice
ATTACH;FMTTYPE=image/png:https://healthcareprovidersolutions.com/wp-content/uploads/KHCHA-Conference-Event-Thumbnail-copy.png
END:VEVENT
BEGIN:VEVENT
DTSTART;TZID=America/Chicago:20250206T083000
DTEND;TZID=America/Chicago:20250206T120000
DTSTAMP:20260424T095047
CREATED:20241126T174558Z
LAST-MODIFIED:20241209T160636Z
UID:10000753-1738830600-1738843200@healthcareprovidersolutions.com
SUMMARY:KHCHA 2025 Hospice Winter Conference - Day 2
DESCRIPTION:
URL:https://healthcareprovidersolutions.com/event/khcha-2025-hospice-winter-conference-day-2/
LOCATION:Webinar
CATEGORIES:Hospice
ATTACH;FMTTYPE=image/png:https://healthcareprovidersolutions.com/wp-content/uploads/KHCHA-Conference-Event-Thumbnail-copy.png
END:VEVENT
BEGIN:VEVENT
DTSTART;TZID=America/New_York:20250212T110000
DTEND;TZID=America/New_York:20250212T123000
DTSTAMP:20260424T095047
CREATED:20250115T162426Z
LAST-MODIFIED:20250121T175344Z
UID:10000794-1739358000-1739363400@healthcareprovidersolutions.com
SUMMARY:OCHCH Navigating the Managed Care Landscape: Strategies for Home Health & Hospice Success
DESCRIPTION:
URL:https://healthcareprovidersolutions.com/event/ochch-navigating-the-managed-care-landscape-strategies-for-home-health-hospice-success/
LOCATION:Webinar
CATEGORIES:Home Care,Hospice
ATTACH;FMTTYPE=image/png:https://healthcareprovidersolutions.com/wp-content/uploads/OCHCH-1.png
END:VEVENT
BEGIN:VEVENT
DTSTART;TZID=America/New_York:20250213T110000
DTEND;TZID=America/New_York:20250213T123000
DTSTAMP:20260424T095047
CREATED:20250115T162811Z
LAST-MODIFIED:20250219T164217Z
UID:10000795-1739444400-1739449800@healthcareprovidersolutions.com
SUMMARY:OCHCH Hospice Conditions of Participation Versus Conditions of Payment: Understanding the Difference
DESCRIPTION:
URL:https://healthcareprovidersolutions.com/event/hospice-conditions-of-participation-versus-conditions-of-payment-understanding-the-difference/
LOCATION:Webinar
CATEGORIES:Hospice
ATTACH;FMTTYPE=image/png:https://healthcareprovidersolutions.com/wp-content/uploads/OCHCH-1.png
END:VEVENT
BEGIN:VEVENT
DTSTART;TZID=America/Chicago:20250213T120000
DTEND;TZID=America/Chicago:20250213T133000
DTSTAMP:20260424T095047
CREATED:20241216T200622Z
LAST-MODIFIED:20250114T174145Z
UID:10000769-1739448000-1739453400@healthcareprovidersolutions.com
SUMMARY:Navigating the Managed Care Landscape: Strategies for Home Health & Hospice Success
DESCRIPTION:
URL:https://healthcareprovidersolutions.com/event/navigating-the-managed-care-landscape-strategies-for-home-health-hospice-success/
LOCATION:Webinar
CATEGORIES:Home Care,Hospice,Speaking Engagement
ATTACH;FMTTYPE=image/jpeg:https://healthcareprovidersolutions.com/wp-content/uploads/Thumbnail_021325_2.jpg
END:VEVENT
BEGIN:VEVENT
DTSTART;TZID=America/Chicago:20250225T123000
DTEND;TZID=America/Chicago:20250225T140000
DTSTAMP:20260424T095047
CREATED:20241210T185558Z
LAST-MODIFIED:20250117T174843Z
UID:10000759-1740486600-1740492000@healthcareprovidersolutions.com
SUMMARY:TAHC&H Five Part Intentional Management of Comorbidities Series – Part 1: VBP and Rehospitalization Impacts
DESCRIPTION:
URL:https://healthcareprovidersolutions.com/event/tahch-five-part-comorbidity-series-part-1-value-based-purchasing/
LOCATION:Webinar
CATEGORIES:Home Care,Hospice
ATTACH;FMTTYPE=image/png:https://healthcareprovidersolutions.com/wp-content/uploads/TAHCH-Event-Thumbnail.png
END:VEVENT
BEGIN:VEVENT
DTSTART;TZID=America/Chicago:20250227T123000
DTEND;TZID=America/Chicago:20250227T140000
DTSTAMP:20260424T095047
CREATED:20241210T190034Z
LAST-MODIFIED:20250117T175004Z
UID:10000760-1740659400-1740664800@healthcareprovidersolutions.com
SUMMARY:TAHC&H Five Part Intentional Management of Comorbidities Series – Part 2: Strategies for CHF Management
DESCRIPTION:
URL:https://healthcareprovidersolutions.com/event/tahch-five-part-comorbidity-series-part-2-chf/
LOCATION:Webinar
CATEGORIES:Home Care,Hospice
ATTACH;FMTTYPE=image/png:https://healthcareprovidersolutions.com/wp-content/uploads/TAHCH-Event-Thumbnail.png
END:VEVENT
BEGIN:VEVENT
DTSTART;TZID=America/Chicago:20250304T123000
DTEND;TZID=America/Chicago:20250304T140000
DTSTAMP:20260424T095047
CREATED:20241210T190312Z
LAST-MODIFIED:20250117T175124Z
UID:10000761-1741091400-1741096800@healthcareprovidersolutions.com
SUMMARY:TAHC&H Five Part Intentional Management of Comorbidities Series – Part 3: Strategies for COPD Management
DESCRIPTION:
URL:https://healthcareprovidersolutions.com/event/tahch-five-part-comorbidity-series-part-3-copd/
LOCATION:Webinar
CATEGORIES:Home Care,Hospice
ATTACH;FMTTYPE=image/png:https://healthcareprovidersolutions.com/wp-content/uploads/TAHCH-Event-Thumbnail.png
END:VEVENT
BEGIN:VEVENT
DTSTART;TZID=America/Chicago:20250306T123000
DTEND;TZID=America/Chicago:20250306T140000
DTSTAMP:20260424T095047
CREATED:20241210T191207Z
LAST-MODIFIED:20250117T175305Z
UID:10000762-1741264200-1741269600@healthcareprovidersolutions.com
SUMMARY:TAHC&H Five Part Intentional Management of Comorbidities Series – Part 4: Strategies for Diabetes Management
DESCRIPTION:
URL:https://healthcareprovidersolutions.com/event/tahch-five-part-comorbidity-series-part-4-dm/
LOCATION:Webinar
CATEGORIES:Home Care,Hospice
ATTACH;FMTTYPE=image/png:https://healthcareprovidersolutions.com/wp-content/uploads/TAHCH-Event-Thumbnail.png
END:VEVENT
BEGIN:VEVENT
DTSTART;TZID=America/Chicago:20250306T140000
DTEND;TZID=America/Chicago:20250306T153000
DTSTAMP:20260424T095047
CREATED:20241021T183307Z
LAST-MODIFIED:20241021T183701Z
UID:10000729-1741269600-1741275000@healthcareprovidersolutions.com
SUMMARY:Hospice and Home Care Webinar Network – HOPE Tool Series: Part 1 - Impact on Hospice Quality Reporting Program & General Conventions for Completion
DESCRIPTION:
URL:https://healthcareprovidersolutions.com/event/hospice-and-home-care-webinar-network-hope-tool-series-part-1-impact-on-hospice-quality-reporting-program-general-conventions-for-completion/
LOCATION:Webinar
CATEGORIES:Hospice
ATTACH;FMTTYPE=image/png:https://healthcareprovidersolutions.com/wp-content/uploads/HHWN.png
END:VEVENT
BEGIN:VEVENT
DTSTART;TZID=America/Chicago:20250311T123000
DTEND;TZID=America/Chicago:20250311T140000
DTSTAMP:20260424T095047
CREATED:20241210T191522Z
LAST-MODIFIED:20250117T175414Z
UID:10000763-1741696200-1741701600@healthcareprovidersolutions.com
SUMMARY:TAHC&H Five Part Intentional Management of Comorbidities Series – Part 5: Strategies for Mental Health Crisis Management
DESCRIPTION:
URL:https://healthcareprovidersolutions.com/event/tahch-five-part-comorbidity-series-part-5-mental-health/
LOCATION:Webinar
CATEGORIES:Home Care,Hospice
ATTACH;FMTTYPE=image/png:https://healthcareprovidersolutions.com/wp-content/uploads/TAHCH-Event-Thumbnail.png
END:VEVENT
BEGIN:VEVENT
DTSTART;TZID=America/Chicago:20250312T140000
DTEND;TZID=America/Chicago:20250312T150000
DTSTAMP:20260424T095047
CREATED:20241021T184140Z
LAST-MODIFIED:20241021T184140Z
UID:10000730-1741788000-1741791600@healthcareprovidersolutions.com
SUMMARY:Hospice and Home Care Webinar Network – HOPE Tool Series: Part 2 - Sections A\, F I
DESCRIPTION:
URL:https://healthcareprovidersolutions.com/event/hospice-and-home-care-webinar-network-hope-tool-series-part-2-sections-a-f-i/
LOCATION:Webinar
CATEGORIES:Hospice
ATTACH;FMTTYPE=image/png:https://healthcareprovidersolutions.com/wp-content/uploads/HHWN.png
END:VEVENT
BEGIN:VEVENT
DTSTART;TZID=America/Chicago:20250313T100000
DTEND;TZID=America/Chicago:20250313T110000
DTSTAMP:20260424T095047
CREATED:20250218T193338Z
LAST-MODIFIED:20250224T153235Z
UID:10000820-1741860000-1741863600@healthcareprovidersolutions.com
SUMMARY:PHA Hospice Hot Topic Webinar Series: What's New - CAHPS Hospice Survey
DESCRIPTION:
URL:https://healthcareprovidersolutions.com/event/hospice-hot-topic-webinar-series-whats-new-cahps-hospice-survey/
LOCATION:Webinar
CATEGORIES:Hospice
ATTACH;FMTTYPE=image/jpeg:https://healthcareprovidersolutions.com/wp-content/uploads/PHA_Thumb.jpg
END:VEVENT
BEGIN:VEVENT
DTSTART;TZID=America/Chicago:20250313T120000
DTEND;TZID=America/Chicago:20250313T133000
DTSTAMP:20260424T095047
CREATED:20241216T205309Z
LAST-MODIFIED:20250225T172107Z
UID:10000770-1741867200-1741872600@healthcareprovidersolutions.com
SUMMARY:The Hospice HOPE Tool - Be Prepared for HOPE Success
DESCRIPTION:
URL:https://healthcareprovidersolutions.com/event/the-hospice-hope-tool-be-prepared-for-hope-success/
LOCATION:Webinar
CATEGORIES:Hospice,Speaking Engagement
ATTACH;FMTTYPE=image/jpeg:https://healthcareprovidersolutions.com/wp-content/uploads/Thumbnail_031325.jpg
END:VEVENT
END:VCALENDAR