BEGIN:VCALENDAR
VERSION:2.0
PRODID:-//Home Care &amp; Hospice Resource - Healthcare Provider Solutions - ECPv6.15.18//NONSGML v1.0//EN
CALSCALE:GREGORIAN
METHOD:PUBLISH
X-WR-CALNAME:Home Care &amp; Hospice Resource - Healthcare Provider Solutions
X-ORIGINAL-URL:https://healthcareprovidersolutions.com
X-WR-CALDESC:Events for Home Care &amp; Hospice Resource - Healthcare Provider Solutions
REFRESH-INTERVAL;VALUE=DURATION:PT1H
X-Robots-Tag:noindex
X-PUBLISHED-TTL:PT1H
BEGIN:VTIMEZONE
TZID:America/Chicago
BEGIN:DAYLIGHT
TZOFFSETFROM:-0600
TZOFFSETTO:-0500
TZNAME:CDT
DTSTART:20250309T080000
END:DAYLIGHT
BEGIN:STANDARD
TZOFFSETFROM:-0500
TZOFFSETTO:-0600
TZNAME:CST
DTSTART:20251102T070000
END:STANDARD
BEGIN:DAYLIGHT
TZOFFSETFROM:-0600
TZOFFSETTO:-0500
TZNAME:CDT
DTSTART:20260308T080000
END:DAYLIGHT
BEGIN:STANDARD
TZOFFSETFROM:-0500
TZOFFSETTO:-0600
TZNAME:CST
DTSTART:20261101T070000
END:STANDARD
BEGIN:DAYLIGHT
TZOFFSETFROM:-0600
TZOFFSETTO:-0500
TZNAME:CDT
DTSTART:20270314T080000
END:DAYLIGHT
BEGIN:STANDARD
TZOFFSETFROM:-0500
TZOFFSETTO:-0600
TZNAME:CST
DTSTART:20271107T070000
END:STANDARD
END:VTIMEZONE
BEGIN:VEVENT
DTSTART;TZID=America/Chicago:20260701T140000
DTEND;TZID=America/Chicago:20260701T153000
DTSTAMP:20260423T005100
CREATED:20260122T173129Z
LAST-MODIFIED:20260122T173129Z
UID:10000912-1782914400-1782919800@healthcareprovidersolutions.com
SUMMARY:eeWebinar - Hospice 101: Back to the Basics & Key Concepts
DESCRIPTION:
URL:https://healthcareprovidersolutions.com/event/eewebinar-hospice-101-back-to-the-basics-key-concepts/
LOCATION:Webinar
CATEGORIES:Hospice
ATTACH;FMTTYPE=image/png:https://healthcareprovidersolutions.com/wp-content/uploads/HHWN.png
END:VEVENT
BEGIN:VEVENT
DTSTART;TZID=America/Chicago:20260707T140000
DTEND;TZID=America/Chicago:20260707T150000
DTSTAMP:20260423T005100
CREATED:20260122T174011Z
LAST-MODIFIED:20260122T174011Z
UID:10000914-1783432800-1783436400@healthcareprovidersolutions.com
SUMMARY:eeWebinar - CAHPS Hospice Survey: How to Gauge Score Improvement in Scores
DESCRIPTION:
URL:https://healthcareprovidersolutions.com/event/eewebinar-cahps-hospice-survey-how-to-gauge-score-improvement-in-scores/
LOCATION:Webinar
CATEGORIES:Hospice
ATTACH;FMTTYPE=image/png:https://healthcareprovidersolutions.com/wp-content/uploads/HHWN.png
END:VEVENT
BEGIN:VEVENT
DTSTART;TZID=America/Chicago:20260709T100000
DTEND;TZID=America/Chicago:20260709T110000
DTSTAMP:20260423T005100
CREATED:20260122T174225Z
LAST-MODIFIED:20260122T174225Z
UID:10000915-1783591200-1783594800@healthcareprovidersolutions.com
SUMMARY:Hospice Hot Topic Webinar Series: Effective Hospice Plan of Care
DESCRIPTION:
URL:https://healthcareprovidersolutions.com/event/hospice-hot-topic-webinar-series-effective-hospice-plan-of-care/
LOCATION:Webinar
CATEGORIES:Hospice
ATTACH;FMTTYPE=image/jpeg:https://healthcareprovidersolutions.com/wp-content/uploads/PHA_Thumb.jpg
END:VEVENT
BEGIN:VEVENT
DTSTART;TZID=America/Chicago:20260714T140000
DTEND;TZID=America/Chicago:20260714T153000
DTSTAMP:20260423T005100
CREATED:20260122T174844Z
LAST-MODIFIED:20260122T174844Z
UID:10000916-1784037600-1784043000@healthcareprovidersolutions.com
SUMMARY:eeWebinar - The HOPE Tool Part 1: General Conventions\, Submission Requirements & Meeting the Compliance Threshold
DESCRIPTION:
URL:https://healthcareprovidersolutions.com/event/eewebinar-the-hope-tool-part-1-general-conventions-submission-requirements-meeting-the-compliance-threshold/
LOCATION:Webinar
CATEGORIES:Hospice
ATTACH;FMTTYPE=image/png:https://healthcareprovidersolutions.com/wp-content/uploads/HHWN.png
END:VEVENT
BEGIN:VEVENT
DTSTART;TZID=America/Chicago:20260716T120000
DTEND;TZID=America/Chicago:20260716T133000
DTSTAMP:20260423T005100
CREATED:20260106T220141Z
LAST-MODIFIED:20260113T151615Z
UID:10000890-1784203200-1784208600@healthcareprovidersolutions.com
SUMMARY:The Hospice HOPE Tool – Where the Change Has Taken Us!
DESCRIPTION:
URL:https://healthcareprovidersolutions.com/event/the-hospice-hope-tool-where-the-change-has-taken-us/
LOCATION:Webinar
CATEGORIES:Hospice,Speaking Engagement
ATTACH;FMTTYPE=image/jpeg:https://healthcareprovidersolutions.com/wp-content/uploads/Webinar_071626-1.jpg
END:VEVENT
BEGIN:VEVENT
DTSTART;VALUE=DATE:20260729
DTEND;VALUE=DATE:20260801
DTSTAMP:20260423T005100
CREATED:20260408T211344Z
LAST-MODIFIED:20260408T211344Z
UID:10000950-1785283200-1785542399@healthcareprovidersolutions.com
SUMMARY:LMHPCO Annual Summer Conference 2026
DESCRIPTION:
URL:https://healthcareprovidersolutions.com/event/lmhpco-annual-summer-conference-2026/
LOCATION:Loews New Orleans Hotel\, 300 Poydras Street\, New Orleans\, LA\, 70130\, United States
CATEGORIES:Home Care,Hospice
ATTACH;FMTTYPE=image/jpeg:https://healthcareprovidersolutions.com/wp-content/uploads/LMHPCO_Event.jpg
GEO:29.9480635;-90.0661004
X-APPLE-STRUCTURED-LOCATION;VALUE=URI;X-ADDRESS=Loews New Orleans Hotel 300 Poydras Street New Orleans LA 70130 United States;X-APPLE-RADIUS=500;X-TITLE=300 Poydras Street:geo:-90.0661004,29.9480635
END:VEVENT
BEGIN:VEVENT
DTSTART;TZID=America/Chicago:20260729T120000
DTEND;TZID=America/Chicago:20260729T130000
DTSTAMP:20260423T005100
CREATED:20260106T221226Z
LAST-MODIFIED:20260113T151509Z
UID:10000891-1785326400-1785330000@healthcareprovidersolutions.com
SUMMARY:HPS FREE Webinar - The "H" Word:  Preparing Team Members to Provide Supportive Hospice Consultations
DESCRIPTION:
URL:https://healthcareprovidersolutions.com/event/hps-free-webinar-the-h-word-preparing-team-members-to-provide-supportive-hospice-consultations/
LOCATION:Webinar
CATEGORIES:Hospice,Speaking Engagement
ATTACH;FMTTYPE=image/jpeg:https://healthcareprovidersolutions.com/wp-content/uploads/Webinar_072926-1.jpg
END:VEVENT
BEGIN:VEVENT
DTSTART;TZID=America/Chicago:20260730T140000
DTEND;TZID=America/Chicago:20260730T153000
DTSTAMP:20260423T005100
CREATED:20260122T175116Z
LAST-MODIFIED:20260122T175116Z
UID:10000917-1785420000-1785425400@healthcareprovidersolutions.com
SUMMARY:eeWebinar - The HOPE Tool Part 2: Driving the Plan & Quality of Care
DESCRIPTION:
URL:https://healthcareprovidersolutions.com/event/eewebinar-the-hope-tool-part-2-driving-the-plan-quality-of-care/
LOCATION:Webinar
CATEGORIES:Hospice
ATTACH;FMTTYPE=image/png:https://healthcareprovidersolutions.com/wp-content/uploads/HHWN.png
END:VEVENT
END:VCALENDAR