BEGIN:VCALENDAR
VERSION:2.0
PRODID:-//Home Care &amp; Hospice Resource - Healthcare Provider Solutions - ECPv6.15.18//NONSGML v1.0//EN
CALSCALE:GREGORIAN
METHOD:PUBLISH
X-WR-CALNAME:Home Care &amp; Hospice Resource - Healthcare Provider Solutions
X-ORIGINAL-URL:https://healthcareprovidersolutions.com
X-WR-CALDESC:Events for Home Care &amp; Hospice Resource - Healthcare Provider Solutions
REFRESH-INTERVAL;VALUE=DURATION:PT1H
X-Robots-Tag:noindex
X-PUBLISHED-TTL:PT1H
BEGIN:VTIMEZONE
TZID:America/Chicago
BEGIN:DAYLIGHT
TZOFFSETFROM:-0600
TZOFFSETTO:-0500
TZNAME:CDT
DTSTART:20250309T080000
END:DAYLIGHT
BEGIN:STANDARD
TZOFFSETFROM:-0500
TZOFFSETTO:-0600
TZNAME:CST
DTSTART:20251102T070000
END:STANDARD
BEGIN:DAYLIGHT
TZOFFSETFROM:-0600
TZOFFSETTO:-0500
TZNAME:CDT
DTSTART:20260308T080000
END:DAYLIGHT
BEGIN:STANDARD
TZOFFSETFROM:-0500
TZOFFSETTO:-0600
TZNAME:CST
DTSTART:20261101T070000
END:STANDARD
BEGIN:DAYLIGHT
TZOFFSETFROM:-0600
TZOFFSETTO:-0500
TZNAME:CDT
DTSTART:20270314T080000
END:DAYLIGHT
BEGIN:STANDARD
TZOFFSETFROM:-0500
TZOFFSETTO:-0600
TZNAME:CST
DTSTART:20271107T070000
END:STANDARD
END:VTIMEZONE
BEGIN:VTIMEZONE
TZID:America/New_York
BEGIN:DAYLIGHT
TZOFFSETFROM:-0500
TZOFFSETTO:-0400
TZNAME:EDT
DTSTART:20250309T070000
END:DAYLIGHT
BEGIN:STANDARD
TZOFFSETFROM:-0400
TZOFFSETTO:-0500
TZNAME:EST
DTSTART:20251102T060000
END:STANDARD
BEGIN:DAYLIGHT
TZOFFSETFROM:-0500
TZOFFSETTO:-0400
TZNAME:EDT
DTSTART:20260308T070000
END:DAYLIGHT
BEGIN:STANDARD
TZOFFSETFROM:-0400
TZOFFSETTO:-0500
TZNAME:EST
DTSTART:20261101T060000
END:STANDARD
BEGIN:DAYLIGHT
TZOFFSETFROM:-0500
TZOFFSETTO:-0400
TZNAME:EDT
DTSTART:20270314T070000
END:DAYLIGHT
BEGIN:STANDARD
TZOFFSETFROM:-0400
TZOFFSETTO:-0500
TZNAME:EST
DTSTART:20271107T060000
END:STANDARD
END:VTIMEZONE
BEGIN:VEVENT
DTSTART;VALUE=DATE:20260503
DTEND;VALUE=DATE:20260506
DTSTAMP:20260422T214059
CREATED:20260204T175436Z
LAST-MODIFIED:20260204T175436Z
UID:10000934-1777766400-1778025599@healthcareprovidersolutions.com
SUMMARY:TAHC 2026 Annual Conference
DESCRIPTION:
URL:https://healthcareprovidersolutions.com/event/tahc-2026-annual-conference/
LOCATION:Embassy Suites by Hilton Nashville South Cool Springs\, 820 Crescent Centre Drive\, Franklin\, TN\, 37067\, United States
CATEGORIES:Home Care,Hospice
ATTACH;FMTTYPE=image/png:https://healthcareprovidersolutions.com/wp-content/uploads/TAHC-Event-Thumbnail-1.png
GEO:35.9447923;-86.8135147
X-APPLE-STRUCTURED-LOCATION;VALUE=URI;X-ADDRESS=Embassy Suites by Hilton Nashville South Cool Springs 820 Crescent Centre Drive Franklin TN 37067 United States;X-APPLE-RADIUS=500;X-TITLE=820 Crescent Centre Drive:geo:-86.8135147,35.9447923
END:VEVENT
BEGIN:VEVENT
DTSTART;VALUE=DATE:20260504
DTEND;VALUE=DATE:20260507
DTSTAMP:20260422T214059
CREATED:20260116T211302Z
LAST-MODIFIED:20260116T211302Z
UID:10000906-1777852800-1778111999@healthcareprovidersolutions.com
SUMMARY:PHA 2026 Annual Conference
DESCRIPTION:
URL:https://healthcareprovidersolutions.com/event/pha-2026-annual-conference/
LOCATION:The Hershey Lodge\, 325 University Dr\, Hershey\, PA\, 17033\, United States
CATEGORIES:Home Care,Hospice
ATTACH;FMTTYPE=image/jpeg:https://healthcareprovidersolutions.com/wp-content/uploads/PHA_Thumb.jpg
GEO:40.2693287;-76.6780663
X-APPLE-STRUCTURED-LOCATION;VALUE=URI;X-ADDRESS=The Hershey Lodge 325 University Dr Hershey PA 17033 United States;X-APPLE-RADIUS=500;X-TITLE=325 University Dr:geo:-76.6780663,40.2693287
END:VEVENT
BEGIN:VEVENT
DTSTART;VALUE=DATE:20260504
DTEND;VALUE=DATE:20260507
DTSTAMP:20260422T214059
CREATED:20260225T180009Z
LAST-MODIFIED:20260225T180216Z
UID:10000938-1777852800-1778111999@healthcareprovidersolutions.com
SUMMARY:New England Home Care & Hospice Conference & Trade Show
DESCRIPTION:
URL:https://healthcareprovidersolutions.com/event/new-england-home-care-hospice-conference-trade-show/
LOCATION:DoubleTree by Hilton – Manchester\, NH\, 700 Elm St\, Manchester\, NH\, 03101\, United States
CATEGORIES:Home Care,Hospice
ATTACH;FMTTYPE=image/jpeg:https://healthcareprovidersolutions.com/wp-content/uploads/NEHCC_Event.jpg
GEO:42.9882655;-71.4642578
X-APPLE-STRUCTURED-LOCATION;VALUE=URI;X-ADDRESS=DoubleTree by Hilton – Manchester NH 700 Elm St Manchester NH 03101 United States;X-APPLE-RADIUS=500;X-TITLE=700 Elm St:geo:-71.4642578,42.9882655
END:VEVENT
BEGIN:VEVENT
DTSTART;TZID=America/New_York:20260507T083000
DTEND;TZID=America/New_York:20260507T120000
DTSTAMP:20260422T214059
CREATED:20260406T181350Z
LAST-MODIFIED:20260406T181350Z
UID:10000945-1778142600-1778155200@healthcareprovidersolutions.com
SUMMARY:Hospice - Basics of Claims Processing 2026
DESCRIPTION:
URL:https://healthcareprovidersolutions.com/event/hospice-basics-of-claims-processing-2026/
LOCATION:Webinar
CATEGORIES:Hospice
ATTACH;FMTTYPE=image/png:https://healthcareprovidersolutions.com/wp-content/uploads/AHHC-2.png
END:VEVENT
BEGIN:VEVENT
DTSTART;VALUE=DATE:20260511
DTEND;VALUE=DATE:20260513
DTSTAMP:20260422T214059
CREATED:20260406T182603Z
LAST-MODIFIED:20260406T182603Z
UID:10000947-1778457600-1778630399@healthcareprovidersolutions.com
SUMMARY:2026 Hospice Reimbursement Workshop
DESCRIPTION:
URL:https://healthcareprovidersolutions.com/event/2026-hospice-reimbursement-workshop/
LOCATION:Webinar
CATEGORIES:Hospice
ATTACH;FMTTYPE=image/png:https://healthcareprovidersolutions.com/wp-content/uploads/AHHC-2.png
END:VEVENT
BEGIN:VEVENT
DTSTART;TZID=America/Chicago:20260512T140000
DTEND;TZID=America/Chicago:20260512T153000
DTSTAMP:20260422T214059
CREATED:20260116T215908Z
LAST-MODIFIED:20260316T200756Z
UID:10000908-1778594400-1778599800@healthcareprovidersolutions.com
SUMMARY:eeWebinar - Top 5 Hospice Medical Review Denials
DESCRIPTION:
URL:https://healthcareprovidersolutions.com/event/eewebinar-top-5-hospice-medical-review-denials/
LOCATION:Webinar
CATEGORIES:Hospice
ATTACH;FMTTYPE=image/png:https://healthcareprovidersolutions.com/wp-content/uploads/HHWN.png
END:VEVENT
BEGIN:VEVENT
DTSTART;TZID=America/Chicago:20260514T100000
DTEND;TZID=America/Chicago:20260514T110000
DTSTAMP:20260422T214059
CREATED:20260116T220214Z
LAST-MODIFIED:20260116T220214Z
UID:10000909-1778752800-1778756400@healthcareprovidersolutions.com
SUMMARY:Hospice Hot Topic Webinar Series: The 2027 Hospice Proposed Rule
DESCRIPTION:
URL:https://healthcareprovidersolutions.com/event/hospice-hot-topic-webinar-series-the-2027-hospice-proposed-rule/
LOCATION:Webinar
CATEGORIES:Hospice
ATTACH;FMTTYPE=image/jpeg:https://healthcareprovidersolutions.com/wp-content/uploads/PHA_Thumb.jpg
END:VEVENT
BEGIN:VEVENT
DTSTART;TZID=America/Chicago:20260518T140000
DTEND;TZID=America/Chicago:20260518T153000
DTSTAMP:20260422T214059
CREATED:20260324T132914Z
LAST-MODIFIED:20260414T183352Z
UID:10000939-1779112800-1779118200@healthcareprovidersolutions.com
SUMMARY:eeWebinar: Hospice Proposed Rule
DESCRIPTION:
URL:https://healthcareprovidersolutions.com/event/eewebinar-hospice-proposed-rule/
LOCATION:Webinar
CATEGORIES:Hospice
ATTACH;FMTTYPE=image/png:https://healthcareprovidersolutions.com/wp-content/uploads/HHWN.png
END:VEVENT
BEGIN:VEVENT
DTSTART;TZID=America/Chicago:20260526T100000
DTEND;TZID=America/Chicago:20260526T110000
DTSTAMP:20260422T214059
CREATED:20260410T163431Z
LAST-MODIFIED:20260414T183848Z
UID:10000951-1779789600-1779793200@healthcareprovidersolutions.com
SUMMARY:OCHCH Webinar - The "H" Word:  Preparing Team Members to Provide Supportive Hospice Consultations
DESCRIPTION:
URL:https://healthcareprovidersolutions.com/event/ochch-webinar-the-h-word-preparing-team-members-to-provide-supportive-hospice-consultations/
LOCATION:Webinar
CATEGORIES:Hospice
ATTACH;FMTTYPE=image/png:https://healthcareprovidersolutions.com/wp-content/uploads/OCHCH-1.png
END:VEVENT
END:VCALENDAR