BEGIN:VCALENDAR
VERSION:2.0
PRODID:-//Home Care &amp; Hospice Resource - Healthcare Provider Solutions - ECPv6.15.18//NONSGML v1.0//EN
CALSCALE:GREGORIAN
METHOD:PUBLISH
X-WR-CALNAME:Home Care &amp; Hospice Resource - Healthcare Provider Solutions
X-ORIGINAL-URL:https://healthcareprovidersolutions.com
X-WR-CALDESC:Events for Home Care &amp; Hospice Resource - Healthcare Provider Solutions
REFRESH-INTERVAL;VALUE=DURATION:PT1H
X-Robots-Tag:noindex
X-PUBLISHED-TTL:PT1H
BEGIN:VTIMEZONE
TZID:America/Chicago
BEGIN:DAYLIGHT
TZOFFSETFROM:-0600
TZOFFSETTO:-0500
TZNAME:CDT
DTSTART:20250309T080000
END:DAYLIGHT
BEGIN:STANDARD
TZOFFSETFROM:-0500
TZOFFSETTO:-0600
TZNAME:CST
DTSTART:20251102T070000
END:STANDARD
BEGIN:DAYLIGHT
TZOFFSETFROM:-0600
TZOFFSETTO:-0500
TZNAME:CDT
DTSTART:20260308T080000
END:DAYLIGHT
BEGIN:STANDARD
TZOFFSETFROM:-0500
TZOFFSETTO:-0600
TZNAME:CST
DTSTART:20261101T070000
END:STANDARD
BEGIN:DAYLIGHT
TZOFFSETFROM:-0600
TZOFFSETTO:-0500
TZNAME:CDT
DTSTART:20270314T080000
END:DAYLIGHT
BEGIN:STANDARD
TZOFFSETFROM:-0500
TZOFFSETTO:-0600
TZNAME:CST
DTSTART:20271107T070000
END:STANDARD
END:VTIMEZONE
BEGIN:VEVENT
DTSTART;TZID=America/Chicago:20260203T140000
DTEND;TZID=America/Chicago:20260203T150000
DTSTAMP:20260422T232817
CREATED:20251126T175129Z
LAST-MODIFIED:20260113T152628Z
UID:10000873-1770127200-1770130800@healthcareprovidersolutions.com
SUMMARY:eeWebinar - The "H" Word: Preparing Team Members to Provide Supportive Hospice Consultations
DESCRIPTION:
URL:https://healthcareprovidersolutions.com/event/eewebinar-the-h-word-preparing-team-members-to-provide-supportive-hospice-consultations/
LOCATION:Webinar
CATEGORIES:Hospice
ATTACH;FMTTYPE=image/png:https://healthcareprovidersolutions.com/wp-content/uploads/HHWN.png
END:VEVENT
BEGIN:VEVENT
DTSTART;TZID=America/Chicago:20260204T090000
DTEND;TZID=America/Chicago:20260205T160000
DTSTAMP:20260422T232817
CREATED:20260109T160138Z
LAST-MODIFIED:20260109T160138Z
UID:10000898-1770195600-1770307200@healthcareprovidersolutions.com
SUMMARY:2026 Hospice Regulatory & Reimbursement Workshop
DESCRIPTION:
URL:https://healthcareprovidersolutions.com/event/2026-hospice-regulatory-reimbursement-workshop/
LOCATION:Webinar
CATEGORIES:Hospice
ATTACH;FMTTYPE=image/png:https://healthcareprovidersolutions.com/wp-content/uploads/CAHSAH-2.png
END:VEVENT
BEGIN:VEVENT
DTSTART;TZID=America/Chicago:20260212T100000
DTEND;TZID=America/Chicago:20260212T110000
DTSTAMP:20260422T232817
CREATED:20251205T164453Z
LAST-MODIFIED:20251215T171027Z
UID:10000877-1770890400-1770894000@healthcareprovidersolutions.com
SUMMARY:Hospice Hot Topic Webinar Series: QAPI Data Highlights
DESCRIPTION:
URL:https://healthcareprovidersolutions.com/event/hospice-hot-topic-webinar-series-qapi-data-highlights/
LOCATION:Webinar
CATEGORIES:Hospice
ATTACH;FMTTYPE=image/jpeg:https://healthcareprovidersolutions.com/wp-content/uploads/PHA_Thumb.jpg
END:VEVENT
BEGIN:VEVENT
DTSTART;VALUE=DATE:20260218
DTEND;VALUE=DATE:20260220
DTSTAMP:20260422T232817
CREATED:20251208T204906Z
LAST-MODIFIED:20260129T155437Z
UID:10000879-1771372800-1771545599@healthcareprovidersolutions.com
SUMMARY:TAHC&H 2026 Winter Conference
DESCRIPTION:
URL:https://healthcareprovidersolutions.com/event/tahch-2026-winter-conference/
LOCATION:Dallas/Fort Worth Marriott Hotel & Golf Club at Champions Circle\, 3300 Championship Parkway\, Fort Worth\, TX\, 76177\, United States
CATEGORIES:Home Care,Hospice
ATTACH;FMTTYPE=image/png:https://healthcareprovidersolutions.com/wp-content/uploads/TAHCH-Event-Thumbnail.png
GEO:26.1005134;-80.1069573
X-APPLE-STRUCTURED-LOCATION;VALUE=URI;X-ADDRESS=Dallas/Fort Worth Marriott Hotel & Golf Club at Champions Circle 3300 Championship Parkway Fort Worth TX 76177 United States;X-APPLE-RADIUS=500;X-TITLE=3300 Championship Parkway:geo:-80.1069573,26.1005134
END:VEVENT
BEGIN:VEVENT
DTSTART;TZID=America/Chicago:20260219T120000
DTEND;TZID=America/Chicago:20260219T133000
DTSTAMP:20260422T232817
CREATED:20260106T193115Z
LAST-MODIFIED:20260107T212245Z
UID:10000884-1771502400-1771507800@healthcareprovidersolutions.com
SUMMARY:Hospice Eligibility & Skillful Documentation
DESCRIPTION:
URL:https://healthcareprovidersolutions.com/event/hospice-eligibility-skillful-documentation/
LOCATION:Webinar
CATEGORIES:Hospice,Speaking Engagement
ATTACH;FMTTYPE=image/jpeg:https://healthcareprovidersolutions.com/wp-content/uploads/Webinar_021926.jpg
END:VEVENT
BEGIN:VEVENT
DTSTART;TZID=America/Chicago:20260225T140000
DTEND;TZID=America/Chicago:20260225T153000
DTSTAMP:20260422T232817
CREATED:20251126T182317Z
LAST-MODIFIED:20260113T152753Z
UID:10000875-1772028000-1772033400@healthcareprovidersolutions.com
SUMMARY:eeWebinar - Developing\, Updating & Implementing an Effective Hospice Plan of Care
DESCRIPTION:
URL:https://healthcareprovidersolutions.com/event/eewebinar-developing-updating-implementing-an-effective-hospice-plan-of-care/
LOCATION:Webinar
CATEGORIES:Hospice
ATTACH;FMTTYPE=image/png:https://healthcareprovidersolutions.com/wp-content/uploads/HHWN.png
END:VEVENT
END:VCALENDAR