BEGIN:VCALENDAR
VERSION:2.0
PRODID:-//Home Care &amp; Hospice Resource - Healthcare Provider Solutions - ECPv6.15.18//NONSGML v1.0//EN
CALSCALE:GREGORIAN
METHOD:PUBLISH
X-WR-CALNAME:Home Care &amp; Hospice Resource - Healthcare Provider Solutions
X-ORIGINAL-URL:https://healthcareprovidersolutions.com
X-WR-CALDESC:Events for Home Care &amp; Hospice Resource - Healthcare Provider Solutions
REFRESH-INTERVAL;VALUE=DURATION:PT1H
X-Robots-Tag:noindex
X-PUBLISHED-TTL:PT1H
BEGIN:VTIMEZONE
TZID:America/Chicago
BEGIN:DAYLIGHT
TZOFFSETFROM:-0600
TZOFFSETTO:-0500
TZNAME:CDT
DTSTART:20240310T080000
END:DAYLIGHT
BEGIN:STANDARD
TZOFFSETFROM:-0500
TZOFFSETTO:-0600
TZNAME:CST
DTSTART:20241103T070000
END:STANDARD
BEGIN:DAYLIGHT
TZOFFSETFROM:-0600
TZOFFSETTO:-0500
TZNAME:CDT
DTSTART:20250309T080000
END:DAYLIGHT
BEGIN:STANDARD
TZOFFSETFROM:-0500
TZOFFSETTO:-0600
TZNAME:CST
DTSTART:20251102T070000
END:STANDARD
BEGIN:DAYLIGHT
TZOFFSETFROM:-0600
TZOFFSETTO:-0500
TZNAME:CDT
DTSTART:20260308T080000
END:DAYLIGHT
BEGIN:STANDARD
TZOFFSETFROM:-0500
TZOFFSETTO:-0600
TZNAME:CST
DTSTART:20261101T070000
END:STANDARD
END:VTIMEZONE
BEGIN:VEVENT
DTSTART;VALUE=DATE:20251109
DTEND;VALUE=DATE:20251112
DTSTAMP:20260423T043315
CREATED:20250728T155543Z
LAST-MODIFIED:20250801T164212Z
UID:10000850-1762646400-1762905599@healthcareprovidersolutions.com
SUMMARY:2025 TAHC Fall Conference
DESCRIPTION:
URL:https://healthcareprovidersolutions.com/event/2025-tahc-fall-conference/
LOCATION:The Park Vista Hotel\, 705 Cherokee Orchard Rd.\, Gatlinburg\, 37738\, United States
CATEGORIES:Home Care,Hospice
ATTACH;FMTTYPE=image/png:https://healthcareprovidersolutions.com/wp-content/uploads/TAHC-Event-Thumbnail-1.png
GEO:35.7037001;-83.5127456
X-APPLE-STRUCTURED-LOCATION;VALUE=URI;X-ADDRESS=The Park Vista Hotel 705 Cherokee Orchard Rd. Gatlinburg 37738 United States;X-APPLE-RADIUS=500;X-TITLE=705 Cherokee Orchard Rd.:geo:-83.5127456,35.7037001
END:VEVENT
BEGIN:VEVENT
DTSTART;VALUE=DATE:20251112
DTEND;VALUE=DATE:20251113
DTSTAMP:20260423T043315
CREATED:20251009T162517Z
LAST-MODIFIED:20251013T160829Z
UID:10000869-1762905600-1762991999@healthcareprovidersolutions.com
SUMMARY:IHHC Hospice Symposium 2025
DESCRIPTION:
URL:https://healthcareprovidersolutions.com/event/ihhc-hospice-symposium-2025/
LOCATION:Webinar
CATEGORIES:Hospice
ATTACH;FMTTYPE=image/png:https://healthcareprovidersolutions.com/wp-content/uploads/IHHC-Event-Thumbnail.png
END:VEVENT
BEGIN:VEVENT
DTSTART;TZID=America/Chicago:20251113T100000
DTEND;TZID=America/Chicago:20251113T110000
DTSTAMP:20260423T043315
CREATED:20250218T200501Z
LAST-MODIFIED:20250423T211012Z
UID:10000828-1763028000-1763031600@healthcareprovidersolutions.com
SUMMARY:PHA Hospice Hot Topic Webinar Series: Hospice Quality Reporting Program (HQRP)
DESCRIPTION:
URL:https://healthcareprovidersolutions.com/event/pha-hospice-hot-topic-webinar-series-hospice-quality-reporting-program-hqrp/
LOCATION:Webinar
CATEGORIES:Hospice
ATTACH;FMTTYPE=image/jpeg:https://healthcareprovidersolutions.com/wp-content/uploads/PHA_Thumb.jpg
END:VEVENT
BEGIN:VEVENT
DTSTART;VALUE=DATE:20251116
DTEND;VALUE=DATE:20251119
DTSTAMP:20260423T043315
CREATED:20250930T200350Z
LAST-MODIFIED:20251020T134917Z
UID:10000868-1763251200-1763510399@healthcareprovidersolutions.com
SUMMARY:2025 SCHCHA Annual Conference
DESCRIPTION:
URL:https://healthcareprovidersolutions.com/event/2025-schcha-annual-conference/
LOCATION:Westin Poinsette\, 120 S Main St\, Greenville\, SC\, 29601\, United States
CATEGORIES:Home Care,Hospice
ATTACH;FMTTYPE=image/png:https://healthcareprovidersolutions.com/wp-content/uploads/SCHCHA-Conference-Event-Thumbnail.png
GEO:34.8489727;-82.3999876
X-APPLE-STRUCTURED-LOCATION;VALUE=URI;X-ADDRESS=Westin Poinsette 120 S Main St Greenville SC 29601 United States;X-APPLE-RADIUS=500;X-TITLE=120 S Main St:geo:-82.3999876,34.8489727
END:VEVENT
END:VCALENDAR