BEGIN:VCALENDAR
VERSION:2.0
PRODID:-//Home Care &amp; Hospice Resource - Healthcare Provider Solutions - ECPv6.15.18//NONSGML v1.0//EN
CALSCALE:GREGORIAN
METHOD:PUBLISH
X-WR-CALNAME:Home Care &amp; Hospice Resource - Healthcare Provider Solutions
X-ORIGINAL-URL:https://healthcareprovidersolutions.com
X-WR-CALDESC:Events for Home Care &amp; Hospice Resource - Healthcare Provider Solutions
REFRESH-INTERVAL;VALUE=DURATION:PT1H
X-Robots-Tag:noindex
X-PUBLISHED-TTL:PT1H
BEGIN:VTIMEZONE
TZID:America/Chicago
BEGIN:DAYLIGHT
TZOFFSETFROM:-0600
TZOFFSETTO:-0500
TZNAME:CDT
DTSTART:20240310T080000
END:DAYLIGHT
BEGIN:STANDARD
TZOFFSETFROM:-0500
TZOFFSETTO:-0600
TZNAME:CST
DTSTART:20241103T070000
END:STANDARD
BEGIN:DAYLIGHT
TZOFFSETFROM:-0600
TZOFFSETTO:-0500
TZNAME:CDT
DTSTART:20250309T080000
END:DAYLIGHT
BEGIN:STANDARD
TZOFFSETFROM:-0500
TZOFFSETTO:-0600
TZNAME:CST
DTSTART:20251102T070000
END:STANDARD
BEGIN:DAYLIGHT
TZOFFSETFROM:-0600
TZOFFSETTO:-0500
TZNAME:CDT
DTSTART:20260308T080000
END:DAYLIGHT
BEGIN:STANDARD
TZOFFSETFROM:-0500
TZOFFSETTO:-0600
TZNAME:CST
DTSTART:20261101T070000
END:STANDARD
END:VTIMEZONE
BEGIN:VEVENT
DTSTART;VALUE=DATE:20250603
DTEND;VALUE=DATE:20250606
DTSTAMP:20260423T131144
CREATED:20250326T174319Z
LAST-MODIFIED:20250410T135151Z
UID:10000834-1748908800-1749167999@healthcareprovidersolutions.com
SUMMARY:2025 Annual Conference of the Home Care & Hospice Association of New Jersey
DESCRIPTION:
URL:https://healthcareprovidersolutions.com/event/2025-annual-conference-of-the-home-care-hospice-association-of-new-jersey/
LOCATION:Harrah’s Resort\, 777 Harrah's Blvd\, Atlantic City\, NJ\, 08401\, United States
CATEGORIES:Home Care,Hospice
ATTACH;FMTTYPE=image/jpeg:https://healthcareprovidersolutions.com/wp-content/uploads/HomecareNJ_Thumb.jpg
GEO:39.3845487;-74.4296631
X-APPLE-STRUCTURED-LOCATION;VALUE=URI;X-ADDRESS=Harrah’s Resort 777 Harrah's Blvd Atlantic City NJ 08401 United States;X-APPLE-RADIUS=500;X-TITLE=777 Harrah's Blvd:geo:-74.4296631,39.3845487
END:VEVENT
BEGIN:VEVENT
DTSTART;TZID=America/Chicago:20250612T100000
DTEND;TZID=America/Chicago:20250612T110000
DTSTAMP:20260423T131144
CREATED:20250218T195041Z
LAST-MODIFIED:20250224T152922Z
UID:10000823-1749722400-1749726000@healthcareprovidersolutions.com
SUMMARY:PHA Hospice Hot Topic Webinar Series: The 2026 Hospice Proposed Rule
DESCRIPTION:
URL:https://healthcareprovidersolutions.com/event/pha-hospice-hot-topic-webinar-series-the-2026-hospice-proposed-rule/
LOCATION:Webinar
CATEGORIES:Hospice
ATTACH;FMTTYPE=image/jpeg:https://healthcareprovidersolutions.com/wp-content/uploads/PHA_Thumb.jpg
END:VEVENT
BEGIN:VEVENT
DTSTART;TZID=America/Chicago:20250612T140000
DTEND;TZID=America/Chicago:20250612T153000
DTSTAMP:20260423T131144
CREATED:20241021T191957Z
LAST-MODIFIED:20250415T145338Z
UID:10000734-1749736800-1749742200@healthcareprovidersolutions.com
SUMMARY:Hospice and Home Care Webinar Network – Documenting Hospice Eligibility
DESCRIPTION:
URL:https://healthcareprovidersolutions.com/event/hospice-and-home-care-webinar-network-documenting-hospice-eligibility/
LOCATION:Webinar
CATEGORIES:Hospice
ATTACH;FMTTYPE=image/png:https://healthcareprovidersolutions.com/wp-content/uploads/HHWN.png
END:VEVENT
BEGIN:VEVENT
DTSTART;VALUE=DATE:20250617
DTEND;VALUE=DATE:20250619
DTSTAMP:20260423T131144
CREATED:20241031T155927Z
LAST-MODIFIED:20250613T163048Z
UID:10000741-1750118400-1750291199@healthcareprovidersolutions.com
SUMMARY:2025 HPS Alliance Hospice Workshop
DESCRIPTION:
URL:https://healthcareprovidersolutions.com/event/2025-hps-alliance-hospice-workshop/
LOCATION:BNA Conference Center – HPS Nashville\, Bna Drive\, Nashville\, TN\, 37217\, United States
CATEGORIES:Hospice,Speaking Engagement,Workshop
ATTACH;FMTTYPE=image/jpeg:https://healthcareprovidersolutions.com/wp-content/uploads/Thumbnail_HosWorkshop_25.jpg
GEO:36.1380221;-86.6990968
X-APPLE-STRUCTURED-LOCATION;VALUE=URI;X-ADDRESS=BNA Conference Center – HPS Nashville Bna Drive Nashville TN 37217 United States;X-APPLE-RADIUS=500;X-TITLE=Bna Drive:geo:-86.6990968,36.1380221
END:VEVENT
BEGIN:VEVENT
DTSTART;VALUE=DATE:20250625
DTEND;VALUE=DATE:20250627
DTSTAMP:20260423T131144
CREATED:20250605T144218Z
LAST-MODIFIED:20250609T143931Z
UID:10000844-1750809600-1750982399@healthcareprovidersolutions.com
SUMMARY:2025 AAHC & AHPCO Conference
DESCRIPTION:
URL:https://healthcareprovidersolutions.com/event/2025-aahc-ahpco-conference/
LOCATION:Doubletree Phoenix Tempe\, 2100 S Priest Drive\, Tempe\, AZ\, 85282\, United States
CATEGORIES:Home Care,Hospice
ATTACH;FMTTYPE=image/png:https://healthcareprovidersolutions.com/wp-content/uploads/AAHC.png
GEO:33.4061959;-111.9622955
X-APPLE-STRUCTURED-LOCATION;VALUE=URI;X-ADDRESS=Doubletree Phoenix Tempe 2100 S Priest Drive Tempe AZ 85282 United States;X-APPLE-RADIUS=500;X-TITLE=2100 S Priest Drive:geo:-111.9622955,33.4061959
END:VEVENT
END:VCALENDAR