BEGIN:VCALENDAR
VERSION:2.0
PRODID:-//Home Care &amp; Hospice Resource - Healthcare Provider Solutions - ECPv6.15.18//NONSGML v1.0//EN
CALSCALE:GREGORIAN
METHOD:PUBLISH
X-WR-CALNAME:Home Care &amp; Hospice Resource - Healthcare Provider Solutions
X-ORIGINAL-URL:https://healthcareprovidersolutions.com
X-WR-CALDESC:Events for Home Care &amp; Hospice Resource - Healthcare Provider Solutions
REFRESH-INTERVAL;VALUE=DURATION:PT1H
X-Robots-Tag:noindex
X-PUBLISHED-TTL:PT1H
BEGIN:VTIMEZONE
TZID:America/Chicago
BEGIN:DAYLIGHT
TZOFFSETFROM:-0600
TZOFFSETTO:-0500
TZNAME:CDT
DTSTART:20240310T080000
END:DAYLIGHT
BEGIN:STANDARD
TZOFFSETFROM:-0500
TZOFFSETTO:-0600
TZNAME:CST
DTSTART:20241103T070000
END:STANDARD
BEGIN:DAYLIGHT
TZOFFSETFROM:-0600
TZOFFSETTO:-0500
TZNAME:CDT
DTSTART:20250309T080000
END:DAYLIGHT
BEGIN:STANDARD
TZOFFSETFROM:-0500
TZOFFSETTO:-0600
TZNAME:CST
DTSTART:20251102T070000
END:STANDARD
BEGIN:DAYLIGHT
TZOFFSETFROM:-0600
TZOFFSETTO:-0500
TZNAME:CDT
DTSTART:20260308T080000
END:DAYLIGHT
BEGIN:STANDARD
TZOFFSETFROM:-0500
TZOFFSETTO:-0600
TZNAME:CST
DTSTART:20261101T070000
END:STANDARD
END:VTIMEZONE
BEGIN:VTIMEZONE
TZID:America/New_York
BEGIN:DAYLIGHT
TZOFFSETFROM:-0500
TZOFFSETTO:-0400
TZNAME:EDT
DTSTART:20240310T070000
END:DAYLIGHT
BEGIN:STANDARD
TZOFFSETFROM:-0400
TZOFFSETTO:-0500
TZNAME:EST
DTSTART:20241103T060000
END:STANDARD
BEGIN:DAYLIGHT
TZOFFSETFROM:-0500
TZOFFSETTO:-0400
TZNAME:EDT
DTSTART:20250309T070000
END:DAYLIGHT
BEGIN:STANDARD
TZOFFSETFROM:-0400
TZOFFSETTO:-0500
TZNAME:EST
DTSTART:20251102T060000
END:STANDARD
BEGIN:DAYLIGHT
TZOFFSETFROM:-0500
TZOFFSETTO:-0400
TZNAME:EDT
DTSTART:20260308T070000
END:DAYLIGHT
BEGIN:STANDARD
TZOFFSETFROM:-0400
TZOFFSETTO:-0500
TZNAME:EST
DTSTART:20261101T060000
END:STANDARD
END:VTIMEZONE
BEGIN:VEVENT
DTSTART;VALUE=DATE:20250430
DTEND;VALUE=DATE:20250503
DTSTAMP:20260423T144833
CREATED:20250227T145421Z
LAST-MODIFIED:20250311T180113Z
UID:10000830-1745971200-1746230399@healthcareprovidersolutions.com
SUMMARY:MAHC 2025 Annual Conference
DESCRIPTION:
URL:https://healthcareprovidersolutions.com/event/mahc-2025-annual-conference/
LOCATION:Margaritaville Lake Resort Lake of the Ozarks\, 494 Tan Tara Estate Drive\, Osage Beach\, MO\, 65065\, United States
CATEGORIES:Home Care,Hospice
ATTACH;FMTTYPE=image/png:https://healthcareprovidersolutions.com/wp-content/uploads/MAHC-1.png
GEO:38.1257372;-92.7184865
X-APPLE-STRUCTURED-LOCATION;VALUE=URI;X-ADDRESS=Margaritaville Lake Resort Lake of the Ozarks 494 Tan Tara Estate Drive Osage Beach MO 65065 United States;X-APPLE-RADIUS=500;X-TITLE=494 Tan Tara Estate Drive:geo:-92.7184865,38.1257372
END:VEVENT
BEGIN:VEVENT
DTSTART;VALUE=DATE:20250504
DTEND;VALUE=DATE:20250507
DTSTAMP:20260423T144833
CREATED:20250121T174312Z
LAST-MODIFIED:20250327T154206Z
UID:10000815-1746316800-1746575999@healthcareprovidersolutions.com
SUMMARY:TAHC 2025 Annual Conference
DESCRIPTION:
URL:https://healthcareprovidersolutions.com/event/tahc-2025-annual-conference/
LOCATION:Webinar
CATEGORIES:Home Care,Hospice
ATTACH;FMTTYPE=image/png:https://healthcareprovidersolutions.com/wp-content/uploads/TAHC-Event-Thumbnail-1.png
END:VEVENT
BEGIN:VEVENT
DTSTART;TZID=America/Chicago:20250508T100000
DTEND;TZID=America/Chicago:20250508T110000
DTSTAMP:20260423T144833
CREATED:20250218T195419Z
LAST-MODIFIED:20250408T140928Z
UID:10000824-1746698400-1746702000@healthcareprovidersolutions.com
SUMMARY:PHA Hospice Hot Topic Webinar Series: Hospice Billing Hot Topics
DESCRIPTION:
URL:https://healthcareprovidersolutions.com/event/pha-hospice-hot-topic-webinar-series-hospice-billing-hot-topics/
LOCATION:Webinar
CATEGORIES:Hospice
ATTACH;FMTTYPE=image/jpeg:https://healthcareprovidersolutions.com/wp-content/uploads/PHA_Thumb.jpg
END:VEVENT
BEGIN:VEVENT
DTSTART;TZID=America/Chicago:20250508T120000
DTEND;TZID=America/Chicago:20250508T133000
DTSTAMP:20260423T144833
CREATED:20241216T212650Z
LAST-MODIFIED:20250508T145713Z
UID:10000773-1746705600-1746711000@healthcareprovidersolutions.com
SUMMARY:Hospice Eligibility:  Election Statement/Addendum/Face-to-Face/CTI
DESCRIPTION:
URL:https://healthcareprovidersolutions.com/event/hospice-eligibility-election-statement-addendum-face-to-face-cti/
LOCATION:Webinar
CATEGORIES:Hospice,Speaking Engagement
ATTACH;FMTTYPE=image/jpeg:https://healthcareprovidersolutions.com/wp-content/uploads/Thumbnail_050825-2.jpg
END:VEVENT
BEGIN:VEVENT
DTSTART;TZID=America/New_York:20250513T110000
DTEND;TZID=America/New_York:20250513T123000
DTSTAMP:20260423T144833
CREATED:20250115T163715Z
LAST-MODIFIED:20250404T170003Z
UID:10000798-1747134000-1747139400@healthcareprovidersolutions.com
SUMMARY:OCHCH Hospice Quality Reporting Program:  Avoiding Penalties
DESCRIPTION:
URL:https://healthcareprovidersolutions.com/event/ochch-hospice-quality-reporting-program-avoiding-penalties/
LOCATION:Webinar
CATEGORIES:Hospice
ATTACH;FMTTYPE=image/png:https://healthcareprovidersolutions.com/wp-content/uploads/OCHCH-1.png
END:VEVENT
BEGIN:VEVENT
DTSTART;VALUE=DATE:20250514
DTEND;VALUE=DATE:20250515
DTSTAMP:20260423T144833
CREATED:20250312T211330Z
LAST-MODIFIED:20250409T144004Z
UID:10000831-1747180800-1747267199@healthcareprovidersolutions.com
SUMMARY:TAHCH 2025 Spring Conference
DESCRIPTION:
URL:https://healthcareprovidersolutions.com/event/tahch-2025-spring-conference/
LOCATION:Webinar
CATEGORIES:Home Care,Hospice
ATTACH;FMTTYPE=image/png:https://healthcareprovidersolutions.com/wp-content/uploads/TAHCH-Event-Thumbnail.png
END:VEVENT
BEGIN:VEVENT
DTSTART;VALUE=DATE:20250514
DTEND;VALUE=DATE:20250517
DTSTAMP:20260423T144833
CREATED:20241219T222304Z
LAST-MODIFIED:20250408T211902Z
UID:10000793-1747180800-1747439999@healthcareprovidersolutions.com
SUMMARY:2025 PHA Annual Conference
DESCRIPTION:
URL:https://healthcareprovidersolutions.com/event/2025-pha-annual-conference/
LOCATION:Wind Creek Resort\, Wind Creek Boulevard 77\, Bethlehem\, PA\, 18015\, United States
CATEGORIES:Hospice
ATTACH;FMTTYPE=image/jpeg:https://healthcareprovidersolutions.com/wp-content/uploads/PHA_Thumb.jpg
GEO:40.6145221;-75.3598392
X-APPLE-STRUCTURED-LOCATION;VALUE=URI;X-ADDRESS=Wind Creek Resort Wind Creek Boulevard 77 Bethlehem PA 18015 United States;X-APPLE-RADIUS=500;X-TITLE=Wind Creek Boulevard 77:geo:-75.3598392,40.6145221
END:VEVENT
BEGIN:VEVENT
DTSTART;TZID=America/Chicago:20250515T140000
DTEND;TZID=America/Chicago:20250515T153000
DTSTAMP:20260423T144833
CREATED:20241021T191642Z
LAST-MODIFIED:20250318T164927Z
UID:10000733-1747317600-1747323000@healthcareprovidersolutions.com
SUMMARY:Hospice and Home Care Webinar Network – Top Hospice Medical Review Denials & How to Avoid Them
DESCRIPTION:
URL:https://healthcareprovidersolutions.com/event/hospice-and-home-care-webinar-network-top-hospice-medical-review-denials-how-to-avoid-them/
LOCATION:Webinar
CATEGORIES:Hospice
ATTACH;FMTTYPE=image/png:https://healthcareprovidersolutions.com/wp-content/uploads/HHWN.png
END:VEVENT
END:VCALENDAR