BEGIN:VCALENDAR
VERSION:2.0
PRODID:-//Home Care &amp; Hospice Resource - Healthcare Provider Solutions - ECPv6.15.18//NONSGML v1.0//EN
CALSCALE:GREGORIAN
METHOD:PUBLISH
X-WR-CALNAME:Home Care &amp; Hospice Resource - Healthcare Provider Solutions
X-ORIGINAL-URL:https://healthcareprovidersolutions.com
X-WR-CALDESC:Events for Home Care &amp; Hospice Resource - Healthcare Provider Solutions
REFRESH-INTERVAL;VALUE=DURATION:PT1H
X-Robots-Tag:noindex
X-PUBLISHED-TTL:PT1H
BEGIN:VTIMEZONE
TZID:America/Chicago
BEGIN:DAYLIGHT
TZOFFSETFROM:-0600
TZOFFSETTO:-0500
TZNAME:CDT
DTSTART:20230312T080000
END:DAYLIGHT
BEGIN:STANDARD
TZOFFSETFROM:-0500
TZOFFSETTO:-0600
TZNAME:CST
DTSTART:20231105T070000
END:STANDARD
BEGIN:DAYLIGHT
TZOFFSETFROM:-0600
TZOFFSETTO:-0500
TZNAME:CDT
DTSTART:20240310T080000
END:DAYLIGHT
BEGIN:STANDARD
TZOFFSETFROM:-0500
TZOFFSETTO:-0600
TZNAME:CST
DTSTART:20241103T070000
END:STANDARD
BEGIN:DAYLIGHT
TZOFFSETFROM:-0600
TZOFFSETTO:-0500
TZNAME:CDT
DTSTART:20250309T080000
END:DAYLIGHT
BEGIN:STANDARD
TZOFFSETFROM:-0500
TZOFFSETTO:-0600
TZNAME:CST
DTSTART:20251102T070000
END:STANDARD
END:VTIMEZONE
BEGIN:VTIMEZONE
TZID:America/Los_Angeles
BEGIN:DAYLIGHT
TZOFFSETFROM:-0800
TZOFFSETTO:-0700
TZNAME:PDT
DTSTART:20230312T100000
END:DAYLIGHT
BEGIN:STANDARD
TZOFFSETFROM:-0700
TZOFFSETTO:-0800
TZNAME:PST
DTSTART:20231105T090000
END:STANDARD
BEGIN:DAYLIGHT
TZOFFSETFROM:-0800
TZOFFSETTO:-0700
TZNAME:PDT
DTSTART:20240310T100000
END:DAYLIGHT
BEGIN:STANDARD
TZOFFSETFROM:-0700
TZOFFSETTO:-0800
TZNAME:PST
DTSTART:20241103T090000
END:STANDARD
BEGIN:DAYLIGHT
TZOFFSETFROM:-0800
TZOFFSETTO:-0700
TZNAME:PDT
DTSTART:20250309T100000
END:DAYLIGHT
BEGIN:STANDARD
TZOFFSETFROM:-0700
TZOFFSETTO:-0800
TZNAME:PST
DTSTART:20251102T090000
END:STANDARD
END:VTIMEZONE
BEGIN:VEVENT
DTSTART;VALUE=DATE:20240930
DTEND;VALUE=DATE:20241002
DTSTAMP:20260424T014923
CREATED:20240716T181431Z
LAST-MODIFIED:20240830T162830Z
UID:10000712-1727654400-1727827199@healthcareprovidersolutions.com
SUMMARY:2024 Hospice Financial Administration Conference
DESCRIPTION:
URL:https://healthcareprovidersolutions.com/event/2024-hospice-financial-administration-conference/
LOCATION:Hilton Phoenix Tapatio Cliffs Resort\, North 7th Street\, Phoenix\, AZ\, 85022\, United States
CATEGORIES:Hospice
ATTACH;FMTTYPE=image/jpeg:https://healthcareprovidersolutions.com/wp-content/uploads/Health-Group-Featured.jpg
GEO:33.5917503;-112.0632857
X-APPLE-STRUCTURED-LOCATION;VALUE=URI;X-ADDRESS=Hilton Phoenix Tapatio Cliffs Resort North 7th Street Phoenix AZ 85022 United States;X-APPLE-RADIUS=500;X-TITLE=North 7th Street:geo:-112.0632857,33.5917503
END:VEVENT
BEGIN:VEVENT
DTSTART;TZID=America/Chicago:20241003T140000
DTEND;TZID=America/Chicago:20241003T153000
DTSTAMP:20260424T014923
CREATED:20231214T211715Z
LAST-MODIFIED:20240919T174302Z
UID:10000630-1727964000-1727969400@healthcareprovidersolutions.com
SUMMARY:Hospice and Home Care Webinar Network - 2024 Hospice Billing Series
DESCRIPTION:
URL:https://healthcareprovidersolutions.com/event/hospice-and-home-care-webinar-network-2024-hospice-billing-series-part-3-face-to-face-hospice-cap-physician-billing-pepper/
LOCATION:Webinar
CATEGORIES:Hospice
ATTACH;FMTTYPE=image/png:https://healthcareprovidersolutions.com/wp-content/uploads/HHWN.png
END:VEVENT
BEGIN:VEVENT
DTSTART;TZID=America/Los_Angeles:20241007T100000
DTEND;TZID=America/Los_Angeles:20241007T113000
DTSTAMP:20260424T014923
CREATED:20240808T210720Z
LAST-MODIFIED:20240919T181631Z
UID:10000714-1728295200-1728300600@healthcareprovidersolutions.com
SUMMARY:CAHSAH Hospice Billing Series
DESCRIPTION:
URL:https://healthcareprovidersolutions.com/event/cahsah-hospice-billing-series-part-2-details-of-medicare-claims-processing/
LOCATION:Webinar
CATEGORIES:Hospice
ATTACH;FMTTYPE=image/png:https://healthcareprovidersolutions.com/wp-content/uploads/CAHSAH-2.png
END:VEVENT
BEGIN:VEVENT
DTSTART;TZID=America/Chicago:20241010T090000
DTEND;TZID=America/Chicago:20241010T163000
DTSTAMP:20260424T014923
CREATED:20241001T203023Z
LAST-MODIFIED:20241001T203023Z
UID:10000725-1728550800-1728577800@healthcareprovidersolutions.com
SUMMARY:TAHC&H Fall Conference: Emergency Preparedness Strategies for Home Health and Hospice
DESCRIPTION:
URL:https://healthcareprovidersolutions.com/event/tahch-fall-conference-emergency-preparedness-strategies-for-home-health-and-hospice/
LOCATION:Webinar
CATEGORIES:Home Care,Hospice
ATTACH;FMTTYPE=image/png:https://healthcareprovidersolutions.com/wp-content/uploads/TAHCH-Event-Thumbnail.png
END:VEVENT
BEGIN:VEVENT
DTSTART;TZID=America/Los_Angeles:20241010T100000
DTEND;TZID=America/Los_Angeles:20241010T113000
DTSTAMP:20260424T014923
CREATED:20240808T211142Z
LAST-MODIFIED:20240919T181945Z
UID:10000715-1728554400-1728559800@healthcareprovidersolutions.com
SUMMARY:CAHSAH Hospice Billing Series
DESCRIPTION:
URL:https://healthcareprovidersolutions.com/event/cahsah-hospice-billing-series-part-3-face-to-face-hospice-cap-physician-billing-medical-review/
LOCATION:Webinar
CATEGORIES:Hospice
ATTACH;FMTTYPE=image/png:https://healthcareprovidersolutions.com/wp-content/uploads/CAHSAH-2.png
END:VEVENT
END:VCALENDAR