BEGIN:VCALENDAR
VERSION:2.0
PRODID:-//Home Care &amp; Hospice Resource - Healthcare Provider Solutions - ECPv6.15.18//NONSGML v1.0//EN
CALSCALE:GREGORIAN
METHOD:PUBLISH
X-WR-CALNAME:Home Care &amp; Hospice Resource - Healthcare Provider Solutions
X-ORIGINAL-URL:https://healthcareprovidersolutions.com
X-WR-CALDESC:Events for Home Care &amp; Hospice Resource - Healthcare Provider Solutions
REFRESH-INTERVAL;VALUE=DURATION:PT1H
X-Robots-Tag:noindex
X-PUBLISHED-TTL:PT1H
BEGIN:VTIMEZONE
TZID:America/Indiana/Indianapolis
BEGIN:DAYLIGHT
TZOFFSETFROM:-0500
TZOFFSETTO:-0400
TZNAME:EDT
DTSTART:20220313T070000
END:DAYLIGHT
BEGIN:STANDARD
TZOFFSETFROM:-0400
TZOFFSETTO:-0500
TZNAME:EST
DTSTART:20221106T060000
END:STANDARD
BEGIN:DAYLIGHT
TZOFFSETFROM:-0500
TZOFFSETTO:-0400
TZNAME:EDT
DTSTART:20230312T070000
END:DAYLIGHT
BEGIN:STANDARD
TZOFFSETFROM:-0400
TZOFFSETTO:-0500
TZNAME:EST
DTSTART:20231105T060000
END:STANDARD
BEGIN:DAYLIGHT
TZOFFSETFROM:-0500
TZOFFSETTO:-0400
TZNAME:EDT
DTSTART:20240310T070000
END:DAYLIGHT
BEGIN:STANDARD
TZOFFSETFROM:-0400
TZOFFSETTO:-0500
TZNAME:EST
DTSTART:20241103T060000
END:STANDARD
END:VTIMEZONE
BEGIN:VTIMEZONE
TZID:America/Chicago
BEGIN:DAYLIGHT
TZOFFSETFROM:-0600
TZOFFSETTO:-0500
TZNAME:CDT
DTSTART:20220313T080000
END:DAYLIGHT
BEGIN:STANDARD
TZOFFSETFROM:-0500
TZOFFSETTO:-0600
TZNAME:CST
DTSTART:20221106T070000
END:STANDARD
BEGIN:DAYLIGHT
TZOFFSETFROM:-0600
TZOFFSETTO:-0500
TZNAME:CDT
DTSTART:20230312T080000
END:DAYLIGHT
BEGIN:STANDARD
TZOFFSETFROM:-0500
TZOFFSETTO:-0600
TZNAME:CST
DTSTART:20231105T070000
END:STANDARD
BEGIN:DAYLIGHT
TZOFFSETFROM:-0600
TZOFFSETTO:-0500
TZNAME:CDT
DTSTART:20240310T080000
END:DAYLIGHT
BEGIN:STANDARD
TZOFFSETFROM:-0500
TZOFFSETTO:-0600
TZNAME:CST
DTSTART:20241103T070000
END:STANDARD
END:VTIMEZONE
BEGIN:VEVENT
DTSTART;TZID=America/Indiana/Indianapolis:20230413T113000
DTEND;TZID=America/Indiana/Indianapolis:20230413T130000
DTSTAMP:20260425T083907
CREATED:20230208T141600Z
LAST-MODIFIED:20230208T141600Z
UID:10000540-1681385400-1681390800@healthcareprovidersolutions.com
SUMMARY:OCHCH Top 10 Hospice Deficiencies & 2023 Surveyor Guidance Updates
DESCRIPTION:
URL:https://healthcareprovidersolutions.com/event/ochch-top-10-hospice-deficiencies-2023-surveyor-guidance-updates/
LOCATION:Webinar
CATEGORIES:Hospice
ATTACH;FMTTYPE=image/png:https://healthcareprovidersolutions.com/wp-content/uploads/OCHCH-1.png
END:VEVENT
BEGIN:VEVENT
DTSTART;TZID=America/Chicago:20230420T120000
DTEND;TZID=America/Chicago:20230420T133000
DTSTAMP:20260425T083907
CREATED:20221117T205045Z
LAST-MODIFIED:20230321T191033Z
UID:10000520-1681992000-1681997400@healthcareprovidersolutions.com
SUMMARY:HPS Top 10 Hospice Deficiencies and 2023 Surveyor Guidance Updates
DESCRIPTION:
URL:https://healthcareprovidersolutions.com/event/hospice-top-survey-deficiencies/
LOCATION:Webinar
CATEGORIES:Hospice
ATTACH;FMTTYPE=image/png:https://healthcareprovidersolutions.com/wp-content/uploads/Home-Health.png
END:VEVENT
END:VCALENDAR