BEGIN:VCALENDAR
VERSION:2.0
PRODID:-//Home Care &amp; Hospice Resource - Healthcare Provider Solutions - ECPv6.15.18//NONSGML v1.0//EN
CALSCALE:GREGORIAN
METHOD:PUBLISH
X-WR-CALNAME:Home Care &amp; Hospice Resource - Healthcare Provider Solutions
X-ORIGINAL-URL:https://healthcareprovidersolutions.com
X-WR-CALDESC:Events for Home Care &amp; Hospice Resource - Healthcare Provider Solutions
REFRESH-INTERVAL;VALUE=DURATION:PT1H
X-Robots-Tag:noindex
X-PUBLISHED-TTL:PT1H
BEGIN:VTIMEZONE
TZID:America/Indiana/Indianapolis
BEGIN:DAYLIGHT
TZOFFSETFROM:-0500
TZOFFSETTO:-0400
TZNAME:EDT
DTSTART:20220313T070000
END:DAYLIGHT
BEGIN:STANDARD
TZOFFSETFROM:-0400
TZOFFSETTO:-0500
TZNAME:EST
DTSTART:20221106T060000
END:STANDARD
BEGIN:DAYLIGHT
TZOFFSETFROM:-0500
TZOFFSETTO:-0400
TZNAME:EDT
DTSTART:20230312T070000
END:DAYLIGHT
BEGIN:STANDARD
TZOFFSETFROM:-0400
TZOFFSETTO:-0500
TZNAME:EST
DTSTART:20231105T060000
END:STANDARD
BEGIN:DAYLIGHT
TZOFFSETFROM:-0500
TZOFFSETTO:-0400
TZNAME:EDT
DTSTART:20240310T070000
END:DAYLIGHT
BEGIN:STANDARD
TZOFFSETFROM:-0400
TZOFFSETTO:-0500
TZNAME:EST
DTSTART:20241103T060000
END:STANDARD
END:VTIMEZONE
BEGIN:VEVENT
DTSTART;TZID=America/Indiana/Indianapolis:20230112T090000
DTEND;TZID=America/Indiana/Indianapolis:20230112T160000
DTSTAMP:20260425T141338
CREATED:20230104T172540Z
LAST-MODIFIED:20230110T182135Z
UID:10000530-1673514000-1673539200@healthcareprovidersolutions.com
SUMMARY:AHHC of NC & SCHCHA 2023 Hospice Reimbursement Workshop
DESCRIPTION:
URL:https://healthcareprovidersolutions.com/event/ahhc-nc-schcha-2023-hospice-reimbursement-workshop/
LOCATION:3101 Industrial Drive\, 3101 Industrial Drive\, Raleigh\, SC\, 27609\, United States
CATEGORIES:Hospice
ATTACH;FMTTYPE=image/png:https://healthcareprovidersolutions.com/wp-content/uploads/SCHCHA-Conference-Event-Thumbnail.png
GEO:35.8232376;-78.6181894
X-APPLE-STRUCTURED-LOCATION;VALUE=URI;X-ADDRESS=3101 Industrial Drive 3101 Industrial Drive Raleigh SC 27609 United States;X-APPLE-RADIUS=500;X-TITLE=3101 Industrial Drive:geo:-78.6181894,35.8232376
END:VEVENT
END:VCALENDAR