BEGIN:VCALENDAR
VERSION:2.0
PRODID:-//Home Care &amp; Hospice Resource - Healthcare Provider Solutions - ECPv6.15.18//NONSGML v1.0//EN
CALSCALE:GREGORIAN
METHOD:PUBLISH
X-WR-CALNAME:Home Care &amp; Hospice Resource - Healthcare Provider Solutions
X-ORIGINAL-URL:https://healthcareprovidersolutions.com
X-WR-CALDESC:Events for Home Care &amp; Hospice Resource - Healthcare Provider Solutions
REFRESH-INTERVAL;VALUE=DURATION:PT1H
X-Robots-Tag:noindex
X-PUBLISHED-TTL:PT1H
BEGIN:VTIMEZONE
TZID:America/Chicago
BEGIN:DAYLIGHT
TZOFFSETFROM:-0600
TZOFFSETTO:-0500
TZNAME:CDT
DTSTART:20220313T080000
END:DAYLIGHT
BEGIN:STANDARD
TZOFFSETFROM:-0500
TZOFFSETTO:-0600
TZNAME:CST
DTSTART:20221106T070000
END:STANDARD
BEGIN:DAYLIGHT
TZOFFSETFROM:-0600
TZOFFSETTO:-0500
TZNAME:CDT
DTSTART:20230312T080000
END:DAYLIGHT
BEGIN:STANDARD
TZOFFSETFROM:-0500
TZOFFSETTO:-0600
TZNAME:CST
DTSTART:20231105T070000
END:STANDARD
BEGIN:DAYLIGHT
TZOFFSETFROM:-0600
TZOFFSETTO:-0500
TZNAME:CDT
DTSTART:20240310T080000
END:DAYLIGHT
BEGIN:STANDARD
TZOFFSETFROM:-0500
TZOFFSETTO:-0600
TZNAME:CST
DTSTART:20241103T070000
END:STANDARD
BEGIN:DAYLIGHT
TZOFFSETFROM:-0600
TZOFFSETTO:-0500
TZNAME:CDT
DTSTART:20250309T080000
END:DAYLIGHT
BEGIN:STANDARD
TZOFFSETFROM:-0500
TZOFFSETTO:-0600
TZNAME:CST
DTSTART:20251102T070000
END:STANDARD
BEGIN:DAYLIGHT
TZOFFSETFROM:-0600
TZOFFSETTO:-0500
TZNAME:CDT
DTSTART:20260308T080000
END:DAYLIGHT
BEGIN:STANDARD
TZOFFSETFROM:-0500
TZOFFSETTO:-0600
TZNAME:CST
DTSTART:20261101T070000
END:STANDARD
END:VTIMEZONE
BEGIN:VTIMEZONE
TZID:America/New_York
BEGIN:DAYLIGHT
TZOFFSETFROM:-0500
TZOFFSETTO:-0400
TZNAME:EDT
DTSTART:20230312T070000
END:DAYLIGHT
BEGIN:STANDARD
TZOFFSETFROM:-0400
TZOFFSETTO:-0500
TZNAME:EST
DTSTART:20231105T060000
END:STANDARD
BEGIN:DAYLIGHT
TZOFFSETFROM:-0500
TZOFFSETTO:-0400
TZNAME:EDT
DTSTART:20240310T070000
END:DAYLIGHT
BEGIN:STANDARD
TZOFFSETFROM:-0400
TZOFFSETTO:-0500
TZNAME:EST
DTSTART:20241103T060000
END:STANDARD
BEGIN:DAYLIGHT
TZOFFSETFROM:-0500
TZOFFSETTO:-0400
TZNAME:EDT
DTSTART:20250309T070000
END:DAYLIGHT
BEGIN:STANDARD
TZOFFSETFROM:-0400
TZOFFSETTO:-0500
TZNAME:EST
DTSTART:20251102T060000
END:STANDARD
END:VTIMEZONE
BEGIN:VTIMEZONE
TZID:America/Denver
BEGIN:DAYLIGHT
TZOFFSETFROM:-0700
TZOFFSETTO:-0600
TZNAME:MDT
DTSTART:20230312T090000
END:DAYLIGHT
BEGIN:STANDARD
TZOFFSETFROM:-0600
TZOFFSETTO:-0700
TZNAME:MST
DTSTART:20231105T080000
END:STANDARD
BEGIN:DAYLIGHT
TZOFFSETFROM:-0700
TZOFFSETTO:-0600
TZNAME:MDT
DTSTART:20240310T090000
END:DAYLIGHT
BEGIN:STANDARD
TZOFFSETFROM:-0600
TZOFFSETTO:-0700
TZNAME:MST
DTSTART:20241103T080000
END:STANDARD
BEGIN:DAYLIGHT
TZOFFSETFROM:-0700
TZOFFSETTO:-0600
TZNAME:MDT
DTSTART:20250309T090000
END:DAYLIGHT
BEGIN:STANDARD
TZOFFSETFROM:-0600
TZOFFSETTO:-0700
TZNAME:MST
DTSTART:20251102T080000
END:STANDARD
END:VTIMEZONE
BEGIN:VTIMEZONE
TZID:America/Indiana/Indianapolis
BEGIN:DAYLIGHT
TZOFFSETFROM:-0500
TZOFFSETTO:-0400
TZNAME:EDT
DTSTART:20220313T070000
END:DAYLIGHT
BEGIN:STANDARD
TZOFFSETFROM:-0400
TZOFFSETTO:-0500
TZNAME:EST
DTSTART:20221106T060000
END:STANDARD
BEGIN:DAYLIGHT
TZOFFSETFROM:-0500
TZOFFSETTO:-0400
TZNAME:EDT
DTSTART:20230312T070000
END:DAYLIGHT
BEGIN:STANDARD
TZOFFSETFROM:-0400
TZOFFSETTO:-0500
TZNAME:EST
DTSTART:20231105T060000
END:STANDARD
BEGIN:DAYLIGHT
TZOFFSETFROM:-0500
TZOFFSETTO:-0400
TZNAME:EDT
DTSTART:20240310T070000
END:DAYLIGHT
BEGIN:STANDARD
TZOFFSETFROM:-0400
TZOFFSETTO:-0500
TZNAME:EST
DTSTART:20241103T060000
END:STANDARD
END:VTIMEZONE
BEGIN:VEVENT
DTSTART;VALUE=DATE:20250519
DTEND;VALUE=DATE:20250523
DTSTAMP:20260425T171023
CREATED:20241031T202812Z
LAST-MODIFIED:20250127T145653Z
UID:10000743-1747612800-1747958399@healthcareprovidersolutions.com
SUMMARY:CAHSAH 2025 Annual Conference & Expo
DESCRIPTION:
URL:https://healthcareprovidersolutions.com/event/cahsah-2025-annual-conference-expo/
LOCATION:The Westin Rancho Mirage Golf Resort & Spa\, 71-333 Dinah Shore Drive\, Rancho Mirage\, CA\, 92270\, United States
CATEGORIES:Conference
ATTACH;FMTTYPE=image/png:https://healthcareprovidersolutions.com/wp-content/uploads/CAHSAH-2.png
GEO:33.8002416;-116.4186513
X-APPLE-STRUCTURED-LOCATION;VALUE=URI;X-ADDRESS=The Westin Rancho Mirage Golf Resort & Spa 71-333 Dinah Shore Drive Rancho Mirage CA 92270 United States;X-APPLE-RADIUS=500;X-TITLE=71-333 Dinah Shore Drive:geo:-116.4186513,33.8002416
END:VEVENT
BEGIN:VEVENT
DTSTART;VALUE=DATE:20241117
DTEND;VALUE=DATE:20241120
DTSTAMP:20260425T171023
CREATED:20240619T145139Z
LAST-MODIFIED:20240829T174437Z
UID:10000705-1731801600-1732060799@healthcareprovidersolutions.com
SUMMARY:2024 TAHC Fall Conference
DESCRIPTION:
URL:https://healthcareprovidersolutions.com/event/2024-tahc-fall-conference/
LOCATION:The Franklin Marriott Cool Springs Hotel\, 700 Cool Springs Blvd\, Franklin\, TN\, 37067\, United States
CATEGORIES:Conference
ATTACH;FMTTYPE=image/png:https://healthcareprovidersolutions.com/wp-content/uploads/TAHC-Event-Thumbnail-1.png
GEO:35.9472122;-86.8062988
X-APPLE-STRUCTURED-LOCATION;VALUE=URI;X-ADDRESS=The Franklin Marriott Cool Springs Hotel 700 Cool Springs Blvd Franklin TN 37067 United States;X-APPLE-RADIUS=500;X-TITLE=700 Cool Springs Blvd:geo:-86.8062988,35.9472122
END:VEVENT
BEGIN:VEVENT
DTSTART;VALUE=DATE:20241112
DTEND;VALUE=DATE:20241116
DTSTAMP:20260425T171023
CREATED:20240619T143917Z
LAST-MODIFIED:20241009T145357Z
UID:10000704-1731369600-1731715199@healthcareprovidersolutions.com
SUMMARY:2024 SCHCHA Annual Conference
DESCRIPTION:
URL:https://healthcareprovidersolutions.com/event/2024-schcha-annual-conference/
LOCATION:Embassy Suites – Myrtle Beach\, Queensway Boulevard\, Myrtle Beach\, SC\, 29572\, United States
CATEGORIES:Conference
ATTACH;FMTTYPE=image/png:https://healthcareprovidersolutions.com/wp-content/uploads/SCHCHA-Conference-Event-Thumbnail.png
GEO:33.7730147;-78.779475
X-APPLE-STRUCTURED-LOCATION;VALUE=URI;X-ADDRESS=Embassy Suites – Myrtle Beach Queensway Boulevard Myrtle Beach SC 29572 United States;X-APPLE-RADIUS=500;X-TITLE=Queensway Boulevard:geo:-78.779475,33.7730147
END:VEVENT
BEGIN:VEVENT
DTSTART;VALUE=DATE:20241020
DTEND;VALUE=DATE:20241023
DTSTAMP:20260425T171023
CREATED:20240826T141144Z
LAST-MODIFIED:20240826T141144Z
UID:10000720-1729382400-1729641599@healthcareprovidersolutions.com
SUMMARY:2024 NAHC Home Care and Hospice Conference and Expo
DESCRIPTION:
URL:https://healthcareprovidersolutions.com/event/2024-nahc-home-care-and-hospice-conference-and-expo/
LOCATION:Tampa Convention Center\, South Franklin Street\, Tampa\, FL\, 33602\, United States
CATEGORIES:Conference
ATTACH;FMTTYPE=image/png:https://healthcareprovidersolutions.com/wp-content/uploads/NAHC-1.png
GEO:27.9406434;-82.4550129
X-APPLE-STRUCTURED-LOCATION;VALUE=URI;X-ADDRESS=Tampa Convention Center South Franklin Street Tampa FL 33602 United States;X-APPLE-RADIUS=500;X-TITLE=South Franklin Street:geo:-82.4550129,27.9406434
END:VEVENT
BEGIN:VEVENT
DTSTART;VALUE=DATE:20241002
DTEND;VALUE=DATE:20241005
DTSTAMP:20260425T171023
CREATED:20240618T181146Z
LAST-MODIFIED:20240923T152948Z
UID:10000699-1727827200-1728086399@healthcareprovidersolutions.com
SUMMARY:2024 MHCA 54th Annual Meeting & Expo
DESCRIPTION:
URL:https://healthcareprovidersolutions.com/event/2024-mhca-54th-annual-meeting-expo/
LOCATION:Breezy Point Resort\, Breezy Point Drive\, Breezy Point\, MN\, 56472\, United States
CATEGORIES:Conference
ATTACH;FMTTYPE=image/png:https://healthcareprovidersolutions.com/wp-content/uploads/MHCA.png
GEO:46.5897531;-94.2087617
X-APPLE-STRUCTURED-LOCATION;VALUE=URI;X-ADDRESS=Breezy Point Resort Breezy Point Drive Breezy Point MN 56472 United States;X-APPLE-RADIUS=500;X-TITLE=Breezy Point Drive:geo:-94.2087617,46.5897531
END:VEVENT
BEGIN:VEVENT
DTSTART;VALUE=DATE:20240924
DTEND;VALUE=DATE:20240927
DTSTAMP:20260425T171023
CREATED:20240619T141104Z
LAST-MODIFIED:20240828T211425Z
UID:10000703-1727136000-1727395199@healthcareprovidersolutions.com
SUMMARY:2024 KHCHA Annual Conference
DESCRIPTION:
URL:https://healthcareprovidersolutions.com/event/2024-khcha-annual-conference/
LOCATION:Wichita Marriott Hotel\, East Corporate Hills Drive\, Wichita\, KS\, 67207\, United States
CATEGORIES:Conference
ATTACH;FMTTYPE=image/png:https://healthcareprovidersolutions.com/wp-content/uploads/KHCHA-Conference-Event-Thumbnail-copy.png
GEO:37.6817478;-97.2306116
X-APPLE-STRUCTURED-LOCATION;VALUE=URI;X-ADDRESS=Wichita Marriott Hotel East Corporate Hills Drive Wichita KS 67207 United States;X-APPLE-RADIUS=500;X-TITLE=East Corporate Hills Drive:geo:-97.2306116,37.6817478
END:VEVENT
BEGIN:VEVENT
DTSTART;VALUE=DATE:20240924
DTEND;VALUE=DATE:20240926
DTSTAMP:20260425T171023
CREATED:20240618T175531Z
LAST-MODIFIED:20240815T152104Z
UID:10000698-1727136000-1727308799@healthcareprovidersolutions.com
SUMMARY:2024 OCHCH Annual Conference & Trade Show
DESCRIPTION:
URL:https://healthcareprovidersolutions.com/event/2024-ochch-annual-conference-trade-show/
LOCATION:The Junto Hotel\, Belle Street\, Columbus\, Ohio\, 43215\, United States
CATEGORIES:Conference
ATTACH;FMTTYPE=image/png:https://healthcareprovidersolutions.com/wp-content/uploads/OCHCH-1.png
GEO:39.959475;-83.008988
X-APPLE-STRUCTURED-LOCATION;VALUE=URI;X-ADDRESS=The Junto Hotel Belle Street Columbus Ohio 43215 United States;X-APPLE-RADIUS=500;X-TITLE=Belle Street:geo:-83.008988,39.959475
END:VEVENT
BEGIN:VEVENT
DTSTART;VALUE=DATE:20240923
DTEND;VALUE=DATE:20240926
DTSTAMP:20260425T171023
CREATED:20240619T140120Z
LAST-MODIFIED:20240619T140300Z
UID:10000702-1727049600-1727308799@healthcareprovidersolutions.com
SUMMARY:2024 GAHHA Annual Conference
DESCRIPTION:
URL:https://healthcareprovidersolutions.com/event/2024-gahha-annual-conference/
LOCATION:Hyatt Regency Savannah\, 2 W Bay St\, Savannah\, GA\, 31401\, United States
CATEGORIES:Conference
ATTACH;FMTTYPE=image/png:https://healthcareprovidersolutions.com/wp-content/uploads/GAHHA-1.png
GEO:32.0816104;-81.0911812
X-APPLE-STRUCTURED-LOCATION;VALUE=URI;X-ADDRESS=Hyatt Regency Savannah 2 W Bay St Savannah GA 31401 United States;X-APPLE-RADIUS=500;X-TITLE=2 W Bay St:geo:-81.0911812,32.0816104
END:VEVENT
BEGIN:VEVENT
DTSTART;VALUE=DATE:20240909
DTEND;VALUE=DATE:20240912
DTSTAMP:20260425T171023
CREATED:20240618T205117Z
LAST-MODIFIED:20240905T173112Z
UID:10000700-1725840000-1726099199@healthcareprovidersolutions.com
SUMMARY:TAHC&H 55th Annual Meeting: Bring Care Home Conference
DESCRIPTION:
URL:https://healthcareprovidersolutions.com/event/tahch-55th-annual-meeting-bring-care-home-conference/
LOCATION:Kalahari Resort & Convention Center\, Kalahari Blvd\, Round Rock\, TX\, 78665\, United States
CATEGORIES:Conference
ATTACH;FMTTYPE=image/png:https://healthcareprovidersolutions.com/wp-content/uploads/TAHCH-Event-Thumbnail.png
GEO:30.5180083;-97.6343875
X-APPLE-STRUCTURED-LOCATION;VALUE=URI;X-ADDRESS=Kalahari Resort & Convention Center Kalahari Blvd Round Rock TX 78665 United States;X-APPLE-RADIUS=500;X-TITLE=Kalahari Blvd:geo:-97.6343875,30.5180083
END:VEVENT
BEGIN:VEVENT
DTSTART;VALUE=DATE:20240814
DTEND;VALUE=DATE:20240816
DTSTAMP:20260425T171023
CREATED:20240619T134457Z
LAST-MODIFIED:20240710T162835Z
UID:10000701-1723593600-1723766399@healthcareprovidersolutions.com
SUMMARY:KHCA 2024 Annual Conference
DESCRIPTION:
URL:https://healthcareprovidersolutions.com/event/khca-2024-annual-conference/
LOCATION:Embassy Suites by Hilton Lexington/UK Coldstream\, Newtown Pike\, Lexington\, KY\, 40511\, United States
CATEGORIES:Conference
ATTACH;FMTTYPE=image/png:https://healthcareprovidersolutions.com/wp-content/uploads/KHCA-Conference-Event-Thumbnail.png
GEO:38.0951593;-84.4889745
X-APPLE-STRUCTURED-LOCATION;VALUE=URI;X-ADDRESS=Embassy Suites by Hilton Lexington/UK Coldstream Newtown Pike Lexington KY 40511 United States;X-APPLE-RADIUS=500;X-TITLE=Newtown Pike:geo:-84.4889745,38.0951593
END:VEVENT
BEGIN:VEVENT
DTSTART;VALUE=DATE:20240721
DTEND;VALUE=DATE:20240724
DTSTAMP:20260425T171023
CREATED:20240513T143256Z
LAST-MODIFIED:20240612T173942Z
UID:10000680-1721520000-1721779199@healthcareprovidersolutions.com
SUMMARY:2024 NAHC Financial Management Conference
DESCRIPTION:
URL:https://healthcareprovidersolutions.com/event/2024-nahc-financial-management-conference/
LOCATION:Caesars Palace\, Las Vegas\, 3570 S Las Vegas Blvd\, Las Vegas\, NV\, 89109\, United States
CATEGORIES:Conference
ATTACH;FMTTYPE=image/png:https://healthcareprovidersolutions.com/wp-content/uploads/NAHC-1.png
GEO:36.1159646;-115.1769093
X-APPLE-STRUCTURED-LOCATION;VALUE=URI;X-ADDRESS=Caesars Palace Las Vegas 3570 S Las Vegas Blvd Las Vegas NV 89109 United States;X-APPLE-RADIUS=500;X-TITLE=3570 S Las Vegas Blvd:geo:-115.1769093,36.1159646
END:VEVENT
BEGIN:VEVENT
DTSTART;VALUE=DATE:20240619
DTEND;VALUE=DATE:20240621
DTSTAMP:20260425T171023
CREATED:20240513T141504Z
LAST-MODIFIED:20240529T180628Z
UID:10000679-1718755200-1718927999@healthcareprovidersolutions.com
SUMMARY:2024 AAHC & AHPCO Annual Conference
DESCRIPTION:
URL:https://healthcareprovidersolutions.com/event/2024-aahc-ahpco-annual-conference/
LOCATION:Scottsdale Hilton Resort\, 6333 N Scottsdale Rd\, Scottsdale\, AZ\, 85250\, United States
CATEGORIES:Conference
ATTACH;FMTTYPE=image/png:https://healthcareprovidersolutions.com/wp-content/uploads/AAHC.png
GEO:33.5305504;-111.924291
X-APPLE-STRUCTURED-LOCATION;VALUE=URI;X-ADDRESS=Scottsdale Hilton Resort 6333 N Scottsdale Rd Scottsdale AZ 85250 United States;X-APPLE-RADIUS=500;X-TITLE=6333 N Scottsdale Rd:geo:-111.924291,33.5305504
END:VEVENT
BEGIN:VEVENT
DTSTART;VALUE=DATE:20240221
DTEND;VALUE=DATE:20240223
DTSTAMP:20260425T171023
CREATED:20231229T195044Z
LAST-MODIFIED:20231229T195044Z
UID:10000650-1708473600-1708646399@healthcareprovidersolutions.com
SUMMARY:TAHC&H Winter Conference 2024
DESCRIPTION:
URL:https://healthcareprovidersolutions.com/event/tahch-winter-conference-2024/
LOCATION:Dallas/Fort Worth Marriott Hotel & Golf Club at Champions Circle\, 3300 Championship Parkway\, Fort Worth\, TX\, 76177\, United States
CATEGORIES:Conference
ATTACH;FMTTYPE=image/png:https://healthcareprovidersolutions.com/wp-content/uploads/TAHCH-Event-Thumbnail.png
GEO:26.1005134;-80.1069573
X-APPLE-STRUCTURED-LOCATION;VALUE=URI;X-ADDRESS=Dallas/Fort Worth Marriott Hotel & Golf Club at Champions Circle 3300 Championship Parkway Fort Worth TX 76177 United States;X-APPLE-RADIUS=500;X-TITLE=3300 Championship Parkway:geo:-80.1069573,26.1005134
END:VEVENT
BEGIN:VEVENT
DTSTART;VALUE=DATE:20240129
DTEND;VALUE=DATE:20240131
DTSTAMP:20260425T171023
CREATED:20231229T170610Z
LAST-MODIFIED:20240124T192811Z
UID:10000649-1706486400-1706659199@healthcareprovidersolutions.com
SUMMARY:HCAF Home Care Warm Up
DESCRIPTION:
URL:https://healthcareprovidersolutions.com/event/hcaf-home-care-warm-up/
LOCATION:Fort Lauderdale Marriott Coral Springs Hotel & Convention Center\, 11775 Heron Bay Boulevard\, Coral Springs\, FL\, 33076\, United States
CATEGORIES:Conference
ATTACH;FMTTYPE=image/png:https://healthcareprovidersolutions.com/wp-content/uploads/HCAF-2.png
GEO:26.1005134;-80.1069573
X-APPLE-STRUCTURED-LOCATION;VALUE=URI;X-ADDRESS=Fort Lauderdale Marriott Coral Springs Hotel & Convention Center 11775 Heron Bay Boulevard Coral Springs FL 33076 United States;X-APPLE-RADIUS=500;X-TITLE=11775 Heron Bay Boulevard:geo:-80.1069573,26.1005134
END:VEVENT
BEGIN:VEVENT
DTSTART;TZID=America/Denver:20240125T080000
DTEND;TZID=America/Denver:20240125T170000
DTSTAMP:20260425T171023
CREATED:20231229T164031Z
LAST-MODIFIED:20231229T164439Z
UID:10000648-1706169600-1706202000@healthcareprovidersolutions.com
SUMMARY:NMAHHC 2024 Winter Conference
DESCRIPTION:
URL:https://healthcareprovidersolutions.com/event/nmahhc-2024-winter-conference/
LOCATION:Hilton Santa Fe\, 100 Sandoval Street\, Santa Fe\, NM\, 87501\, United States
CATEGORIES:Conference
ATTACH;FMTTYPE=image/png:https://healthcareprovidersolutions.com/wp-content/uploads/NMAHHC-Event-Thumbnail.png
GEO:26.1005134;-80.1069573
X-APPLE-STRUCTURED-LOCATION;VALUE=URI;X-ADDRESS=Hilton Santa Fe 100 Sandoval Street Santa Fe NM 87501 United States;X-APPLE-RADIUS=500;X-TITLE=100 Sandoval Street:geo:-80.1069573,26.1005134
END:VEVENT
BEGIN:VEVENT
DTSTART;VALUE=DATE:20231109
DTEND;VALUE=DATE:20231111
DTSTAMP:20260425T171023
CREATED:20230927T143459Z
LAST-MODIFIED:20230927T143609Z
UID:10000602-1699488000-1699660799@healthcareprovidersolutions.com
SUMMARY:The Health Group 2023 Hospice Financial Administration & Management Conference
DESCRIPTION:
URL:https://healthcareprovidersolutions.com/event/the-health-group-2023-hospice-financial-administration-management-conference/
LOCATION:Lago Mar Beach Resort & Club\, 1700 S Ocean Ln\, Fort Lauderdale\, FL\, 33316\, United States
CATEGORIES:Conference
ATTACH;FMTTYPE=image/png:https://healthcareprovidersolutions.com/wp-content/uploads/THG-Thumbnail.png
GEO:26.1005134;-80.1069573
X-APPLE-STRUCTURED-LOCATION;VALUE=URI;X-ADDRESS=Lago Mar Beach Resort & Club 1700 S Ocean Ln Fort Lauderdale FL 33316 United States;X-APPLE-RADIUS=500;X-TITLE=1700 S Ocean Ln:geo:-80.1069573,26.1005134
END:VEVENT
BEGIN:VEVENT
DTSTART;VALUE=DATE:20231103
DTEND;VALUE=DATE:20231104
DTSTAMP:20260425T171023
CREATED:20230927T140812Z
LAST-MODIFIED:20230927T140842Z
UID:10000601-1698969600-1699055999@healthcareprovidersolutions.com
SUMMARY:WiAHC 2023 Fall Conference
DESCRIPTION:
URL:https://healthcareprovidersolutions.com/event/wiahc-2023-fall-conference/
LOCATION:Glacier Canyon Lodge at the Wilderness Resort\, 45 Hillman Road\, Baraboo\, WI\, 53913\, United States
CATEGORIES:Conference
ATTACH;FMTTYPE=image/png:https://healthcareprovidersolutions.com/wp-content/uploads/WiAHC.png
GEO:43.5883291;-89.7764865
X-APPLE-STRUCTURED-LOCATION;VALUE=URI;X-ADDRESS=Glacier Canyon Lodge at the Wilderness Resort 45 Hillman Road Baraboo WI 53913 United States;X-APPLE-RADIUS=500;X-TITLE=45 Hillman Road:geo:-89.7764865,43.5883291
END:VEVENT
BEGIN:VEVENT
DTSTART;TZID=America/Indiana/Indianapolis:20231030T154500
DTEND;TZID=America/Indiana/Indianapolis:20231030T170000
DTSTAMP:20260425T171023
CREATED:20230908T162237Z
LAST-MODIFIED:20230908T185223Z
UID:10000587-1698680700-1698685200@healthcareprovidersolutions.com
SUMMARY:AHHCNC 2023 Leadership Conference
DESCRIPTION:
URL:https://healthcareprovidersolutions.com/event/ahhcnc-2023-leadership-conference/
LOCATION:Renaissance Asheville Downtown Hotel\, 31 Woodfin St\, Asheville\, NC\, 28801\, United States
CATEGORIES:Conference
ATTACH;FMTTYPE=image/png:https://healthcareprovidersolutions.com/wp-content/uploads/AHHC-2.png
GEO:35.5975382;-82.5501172
X-APPLE-STRUCTURED-LOCATION;VALUE=URI;X-ADDRESS=Renaissance Asheville Downtown Hotel 31 Woodfin St Asheville NC 28801 United States;X-APPLE-RADIUS=500;X-TITLE=31 Woodfin St:geo:-82.5501172,35.5975382
END:VEVENT
BEGIN:VEVENT
DTSTART;VALUE=DATE:20231026
DTEND;VALUE=DATE:20231027
DTSTAMP:20260425T171023
CREATED:20230908T161706Z
LAST-MODIFIED:20230908T161706Z
UID:10000586-1698278400-1698364799@healthcareprovidersolutions.com
SUMMARY:HCLA Annual Home Care Conference 2023
DESCRIPTION:
URL:https://healthcareprovidersolutions.com/event/hcla-annual-home-care-conference-2023/
LOCATION:Golden Nugget Lake Charles Hotel & Casino\, 2550 Golden Nugget Blvd\, Lake Charles\, LA\, 70601\, United States
CATEGORIES:Conference
ATTACH;FMTTYPE=image/jpeg:https://healthcareprovidersolutions.com/wp-content/uploads/HCLA.jpg
GEO:30.2049513;-93.2652267
X-APPLE-STRUCTURED-LOCATION;VALUE=URI;X-ADDRESS=Golden Nugget Lake Charles Hotel & Casino 2550 Golden Nugget Blvd Lake Charles LA 70601 United States;X-APPLE-RADIUS=500;X-TITLE=2550 Golden Nugget Blvd:geo:-93.2652267,30.2049513
END:VEVENT
BEGIN:VEVENT
DTSTART;TZID=America/Chicago:20231016T163000
DTEND;TZID=America/Chicago:20231016T173000
DTSTAMP:20260425T171023
CREATED:20230906T151252Z
LAST-MODIFIED:20230918T131321Z
UID:10000583-1697473800-1697477400@healthcareprovidersolutions.com
SUMMARY:NAHC 2023 Home Care and Hospice Conference and Expo
DESCRIPTION:
URL:https://healthcareprovidersolutions.com/event/nahc-2023-home-care-and-hospice-conference-and-expo/
LOCATION:Gaylord National Resort & Convention Center\, 201 Waterfront Street\, National Harbor\, MD\, 20745\, United States
CATEGORIES:Conference
ATTACH;FMTTYPE=image/png:https://healthcareprovidersolutions.com/wp-content/uploads/NAHC-1.png
GEO:38.7820552;-77.0167545
X-APPLE-STRUCTURED-LOCATION;VALUE=URI;X-ADDRESS=Gaylord National Resort & Convention Center 201 Waterfront Street National Harbor MD 20745 United States;X-APPLE-RADIUS=500;X-TITLE=201 Waterfront Street:geo:-77.0167545,38.7820552
END:VEVENT
BEGIN:VEVENT
DTSTART;TZID=America/Chicago:20231011T124500
DTEND;TZID=America/Chicago:20231011T160000
DTSTAMP:20260425T171023
CREATED:20230920T145556Z
LAST-MODIFIED:20230920T145556Z
UID:10000594-1697028300-1697040000@healthcareprovidersolutions.com
SUMMARY:TAHCH 2023 Fall Conference
DESCRIPTION:
URL:https://healthcareprovidersolutions.com/event/tahch-2023-fall-conference/
LOCATION:Webinar
CATEGORIES:Speaking Engagement,Conference
ATTACH;FMTTYPE=image/png:https://healthcareprovidersolutions.com/wp-content/uploads/TAHCH-Event-Thumbnail.png
END:VEVENT
BEGIN:VEVENT
DTSTART;TZID=America/Chicago:20231003T110000
DTEND;TZID=America/Chicago:20231003T120000
DTSTAMP:20260425T171023
CREATED:20230906T145659Z
LAST-MODIFIED:20230906T145659Z
UID:10000581-1696330800-1696334400@healthcareprovidersolutions.com
SUMMARY:NAHHH 2023 Annual Conference
DESCRIPTION:
URL:https://healthcareprovidersolutions.com/event/nahhh-2023-annual-conference/
LOCATION:Younes Conference Center North\, 707 W. Talmadge Street\, Kearney\, NE\, 68845\, United States
CATEGORIES:Conference
ATTACH;FMTTYPE=image/jpeg:https://healthcareprovidersolutions.com/wp-content/uploads/NAHHH.jpg
GEO:40.6738206;-99.0921043
X-APPLE-STRUCTURED-LOCATION;VALUE=URI;X-ADDRESS=Younes Conference Center North 707 W. Talmadge Street Kearney NE 68845 United States;X-APPLE-RADIUS=500;X-TITLE=707 W. Talmadge Street:geo:-99.0921043,40.6738206
END:VEVENT
BEGIN:VEVENT
DTSTART;TZID=America/Chicago:20230928T131500
DTEND;TZID=America/Chicago:20230928T160000
DTSTAMP:20260425T171023
CREATED:20230911T215647Z
LAST-MODIFIED:20230911T215647Z
UID:10000591-1695906900-1695916800@healthcareprovidersolutions.com
SUMMARY:KHCHA 2023 Annual Conference
DESCRIPTION:
URL:https://healthcareprovidersolutions.com/event/khcha-2023-annual-conference/
LOCATION:DoubleTree by Hilton Hotel Lawrence\, 200 McDonald Drive\, Lawrence\, KS\, 66044\, United States
CATEGORIES:Conference
ATTACH;FMTTYPE=image/png:https://healthcareprovidersolutions.com/wp-content/uploads/KHCHA-Conference-Event-Thumbnail-copy.png
GEO:38.9797718;-95.2571807
X-APPLE-STRUCTURED-LOCATION;VALUE=URI;X-ADDRESS=DoubleTree by Hilton Hotel Lawrence 200 McDonald Drive Lawrence KS 66044 United States;X-APPLE-RADIUS=500;X-TITLE=200 McDonald Drive:geo:-95.2571807,38.9797718
END:VEVENT
BEGIN:VEVENT
DTSTART;VALUE=DATE:20230926
DTEND;VALUE=DATE:20230928
DTSTAMP:20260425T171023
CREATED:20230912T212401Z
LAST-MODIFIED:20230913T175044Z
UID:10000592-1695686400-1695859199@healthcareprovidersolutions.com
SUMMARY:OCHCH 2023 Annual Conference & Tradeshow
DESCRIPTION:
URL:https://healthcareprovidersolutions.com/event/ochch-2023-annual-conference-tradeshow/
LOCATION:Hyatt Regency Hotel\, 350 N. High St.\, Columbus\, OH\, 43215\, United States
CATEGORIES:Conference
ATTACH;FMTTYPE=image/png:https://healthcareprovidersolutions.com/wp-content/uploads/OCHCH-1.png
GEO:39.9696086;-83.0011397
X-APPLE-STRUCTURED-LOCATION;VALUE=URI;X-ADDRESS=Hyatt Regency Hotel 350 N. High St. Columbus OH 43215 United States;X-APPLE-RADIUS=500;X-TITLE=350 N. High St.:geo:-83.0011397,39.9696086
END:VEVENT
BEGIN:VEVENT
DTSTART;VALUE=DATE:20230919
DTEND;VALUE=DATE:20230920
DTSTAMP:20260425T171023
CREATED:20230906T144045Z
LAST-MODIFIED:20230906T144045Z
UID:10000580-1695081600-1695167999@healthcareprovidersolutions.com
SUMMARY:GAHHA 2023 Annual Meeting
DESCRIPTION:
URL:https://healthcareprovidersolutions.com/event/gahha-2023-annual-meeting/
LOCATION:Hyatt Regency Savannah\, 2 W Bay St\, Savannah\, GA\, 31401\, United States
CATEGORIES:Home Care,Conference
ATTACH;FMTTYPE=image/png:https://healthcareprovidersolutions.com/wp-content/uploads/GAHHA-1.png
GEO:32.0816104;-81.0911812
X-APPLE-STRUCTURED-LOCATION;VALUE=URI;X-ADDRESS=Hyatt Regency Savannah 2 W Bay St Savannah GA 31401 United States;X-APPLE-RADIUS=500;X-TITLE=2 W Bay St:geo:-81.0911812,32.0816104
END:VEVENT
BEGIN:VEVENT
DTSTART;TZID=America/Chicago:20230912T104500
DTEND;TZID=America/Chicago:20230912T114500
DTSTAMP:20260425T171023
CREATED:20230807T152824Z
LAST-MODIFIED:20230807T183444Z
UID:10000576-1694515500-1694519100@healthcareprovidersolutions.com
SUMMARY:2023 SCHCHA Conference
DESCRIPTION:
URL:https://healthcareprovidersolutions.com/event/2023-schcha-conference/
LOCATION:FRANCIS MARION HOTEL\, 387 King Street\, Charleston\, SC\, 29403\, United States
CATEGORIES:Conference
ATTACH;FMTTYPE=image/png:https://healthcareprovidersolutions.com/wp-content/uploads/SCHCHA-Conference-Event-Thumbnail.png
GEO:32.7858613;-79.9365168
X-APPLE-STRUCTURED-LOCATION;VALUE=URI;X-ADDRESS=FRANCIS MARION HOTEL 387 King Street Charleston SC 29403 United States;X-APPLE-RADIUS=500;X-TITLE=387 King Street:geo:-79.9365168,32.7858613
END:VEVENT
BEGIN:VEVENT
DTSTART;VALUE=DATE:20230912
DTEND;VALUE=DATE:20230913
DTSTAMP:20260425T171023
CREATED:20230807T165908Z
LAST-MODIFIED:20230908T171520Z
UID:10000577-1694476800-1694563199@healthcareprovidersolutions.com
SUMMARY:KanTime 2023 Annual User Conference
DESCRIPTION:
URL:https://healthcareprovidersolutions.com/event/kantime-2023-annual-user-conference/
LOCATION:Thompson Dallas Hyatt\, 205 North Akard Street\, Dallas\, TX\, 75201\, United States
CATEGORIES:Conference
ATTACH;FMTTYPE=image/png:https://healthcareprovidersolutions.com/wp-content/uploads/KanTime.png
GEO:32.7817067;-96.800055
X-APPLE-STRUCTURED-LOCATION;VALUE=URI;X-ADDRESS=Thompson Dallas Hyatt 205 North Akard Street Dallas TX 75201 United States;X-APPLE-RADIUS=500;X-TITLE=205 North Akard Street:geo:-96.800055,32.7817067
END:VEVENT
BEGIN:VEVENT
DTSTART;VALUE=DATE:20230830
DTEND;VALUE=DATE:20230901
DTSTAMP:20260425T171023
CREATED:20230531T133223Z
LAST-MODIFIED:20230531T133247Z
UID:10000563-1693353600-1693526399@healthcareprovidersolutions.com
SUMMARY:TAHCH Bring Care Home Conference
DESCRIPTION:
URL:https://healthcareprovidersolutions.com/event/tahch-bring-care-home-conference-2/
LOCATION:Grand Hyatt San Antonio River Walk\, 600 E. Market Street\, San Antonio\, TX\, 78205\, United States
CATEGORIES:Conference
ATTACH;FMTTYPE=image/png:https://healthcareprovidersolutions.com/wp-content/uploads/TAHCH-Event-Thumbnail.png
GEO:29.4215104;-98.4838178
X-APPLE-STRUCTURED-LOCATION;VALUE=URI;X-ADDRESS=Grand Hyatt San Antonio River Walk 600 E. Market Street San Antonio TX 78205 United States;X-APPLE-RADIUS=500;X-TITLE=600 E. Market Street:geo:-98.4838178,29.4215104
END:VEVENT
BEGIN:VEVENT
DTSTART;VALUE=DATE:20230816
DTEND;VALUE=DATE:20230818
DTSTAMP:20260425T171023
CREATED:20230705T150436Z
LAST-MODIFIED:20230705T150850Z
UID:10000568-1692144000-1692316799@healthcareprovidersolutions.com
SUMMARY:KHCA 2023 Annual Conference
DESCRIPTION:
URL:https://healthcareprovidersolutions.com/event/khca-2023-annual-conference/
LOCATION:Embassy Suites Lexington\, 1801 Newtown Pike\, Lexington\, KY\, 40511\, United States
CATEGORIES:Home Care,Conference
ATTACH;FMTTYPE=image/png:https://healthcareprovidersolutions.com/wp-content/uploads/KHCA-Conference-Event-Thumbnail.png
GEO:38.0951622;-84.4889497
X-APPLE-STRUCTURED-LOCATION;VALUE=URI;X-ADDRESS=Embassy Suites Lexington 1801 Newtown Pike Lexington KY 40511 United States;X-APPLE-RADIUS=500;X-TITLE=1801 Newtown Pike:geo:-84.4889497,38.0951622
END:VEVENT
BEGIN:VEVENT
DTSTART;VALUE=DATE:20230731
DTEND;VALUE=DATE:20230804
DTSTAMP:20260425T171023
CREATED:20230426T160934Z
LAST-MODIFIED:20230426T160934Z
UID:10000554-1690761600-1691107199@healthcareprovidersolutions.com
SUMMARY:HCAF HomeCareCon 2023
DESCRIPTION:
URL:https://healthcareprovidersolutions.com/event/hcaf-homecarecon-2023/
LOCATION:Omni Orlando Resort at ChampionsGate\, 1500 Masters Boulevard\, ChampionsGate\, FL\, 33896\, United States
CATEGORIES:Conference
ATTACH;FMTTYPE=image/png:https://healthcareprovidersolutions.com/wp-content/uploads/HCAF-2.png
GEO:28.2618595;-81.6268913
X-APPLE-STRUCTURED-LOCATION;VALUE=URI;X-ADDRESS=Omni Orlando Resort at ChampionsGate 1500 Masters Boulevard ChampionsGate FL 33896 United States;X-APPLE-RADIUS=500;X-TITLE=1500 Masters Boulevard:geo:-81.6268913,28.2618595
END:VEVENT
END:VCALENDAR